{"text_format":"1","workbook":"xlsx","n_sheets":23,"sheets":["Afsnit 20 gr. 1 (2)","Afsnit 20 gr. 1","Afsnit 20 gr. 2","beregning gr. 1","Beregning gr. 2","Ark3","Afsnit 20 gr. 3","Hvidbog","Ark2","Beregn_trappe","Skurbog","Montør 1","Gl. forenklet vådrum","NY vådrum","beregn_vådrum","Ark1","Montør 2","ROB","Montør 3","Montør 4","Lærling 1","Lærling 2","lønsatser"],"not_rendered":{"charts":0,"images":2,"macros":1,"external_links":1,"defined_names":13,"comments":7,"pivot_tables":0},"unopened":[],"bounds":{"document_bytes":16777216,"sheet_cells":100000,"rows_first":2000,"rows_last":500,"rows_between":2000,"halvings":0,"cell_chars":16384,"cell_head_chars":4096},"cells_cut":0,"cells_raw":0,"read":"whole","date_system":"1900"}

{"sheet":"Afsnit 20 gr. 1 (2)","index":0,"n_rows":49,"n_cols":29,"rows_kept":49,"cut":false,"hidden":true,"merged":[[40,8,40,20],[33,10,33,23],[34,10,34,23],[35,9,35,23],[37,8,37,20],[38,8,38,20],[39,8,39,20],[32,10,32,23],[0,24,0,25],[1,24,1,25],[4,8,4,23],[25,3,25,4],[25,8,25,23],[26,8,26,23],[27,8,27,11],[28,10,28,23],[29,10,29,23],[30,10,30,23],[31,10,31,23]]}
[null,null,null,null,null,null,null,null,null,null,null,null,null,null,null,null,null,null,null,null,null,null,null,null,"Byggesag",null,null,1,"Støvsugning"]
[null,"Afsnit 20 gr. 1",null,null,null,null,null,null,null,null,null,null,null,null,null,null,null,null,null,null,null,null,null,null,{"$f":"Skurbog!C1","v":0},null,null,2,"Svabning, inkl. støvsugning"]
[null,null,null,null,null,null,null,null,null,null,null,null,null,null,null,null,null,null,null,null,null,null,null,null,null,null,null,3,"Maskinslibning, beton, asfalt og træ"]
[null,"Forenklet prisliste",null,null,null,null,null,null,"Tast valgfrie satser fra pkt. 1-42 i overenskomsten i hvert sit felt herunder",null,null,null,null,null,null,null,null,null,null,null,null,null,null,null,null,null,null,4,"Maskinslibning, Anhydrit"]
[null,"Rum nr","Antal"," L (m)","B (m)",null,"M²",null,"(NB! Kun én linie pr. rum)",null,null,null,null,null,null,null,null,null,null,null,null,null,null,null,"Pr. M²","Total",null,5,"Primning"]
[null,null,1,1,23.99,null,{"$f":"D6*E6","v":23.99},null,3,2,24,22,27,32,34,25,null,null,null,null,null,null,null,null,{"$f":"'beregning gr. 1'!C24","v":0},{"$f":"G6*Y6*C6","v":0},null,6,"Primn..+spartl..+slibn..+støvsug..."]
[null,null,1,1,28.14,null,28.14,null,3,2,24,22,27,32,34,25,null,null,null,null,null,null,null,null,{"$f":"'beregning gr. 1'!C44","v":0},0,null,7,"Primn..+spartl.. m/rive+slibn..+støvsug…"]
[null,null,1,1,32.83,null,32.83,null,3,2,24,22,27,32,34,25,null,null,null,null,null,null,null,null,{"$f":"'beregning gr. 1'!C67","v":0},0,null,8,"Aftagning og afrensning af belægning"]
[null,null,1,1,237.74,null,237.74,null,3,2,24,22,27,32,34,25,null,null,null,null,null,null,null,null,{"$f":"'beregning gr. 1'!C87","v":0},0,null,9,"Aftagning af ekstra lag belægning"]
[null,null,1,1,7.45,null,7.45,null,3,2,24,22,27,32,34,25,null,null,null,null,null,null,null,null,{"$f":"'beregning gr. 1'!C107","v":0},0,null,10,"Aftagning af masonit, afrensning af søm"]
[null,null,2,1,5.34,null,{"$f":"D11*E11*C11","v":10.68},null,3,2,24,22,27,32,34,25,null,null,null,null,null,null,null,null,{"$f":"'beregning gr. 1'!C127","v":0},0,null,11,"Korkment, lægni..+klæbn..+ inkl. div. Udskær.."]
[null,null,1,1,11.46,null,11.46,null,3,2,24,22,27,32,34,25,null,null,null,null,null,null,null,null,{"$f":"'beregning gr. 1'!C147","v":0},0,null,12,"Opskæring af Korkment"]
[null,null,1,1,2.17,null,2.17,null,3,2,24,22,27,32,34,25,null,null,null,null,null,null,null,null,{"$f":"'beregning gr. 1'!C167","v":0},0,null,13,"Træfiberplader, inkl. maskinsømni.., inkl. div udskær.."]
[null,null,3,1,1.88,null,{"$f":"D14*E14*C14","v":5.64},null,3,2,24,22,27,32,34,25,null,null,null,null,null,null,null,null,{"$f":"'beregning gr. 1'!C187","v":0},0,null,14,"Svømmende fiberplader - under 12mm"]
[null,null,1,1,30.29,null,30.29,null,3,2,24,22,27,32,34,25,null,null,null,null,null,null,null,null,{"$f":"'beregning gr. 1'!C207","v":0},0,null,15,"Svømmende fiberplader - 12-25mm"]
[null,null,1,1,9.89,null,9.89,null,3,2,24,22,27,32,34,25,null,null,null,null,null,null,null,null,{"$f":"'beregning gr. 1'!C227","v":0},0,null,16,"Plastfolie udlagt"]
[null,null,1,1,7.13,null,7.13,null,3,2,24,22,27,32,34,25,null,null,null,null,null,null,null,null,{"$f":"'beregning gr. 1'!C247","v":0},0,null,17,"Korkparkolag, alm. tilskær.. er indeholdt"]
[null,null,1,1,19.829999999999998,null,19.829999999999998,null,3,2,24,22,27,32,34,25,null,null,null,null,null,null,null,null,{"$f":"'beregning gr. 1'!C267","v":0},0,null,18,"Dampspærre udlagt, bredde t.o.m. 100 cm"]
[null,null,1,1,31.57,null,31.57,null,3,2,24,22,27,32,34,25,null,null,null,null,null,null,null,null,{"$f":"'beregning gr. 1'!C287","v":0},0,null,19,"Polystyrolplader t.om. 100 mm udlagt"]
[null,null,1,1,27.57,null,27.57,null,3,2,24,22,27,32,34,25,null,null,null,null,null,null,null,null,{"$f":"'beregning gr. 1'!C307","v":0},0,null,20,"Lægning af luvtæpper og nålefilt"]
[null,null,1,1,13.73,null,13.73,null,3,2,24,22,27,32,34,25,null,null,null,null,null,null,null,null,{"$f":"'beregning gr. 1'!C327","v":0},0,null,21,"Opskæring af nålefilt og Luvtæpper (20%) pr kvm"]
[null,null,1,1,16.62,null,16.62,null,3,2,24,22,27,32,34,25,null,null,null,null,null,null,null,null,{"$f":"'beregning gr. 1'!C347","v":0},0,null,22,"Lægning af linoleum/vinyl"]
[null,null,1,1,39.729999999999997,null,39.729999999999997,null,3,2,24,22,27,32,34,25,null,null,null,null,null,null,null,null,{"$f":"'beregning gr. 1'!C367","v":0},0,null,23,"Linoleum som Sandwichbelægning"]
[null,null,1,1,12.32,null,12.32,null,3,2,24,22,27,32,34,25,null,null,null,null,null,null,null,null,{"$f":"'beregning gr. 1'!C387","v":0},0,null,24,"Opskæring af Linolium/vinyl"]
[null,null,1,1,7.51,null,7.51,null,3,2,24,22,27,32,34,25,null,null,null,null,null,null,null,null,{"$f":"'beregning gr. 1'!C407","v":0},0,null,25,"Tæt tilskæring"]
[null,null,null,"Total",null,null,{"$f":"SUM(G6:G25)","v":576.29},null,null,null,null,null,null,null,null,null,null,null,null,null,null,null,null,null,null,null,null,26,"Trådsvejsning/trådfugning, 200 cm"]
[null,null,null,null,null,null,null,null,"Tillægspriser som meter priser pkt. 43-49",null,null,null,null,null,null,null,null,null,null,null,null,null,null,null,null,null,null,27,"Trådsvejsning/trådfugning, 180 cm"]
[null,null,null,null,null,null,"Antal",null,null,null,null,null,null,null,null,null,null,null,null,null,null,null,null,null,null,null,null,28,"Trådsvejsning/trådfugning, 150 cm"]
[null,null,null,null,null,null,46,null,"m",43,"Gulvskinne fastgjort med forboring, plugs, skrue m.m",null,null,null,null,null,null,null,null,null,null,null,null,null,{"$f":"'beregning gr. 1'!M49","v":60.327587753567308},{"$f":"G29*Y29","v":2775.0690366640961},null,29,"Trådsvejsning/trådfugning, 125 cm"]
[null,null,null,null,null,null,null,null,"m",44,"Gulvskinne fastgjort i underlag af træ m.m",null,null,null,null,null,null,null,null,null,null,null,null,null,{"$f":"'beregning gr. 1'!M50","v":40.238932383125068},{"$f":"G30*Y30","v":0},null,30,"Fliser udlagt (vinyl, linolium, kork, gummi)"]
[null,null,null,null,null,null,null,null,"m",45,"Gulvskinne monteret med dobbeltklæbende tape m.m",null,null,null,null,null,null,null,null,null,null,null,null,null,{"$f":"'beregning gr. 1'!M51","v":36.196552652140376},{"$f":"G31*Y31","v":0},null,31,"Tæppefliser m/filt-, pvc-, tjæreholdig-, Bitumenbagside"]
[null,null,null,null,null,null,null,null,"m",46,"I rum over 150 m2 betales pkt. 36. Plastfodlister, type 1, inkl. tillæg pr. m. / pr. samling / pr. gering ......................................... kr.",null,null,null,null,null,null,null,null,null,null,null,null,null,{"$f":"'beregning gr. 1'!M52","v":0.1},{"$f":"G32*Y32","v":0},null,32,"Afdækning af gulv, minimums bredde 90 cm"]
[null,null,null,null,null,null,null,null,"m",47,"I rum over 150 m2 betales pkt. 37. Lister/panellister af hårdt træ, fyr og plast/skum, inkl. tillæg pr. m. / pr. samling / pr. gering ..... kr.",null,null,null,null,null,null,null,null,null,null,null,null,null,{"$f":"'beregning gr. 1'!M53","v":5.64},0,null,33,"Aftagning af gulvafdækning"]
[null,null,null,null,null,null,null,null,"m",48,"For ”strips”, der leveres tilskårne, pr. meter .............................. kr.",null,null,null,null,null,null,null,null,null,null,null,null,null,{"$f":"'beregning gr. 1'!M54","v":3.73},0,null,34,"Afdækning med masonit"]
[null,null,null,null,null,null,null,5,"m²",49,"Diagonalt samt sildebensmønster tillægges grund-priserne 10 %, tillægget betales til arbejde udført efter 20-01-30",null,null,null,null,null,null,null,null,null,null,null,null,null,{"$f":"IF('Afsnit 20 gr. 1 (2)'!I35=\"\",\"\",HLOOKUP('Afsnit 20 gr. 1 (2)'!$G$35,'beregning gr. 1'!E1:N55,'Afsnit 20 gr. 1 (2)'!I6+32))*0.1","v":{"$error":"#N/A"}},{"$f":"IFERROR(E26*Z26,\"\")","v":0},null,35,"Aftagning af masonitafdækning"]
[null,null,null,null,null,null,null,null,null,null,null,null,null,null,null,null,null,null,null,null,null,null,null,null,{"$f":"'beregning gr. 1'!M56","v":0},null,null,36,"Plastfodlister opsat (Type 1)"]
[null,null,null,null,null,null,null,null,null,null,null,null,null,null,null,null,null,null,null,null,null,null,null,null,null,null,null,37,"Lister opsat"]
[null,null,null,null,null,null,null,null,"Akkord beregning",null,null,null,null,null,null,null,null,null,null,null,null,null,null,null,null,{"$f":"SUM(Z6:Z36)","v":2775.0690366640961},null,38,"Tillæg for bort, tæt tildannet i samlinger"]
[null,null,null,null,null,null,null,null,"Overenskomst tillæg gældende fra 1. marts 2022",null,null,null,null,null,null,null,null,null,null,null,null,null,null,null,2.1000000000000001E-2,{"$f":"Z38*Y39","v":58.276449769946019},null,39,"Tillæg for bort, svejst i samlinger"]
[null,null,null,null,null,null,null,null,null,null,null,null,null,null,null,null,null,null,null,null,null,null,null,null,null,null,null,40,"Tillæg for friser, tæt tildannet i samlinger"]
[null,null,null,null,null,null,null,null,"Total Beregning",null,null,null,null,null,null,null,null,null,null,null,null,null,null,null,null,{"$f":"SUM(Z38*Y39+Z38)","v":2833.345486434042},null,41,"Tillæg for friser, svejst i samlinger"]
[null,null,null,null,null,null,null,null,null,null,null,null,null,null,null,null,null,null,null,null,null,"Akkordering 15%",null,null,null,{"$f":"Z41*0.15","v":425.00182296510627},null,42,"Tillæg for skridsikker vinyl"]
[null,null,null,null,null,null,null,null,null,null,null,null,null,null,null,null,null,null,null,null,null,null,null,null,null,null,null,43,"Gulvskinne m/forboring, plugs, skrue, klæbning"]
[null,null,null,null,null,null,null,null,null,null,null,null,null,null,null,null,null,null,null,null,null,null,null,null,"Sum akk",{"$f":"SUM(Z41:Z42)","v":3258.3473093991483},null,44,"Gulvskinne i underlag af træ, inkl. klæbning"]
[null,null,null,null,null,null,null,null,null,null,null,null,null,null,null,null,null,null,null,null,null,null,null,null,"SH",{"$f":"Z44*0.129","v":420.32680291249017},null,45,"Gulvskinne med dobbeltklæbende tape"]
[null,null,null,null,null,null,null,null,null,null,null,null,null,null,null,null,null,null,null,null,null,null,null,null,"Feriepenge",{"$f":"Z44*0.125","v":407.29341367489354},null,46,"Plastfodlister i pkt. 36 i rum over 150 kvm"]
[null,null,null,null,null,null,null,null,null,null,null,null,null,null,null,null,null,null,null,null,null,null,null,null,null,{"$f":"SUM(Z44:Z46)","v":4085.9675259865321},null,47,"Lister i pkt. 37 i rum over 150 kvm"]
[null,null,null,null,null,null,null,null,null,null,null,null,null,null,null,null,null,null,null,null,null,null,null,null,"Pension",{"$f":"Z47*0.0815","v":333.00635336790236},null,48,"\"Strips\" Leveret tilskåret"]
[null,null,null,null,null,null,null,null,null,null,null,null,null,null,null,null,null,null,null,null,null,null,null,null,"Sum",{"$f":"SUM(Z47:Z48)","v":4418.9738793544348},null,49,"Diagonalt samt sildebensmøster"]

{"sheet":"Afsnit 20 gr. 1","index":1,"n_rows":52,"n_cols":29,"rows_kept":52,"cut":false,"hidden":false,"merged":[[25,3,25,4],[4,8,4,23],[25,8,25,23],[1,24,1,25],[0,24,0,25],[31,10,31,23],[32,10,32,23],[33,10,33,23],[34,10,34,23],[26,8,26,23],[27,8,27,11],[28,10,28,23],[29,10,29,23],[30,10,30,23],[40,8,40,20],[39,8,39,20],[37,8,37,20],[38,8,38,20],[35,9,35,23]]}
[null,null,null,null,null,null,null,null,null,null,null,null,null,null,null,null,null,null,null,null,null,null,null,null,"Byggesag",null,null,1,"Støvsugning"]
[null,"Afsnit 20 gr. 1",null,null,null,null,null,null,null,null,null,null,null,null,null,null,null,null,null,null,null,null,null,null,{"$f":"Skurbog!C1","v":0},null,null,2,"Svabning, inkl. støvsugning"]
[null,null,null,null,null,null,null,null,null,null,null,null,null,null,null,null,null,null,null,null,null,null,null,null,null,null,null,3,"Maskinslibning, beton, asfalt og træ"]
[null,"Forenklet prisliste",null,null,null,null,null,null,"Tast valgfrie satser fra pkt. 1-45 i overenskomsten i hvert sit felt herunder",null,null,null,null,null,null,null,null,null,null,null,null,null,null,null,null,null,null,4,"Maskinslibning, Anhydrit"]
[null,"Rum nr","Antal"," L (m)","B (m)",null,"M²",null,"(NB! Kun én linie pr. rum)",null,null,null,null,null,null,null,null,null,null,null,null,null,null,null,"Pr. M²","Total",null,5,"Primning"]
[null,null,null,null,null,null,{"$f":"D6*E6","v":0},null,null,null,null,null,null,null,null,null,null,null,null,null,null,null,null,null,{"$f":"'beregning gr. 1'!C24","v":0},{"$f":"G6*Y6*C6","v":0},null,6,"Primn..+spartl..+slibn..+støvsug..."]
[null,null,null,null,null,null,{"$f":"D7*E7","v":0},null,null,null,null,null,null,null,null,null,null,null,null,null,null,null,null,null,{"$f":"'beregning gr. 1'!C44","v":0},{"$f":"G7*Y7*C7","v":0},null,7,"Primn..+spartl.. m/rive+slibn..+støvsug…"]
[null,null,null,null,null,null,0,null,null,null,null,null,null,null,null,null,null,null,null,null,null,null,null,null,{"$f":"'beregning gr. 1'!C67","v":0},0,null,8,"Aftagning og afrensning af belægning"]
[null,null,null,null,null,null,0,null,null,null,null,null,null,null,null,null,null,null,null,null,null,null,null,null,{"$f":"'beregning gr. 1'!C87","v":0},0,null,9,"Aftagning af ekstra lag belægning"]
[null,null,null,null,null,null,0,null,null,null,null,null,null,null,null,null,null,null,null,null,null,null,null,null,{"$f":"'beregning gr. 1'!C107","v":0},0,null,10,"Aftagning af masonit, afrensning af søm"]
[null,null,null,null,null,null,{"$f":"D11*E11*C11","v":0},null,null,null,null,null,null,null,null,null,null,null,null,null,null,null,null,null,{"$f":"'beregning gr. 1'!C127","v":0},0,null,11,"Korkment, lægni..+klæbn..+ inkl. div. Udskær.."]
[null,null,null,null,null,null,0,null,null,null,null,null,null,null,null,null,null,null,null,null,null,null,null,null,{"$f":"'beregning gr. 1'!C147","v":0},0,null,12,"Opskæring af Korkment"]
[null,null,null,null,null,null,0,null,null,null,null,null,null,null,null,null,null,null,null,null,null,null,null,null,{"$f":"'beregning gr. 1'!C167","v":0},0,null,13,"Træfiberplader, inkl. maskinsømni.., inkl. div udskær.."]
[null,null,null,null,null,null,{"$f":"D14*E14*C14","v":0},null,null,null,null,null,null,null,null,null,null,null,null,null,null,null,null,null,{"$f":"'beregning gr. 1'!C187","v":0},0,null,14,"Svømmende fiberplader - under 12mm"]
[null,null,null,null,null,null,0,null,null,null,null,null,null,null,null,null,null,null,null,null,null,null,null,null,{"$f":"'beregning gr. 1'!C207","v":0},0,null,15,"Svømmende fiberplader - 12-25mm"]
[null,null,null,null,null,null,0,null,null,null,null,null,null,null,null,null,null,null,null,null,null,null,null,null,{"$f":"'beregning gr. 1'!C227","v":0},0,null,16,"Plastfolie udlagt"]
[null,null,null,null,null,null,0,null,null,null,null,null,null,null,null,null,null,null,null,null,null,null,null,null,{"$f":"'beregning gr. 1'!C247","v":0},0,null,17,"Korkparkolag, alm. tilskær.. er indeholdt"]
[null,null,null,null,null,null,0,null,null,null,null,null,null,null,null,null,null,null,null,null,null,null,null,null,{"$f":"'beregning gr. 1'!C267","v":0},0,null,18,"Dampspærre udlagt, bredde t.o.m. 100 cm"]
[null,null,null,null,null,null,0,null,null,null,null,null,null,null,null,null,null,null,null,null,null,null,null,null,{"$f":"'beregning gr. 1'!C287","v":0},0,null,19,"Polystyrolplader t.om. 100 mm udlagt"]
[null,null,null,null,null,null,0,null,null,null,null,null,null,null,null,null,null,null,null,null,null,null,null,null,{"$f":"'beregning gr. 1'!C307","v":0},0,null,20,"Lægning af luvtæpper og nålefilt"]
[null,null,null,null,null,null,0,null,null,null,null,null,null,null,null,null,null,null,null,null,null,null,null,null,{"$f":"'beregning gr. 1'!C327","v":0},0,null,21,"Opskæring af nålefilt og Luvtæpper (20%) pr kvm"]
[null,null,null,null,null,null,0,null,null,null,null,null,null,null,null,null,null,null,null,null,null,null,null,null,{"$f":"'beregning gr. 1'!C347","v":0},0,null,22,"Lægning af linoleum/vinyl"]
[null,null,null,null,null,null,0,null,null,null,null,null,null,null,null,null,null,null,null,null,null,null,null,null,{"$f":"'beregning gr. 1'!C367","v":0},0,null,23,"Linoleum som Sandwichbelægning"]
[null,null,null,null,null,null,0,null,null,null,null,null,null,null,null,null,null,null,null,null,null,null,null,null,{"$f":"'beregning gr. 1'!C387","v":0},0,null,24,"Opskæring af Linolium/vinyl"]
[null,null,null,null,null,null,0,null,null,null,null,null,null,null,null,null,null,null,null,null,null,null,null,null,{"$f":"'beregning gr. 1'!C407","v":0},0,null,25,"Tæt tilskæring"]
[null,null,null,"Total",null,null,{"$f":"SUM(G6:G25)","v":0},null,null,null,null,null,null,null,null,null,null,null,null,null,null,null,null,null,null,null,null,26,"Trådsvejsning/trådfugning, 200 cm"]
[null,null,null,null,null,null,null,null,"Tillægspriser som meter priser pkt. 46-52",null,null,null,null,null,null,null,null,null,null,null,null,null,null,null,null,null,null,27,"Trådsvejsning/trådfugning, 180 cm"]
[null,null,null,null,null,null,"Antal",null,null,null,null,null,null,null,null,null,null,null,null,null,null,null,null,null,null,null,null,28,"Trådsvejsning/trådfugning, 150 cm"]
[null,null,null,null,null,null,null,null,"m",46,"Gulvskinne fastgjort med forboring, plugs, skrue m.m",null,null,null,null,null,null,null,null,null,null,null,null,null,{"$f":"'beregning gr. 1'!M49","v":60.327587753567308},{"$f":"G29*Y29","v":0},null,29,"Trådsvejsning/trådfugning, 125 cm"]
[null,null,null,null,null,null,null,null,"m",47,"Gulvskinne fastgjort i underlag af træ m.m",null,null,null,null,null,null,null,null,null,null,null,null,null,{"$f":"'beregning gr. 1'!M50","v":40.238932383125068},{"$f":"G30*Y30","v":0},null,30,"Fliser udlagt (vinyl, linolium, kork, gummi)"]
[null,null,null,null,null,null,null,null,"m",48,"Gulvskinne monteret med dobbeltklæbende tape m.m",null,null,null,null,null,null,null,null,null,null,null,null,null,{"$f":"'beregning gr. 1'!M51","v":36.196552652140376},{"$f":"G31*Y31","v":0},null,31,"Tæppefliser m/filt-, pvc-, tjæreholdig-, Bitumenbagside"]
[null,null,null,null,null,null,null,null,"m",49,"I rum over 150 m2 betales pkt. 36. Plastfodlister, type 1, inkl. tillæg pr. m. / pr. samling / pr. gering ......................................... kr.",null,null,null,null,null,null,null,null,null,null,null,null,null,{"$f":"'beregning gr. 1'!M52","v":0.1},{"$f":"G32*Y32","v":0},null,32,"Afdækning af gulv, minimums bredde 90 cm"]
[null,null,null,null,null,null,null,null,"m",50,"I rum over 150 m2 betales pkt. 37. Lister/panellister af hårdt træ, fyr og plast/skum, inkl. tillæg pr. m. / pr. samling / pr. gering ..... kr.",null,null,null,null,null,null,null,null,null,null,null,null,null,{"$f":"'beregning gr. 1'!M53","v":5.64},0,null,33,"Aftagning af gulvafdækning"]
[null,null,null,null,null,null,null,null,"m",51,"For ”strips”, der leveres tilskårne, pr. meter .............................. kr.",null,null,null,null,null,null,null,null,null,null,null,null,null,{"$f":"'beregning gr. 1'!M54","v":3.73},0,null,34,"Afdækning med masonit"]
[null,null,null,null,null,null,null,5,"m²",52,"Diagonalt samt sildebensmønster tillægges grund-priserne 10 %, tillægget betales til arbejde udført efter 20-01-30",null,null,null,null,null,null,null,null,null,null,null,null,null,{"$f":"IF('Afsnit 20 gr. 1'!I35=\"\",\"\",HLOOKUP('Afsnit 20 gr. 1'!$G$35,'beregning gr. 1'!E1:N55,'Afsnit 20 gr. 1'!I6+33))","v":{"$error":"#N/A"}},{"$f":"IFERROR(G35*Y35,\"\")","v":""},null,35,"Aftagning af masonitafdækning"]
[null,null,null,null,null,null,null,null,null,null,null,null,null,null,null,null,null,null,null,null,null,null,null,null,{"$f":"'beregning gr. 1'!M56","v":0},null,null,36,"Plastfodlister opsat (Type 1)"]
[null,null,null,null,null,null,null,null,null,null,null,null,null,null,null,null,null,null,null,null,null,null,null,null,null,null,null,37,"Lister opsat"]
[null,null,null,null,null,null,null,null,"Akkord beregning",null,null,null,null,null,null,null,null,null,null,null,null,null,null,null,null,{"$f":"SUM(Z6:Z36)","v":0},null,38,"Tillæg for bort, tæt tildannet i samlinger"]
[null,null,null,null,null,null,null,null,"Overenskomst tillæg gældende fra 1.marts 2025",null,null,null,null,null,null,null,null,null,null,null,null,null,null,null,0,{"$f":"Z38*Y39","v":0},null,39,"Tillæg for bort, svejst i samlinger"]
[null,null,null,null,null,null,null,null,null,null,null,null,null,null,null,null,null,null,null,null,null,null,null,null,null,null,null,40,"Tillæg for friser, tæt tildannet i samlinger"]
[null,null,null,null,null,null,null,null,"Total Beregning",null,null,null,null,null,null,null,null,null,null,null,null,null,null,null,null,{"$f":"SUM(Z38*Y39+Z38)","v":0},null,41,"Tillæg for friser, svejst i samlinger"]
[null,null,null,null,null,null,null,null,null,null,null,null,null,null,null,null,null,null,null,null,null,null,null,null,null,null,null,42,"Tillæg for skridsikker vinyl"]
[null,null,null,null,null,null,null,null,null,null,null,null,null,null,null,null,null,null,null,null,null,null,null,null,null,null,null,43,"Færdigtildannet Linoleumsbånd som fodpanel, t.o.m 10 cm høje, opsat med tape, inklusiv indvendige og udvendige hjørner eksklusiv, tilskæring mod gulv."]
[null,null,null,null,null,null,null,null,null,null,null,null,null,null,null,null,null,null,null,null,null,null,null,null,null,null,null,44,"\"Boltaprofil\" lignende skinne monteret i top af linoleumsbånd på væg, med påmonteret tape eller monteret med montagelim."]
[null,null,null,null,null,null,null,null,null,null,null,null,null,null,null,null,null,null,null,null,null,null,null,null,null,null,null,45,"Fugning med 1 komponent fugemasse t.o.m. 5 mm mellem bånd og gulv, eller i top af linoleumsbånd, udført som glittet skrå fuge."]
[null,null,null,null,null,null,null,null,null,null,null,null,null,null,null,null,null,null,null,null,null,null,null,null,null,null,null,46,"Gulvskinne m/forboring, plugs, skrue, klæbning"]
[null,null,null,null,null,null,null,null,null,null,null,null,null,null,null,null,null,null,null,null,null,null,null,null,null,null,null,47,"Gulvskinne i underlag af træ, inkl. klæbning"]
[null,null,null,null,null,null,null,null,null,null,null,null,null,null,null,null,null,null,null,null,null,null,null,null,null,null,null,48,"Gulvskinne med dobbeltklæbende tape"]
[null,null,null,null,null,null,null,null,null,null,null,null,null,null,null,null,null,null,null,null,null,null,null,null,null,null,null,49,"Plastfodlister i pkt. 36 i rum over 150 kvm"]
[null,null,null,null,null,null,null,null,null,null,null,null,null,null,null,null,null,null,null,null,null,null,null,null,null,null,null,50,"Lister i pkt. 37 i rum over 150 kvm"]
[null,null,null,null,null,null,null,null,null,null,null,null,null,null,null,null,null,null,null,null,null,null,null,null,null,null,null,51,"\"Strips\" Leveret tilskåret"]
[null,null,null,null,null,null,null,null,null,null,null,null,null,null,null,null,null,null,null,null,null,null,null,null,null,null,null,52,"Diagonalt samt sildebensmøster"]

{"sheet":"Afsnit 20 gr. 2","index":2,"n_rows":84,"n_cols":32,"rows_kept":84,"cut":false,"hidden":false,"merged":[[82,10,82,22],[13,6,13,25],[14,6,14,25],[15,6,15,25],[51,6,51,25],[52,6,52,25],[16,6,16,25],[17,6,17,25],[18,6,18,25],[20,6,20,25],[21,6,21,25],[19,6,19,25],[49,6,49,25],[63,5,63,25],[64,6,64,25],[65,6,65,25],[0,26,0,27],[1,2,1,10],[1,13,1,16],[1,18,1,21],[12,5,12,25],[10,4,10,5],[10,10,10,25],[3,2,3,4],[11,2,11,4],[11,5,11,25],[3,5,3,25],[4,6,4,7],[5,15,5,16],[5,19,5,20],[4,19,4,20],[4,15,4,16],[10,6,10,7],[10,8,10,9],[7,2,7,4],[7,15,7,20],[83,10,83,22],[81,10,81,22],[80,6,80,25],[22,6,22,25],[23,6,23,25],[24,6,24,25],[25,6,25,25],[58,6,58,25],[59,6,59,25],[61,6,61,25],[60,5,60,25],[62,6,62,25],[34,6,34,25],[71,6,71,25],[72,6,72,25],[78,6,78,25],[79,6,79,25],[73,6,73,25],[74,6,74,25],[75,6,75,25],[76,6,76,25],[77,5,77,25],[66,6,66,25],[67,6,67,25],[68,6,68,25],[69,6,69,25],[70,6,70,25],[57,6,57,25],[27,6,27,25],[28,6,28,25],[31,6,31,25],[32,6,32,25],[33,6,33,25],[29,6,29,25],[30,6,30,25],[54,6,54,25],[41,6,41,25],[42,6,42,25],[43,6,43,25],[53,6,53,25],[5,26,5,27],[35,6,35,25],[26,6,26,25],[56,6,56,25],[44,6,44,25],[45,6,45,25],[36,6,36,25],[37,6,37,25],[38,6,38,25],[39,6,39,25],[40,6,40,25],[55,6,55,25],[46,6,46,25],[47,6,47,25],[48,6,48,25],[50,6,50,25]]}
[]
[]
[]
[null,null,"Vådrum",null,null,"M² priser. Indsæt gældende Pkt. i hvert sit felt herunder"]
[null,null,"M²",null,"Antal",null,null,null,null,null,null,null,null,null,null,"M²",null,null,null,"Antal"]
[null,null,1,null,1,null,null,null,null,null,null,null,null,null,null,1,null,null,null,1,null,null,null,null,null,null,"Afsnit 20 gr. 2"]
[]
[null,null,"Gulv",null,null,null,null,null,null,null,null,null,null,null,null,"Væg",null,null,null,null,null,null,null,null,null,null,null,null,null,null,null,1]
[]
[]
[]
[null,null,"Tillæg",null,null,"Gulv vinyl Tillægspriser som meter eller stk."]
[null,null,null,"Pkt.","Antal",null,null,null,null,null,null,null,null,null,null,null,null,null,null,null,null,null,null,null,null,null,"Pr. m², m/stk.","Total"]
[null,null,null,1,null,{"$f":"IFERROR(VLOOKUP(D14,'Beregning gr. 2'!F1:P52,11,FALSE),\"\")","v":"m²"},{"$f":"IFERROR(VLOOKUP(D14,'Beregning gr. 2'!F1:P52,10,FALSE),\"\")","v":"Støvsugning"},{"$f":"IFERROR(VLOOKUP(F14,[1]Ark1!#REF!,12,FALSE),\"\")","v":""},{"$f":"IFERROR(VLOOKUP(G14,[1]Ark1!#REF!,12,FALSE),\"\")","v":""},{"$f":"IFERROR(VLOOKUP(H14,[1]Ark1!#REF!,12,FALSE),\"\")","v":""},{"$f":"IFERROR(VLOOKUP(I14,[1]Ark1!#REF!,12,FALSE),\"\")","v":""},{"$f":"IFERROR(VLOOKUP(J14,[1]Ark1!#REF!,12,FALSE),\"\")","v":""},{"$f":"IFERROR(VLOOKUP(K14,[1]Ark1!#REF!,12,FALSE),\"\")","v":""},{"$f":"IFERROR(VLOOKUP(L14,[1]Ark1!#REF!,12,FALSE),\"\")","v":""},{"$f":"IFERROR(VLOOKUP(M14,[1]Ark1!#REF!,12,FALSE),\"\")","v":""},{"$f":"IFERROR(VLOOKUP(N14,[1]Ark1!#REF!,12,FALSE),\"\")","v":""},{"$f":"IFERROR(VLOOKUP(O14,[1]Ark1!#REF!,12,FALSE),\"\")","v":""},{"$f":"IFERROR(VLOOKUP(P14,[1]Ark1!#REF!,12,FALSE),\"\")","v":""},{"$f":"IFERROR(VLOOKUP(Q14,[1]Ark1!#REF!,12,FALSE),\"\")","v":""},{"$f":"IFERROR(VLOOKUP(R14,[1]Ark1!#REF!,12,FALSE),\"\")","v":""},{"$f":"IFERROR(VLOOKUP(S14,[1]Ark1!#REF!,12,FALSE),\"\")","v":""},{"$f":"IFERROR(VLOOKUP(T14,[1]Ark1!#REF!,12,FALSE),\"\")","v":""},{"$f":"IFERROR(VLOOKUP(U14,[1]Ark1!#REF!,12,FALSE),\"\")","v":""},{"$f":"IFERROR(VLOOKUP(V14,[1]Ark1!#REF!,12,FALSE),\"\")","v":""},{"$f":"IFERROR(VLOOKUP(W14,[1]Ark1!#REF!,12,FALSE),\"\")","v":""},{"$f":"IFERROR(VLOOKUP(X14,[1]Ark1!#REF!,12,FALSE),\"\")","v":""},{"$f":"IF(D14=\"\",\"\",HLOOKUP($C$6,'Beregning gr. 2'!F1:P52,D14+3))","v":3.4138389801303655},{"$f":"IFERROR(AD14*C6*E14,\"\")*E6","v":0},null,{"$f":"ROUND(AA14,2)","v":3.41}]
[null,null,null,2,null,{"$f":"IFERROR(VLOOKUP(D15,'Beregning gr. 2'!F1:P52,11,FALSE),\"\")","v":"m²"},{"$f":"IFERROR(VLOOKUP(D15,'Beregning gr. 2'!F1:P52,10,FALSE),\"\")","v":"Svabning, inkl. støvsugning"},{"$f":"IFERROR(VLOOKUP(F15,[1]Ark1!#REF!,12,FALSE),\"\")","v":""},{"$f":"IFERROR(VLOOKUP(G15,[1]Ark1!#REF!,12,FALSE),\"\")","v":""},{"$f":"IFERROR(VLOOKUP(H15,[1]Ark1!#REF!,12,FALSE),\"\")","v":""},{"$f":"IFERROR(VLOOKUP(I15,[1]Ark1!#REF!,12,FALSE),\"\")","v":""},{"$f":"IFERROR(VLOOKUP(J15,[1]Ark1!#REF!,12,FALSE),\"\")","v":""},{"$f":"IFERROR(VLOOKUP(K15,[1]Ark1!#REF!,12,FALSE),\"\")","v":""},{"$f":"IFERROR(VLOOKUP(L15,[1]Ark1!#REF!,12,FALSE),\"\")","v":""},{"$f":"IFERROR(VLOOKUP(M15,[1]Ark1!#REF!,12,FALSE),\"\")","v":""},{"$f":"IFERROR(VLOOKUP(N15,[1]Ark1!#REF!,12,FALSE),\"\")","v":""},{"$f":"IFERROR(VLOOKUP(O15,[1]Ark1!#REF!,12,FALSE),\"\")","v":""},{"$f":"IFERROR(VLOOKUP(P15,[1]Ark1!#REF!,12,FALSE),\"\")","v":""},{"$f":"IFERROR(VLOOKUP(Q15,[1]Ark1!#REF!,12,FALSE),\"\")","v":""},{"$f":"IFERROR(VLOOKUP(R15,[1]Ark1!#REF!,12,FALSE),\"\")","v":""},{"$f":"IFERROR(VLOOKUP(S15,[1]Ark1!#REF!,12,FALSE),\"\")","v":""},{"$f":"IFERROR(VLOOKUP(T15,[1]Ark1!#REF!,12,FALSE),\"\")","v":""},{"$f":"IFERROR(VLOOKUP(U15,[1]Ark1!#REF!,12,FALSE),\"\")","v":""},{"$f":"IFERROR(VLOOKUP(V15,[1]Ark1!#REF!,12,FALSE),\"\")","v":""},{"$f":"IFERROR(VLOOKUP(W15,[1]Ark1!#REF!,12,FALSE),\"\")","v":""},{"$f":"IFERROR(VLOOKUP(X15,[1]Ark1!#REF!,12,FALSE),\"\")","v":""},{"$f":"IF(D15=\"\",\"\",HLOOKUP($C$6,'Beregning gr. 2'!F1:P52,D15+3))","v":8.7379488697199594},{"$f":"IFERROR(AD15*C6*E15,\"\")*E6","v":0},null,8.74]
[null,null,null,3,null,{"$f":"IFERROR(VLOOKUP(D16,'Beregning gr. 2'!F1:P52,11,FALSE),\"\")","v":"m²"},{"$f":"IFERROR(VLOOKUP(D16,'Beregning gr. 2'!F1:P52,10,FALSE),\"\")","v":"Maskinslibning, beton, asfalt og træ"},{"$f":"IFERROR(VLOOKUP(F16,[1]Ark1!#REF!,12,FALSE),\"\")","v":""},{"$f":"IFERROR(VLOOKUP(G16,[1]Ark1!#REF!,12,FALSE),\"\")","v":""},{"$f":"IFERROR(VLOOKUP(H16,[1]Ark1!#REF!,12,FALSE),\"\")","v":""},{"$f":"IFERROR(VLOOKUP(I16,[1]Ark1!#REF!,12,FALSE),\"\")","v":""},{"$f":"IFERROR(VLOOKUP(J16,[1]Ark1!#REF!,12,FALSE),\"\")","v":""},{"$f":"IFERROR(VLOOKUP(K16,[1]Ark1!#REF!,12,FALSE),\"\")","v":""},{"$f":"IFERROR(VLOOKUP(L16,[1]Ark1!#REF!,12,FALSE),\"\")","v":""},{"$f":"IFERROR(VLOOKUP(M16,[1]Ark1!#REF!,12,FALSE),\"\")","v":""},{"$f":"IFERROR(VLOOKUP(N16,[1]Ark1!#REF!,12,FALSE),\"\")","v":""},{"$f":"IFERROR(VLOOKUP(O16,[1]Ark1!#REF!,12,FALSE),\"\")","v":""},{"$f":"IFERROR(VLOOKUP(P16,[1]Ark1!#REF!,12,FALSE),\"\")","v":""},{"$f":"IFERROR(VLOOKUP(Q16,[1]Ark1!#REF!,12,FALSE),\"\")","v":""},{"$f":"IFERROR(VLOOKUP(R16,[1]Ark1!#REF!,12,FALSE),\"\")","v":""},{"$f":"IFERROR(VLOOKUP(S16,[1]Ark1!#REF!,12,FALSE),\"\")","v":""},{"$f":"IFERROR(VLOOKUP(T16,[1]Ark1!#REF!,12,FALSE),\"\")","v":""},{"$f":"IFERROR(VLOOKUP(U16,[1]Ark1!#REF!,12,FALSE),\"\")","v":""},{"$f":"IFERROR(VLOOKUP(V16,[1]Ark1!#REF!,12,FALSE),\"\")","v":""},{"$f":"IFERROR(VLOOKUP(W16,[1]Ark1!#REF!,12,FALSE),\"\")","v":""},{"$f":"IFERROR(VLOOKUP(X16,[1]Ark1!#REF!,12,FALSE),\"\")","v":""},{"$f":"IF(D16=\"\",\"\",HLOOKUP($C$6,'Beregning gr. 2'!F1:P52,D16+3))","v":4.547677197357781},{"$f":"IFERROR(AD16*C6*E16,\"\")*E6","v":0},null,4.55]
[null,null,null,4,null,{"$f":"IFERROR(VLOOKUP(D17,'Beregning gr. 2'!F1:P52,11,FALSE),\"\")","v":"m²"},{"$f":"IFERROR(VLOOKUP(D17,'Beregning gr. 2'!F1:P52,10,FALSE),\"\")","v":"Maskinslibning, Anhydrit"},{"$f":"IFERROR(VLOOKUP(F17,[1]Ark1!#REF!,12,FALSE),\"\")","v":""},{"$f":"IFERROR(VLOOKUP(G17,[1]Ark1!#REF!,12,FALSE),\"\")","v":""},{"$f":"IFERROR(VLOOKUP(H17,[1]Ark1!#REF!,12,FALSE),\"\")","v":""},{"$f":"IFERROR(VLOOKUP(I17,[1]Ark1!#REF!,12,FALSE),\"\")","v":""},{"$f":"IFERROR(VLOOKUP(J17,[1]Ark1!#REF!,12,FALSE),\"\")","v":""},{"$f":"IFERROR(VLOOKUP(K17,[1]Ark1!#REF!,12,FALSE),\"\")","v":""},{"$f":"IFERROR(VLOOKUP(L17,[1]Ark1!#REF!,12,FALSE),\"\")","v":""},{"$f":"IFERROR(VLOOKUP(M17,[1]Ark1!#REF!,12,FALSE),\"\")","v":""},{"$f":"IFERROR(VLOOKUP(N17,[1]Ark1!#REF!,12,FALSE),\"\")","v":""},{"$f":"IFERROR(VLOOKUP(O17,[1]Ark1!#REF!,12,FALSE),\"\")","v":""},{"$f":"IFERROR(VLOOKUP(P17,[1]Ark1!#REF!,12,FALSE),\"\")","v":""},{"$f":"IFERROR(VLOOKUP(Q17,[1]Ark1!#REF!,12,FALSE),\"\")","v":""},{"$f":"IFERROR(VLOOKUP(R17,[1]Ark1!#REF!,12,FALSE),\"\")","v":""},{"$f":"IFERROR(VLOOKUP(S17,[1]Ark1!#REF!,12,FALSE),\"\")","v":""},{"$f":"IFERROR(VLOOKUP(T17,[1]Ark1!#REF!,12,FALSE),\"\")","v":""},{"$f":"IFERROR(VLOOKUP(U17,[1]Ark1!#REF!,12,FALSE),\"\")","v":""},{"$f":"IFERROR(VLOOKUP(V17,[1]Ark1!#REF!,12,FALSE),\"\")","v":""},{"$f":"IFERROR(VLOOKUP(W17,[1]Ark1!#REF!,12,FALSE),\"\")","v":""},{"$f":"IFERROR(VLOOKUP(X17,[1]Ark1!#REF!,12,FALSE),\"\")","v":""},{"$f":"IF(D17=\"\",\"\",HLOOKUP($C$6,'Beregning gr. 2'!F1:P52,D17+3))","v":8.0231378197287668},{"$f":"IFERROR(AD17*C6*E17,\"\")*E6","v":0},null,8.02]
[null,null,null,5,null,{"$f":"IFERROR(VLOOKUP(D18,'Beregning gr. 2'!F1:P52,11,FALSE),\"\")","v":"m²"},{"$f":"IFERROR(VLOOKUP(D18,'Beregning gr. 2'!F1:P52,10,FALSE),\"\")","v":"Primning"},{"$f":"IFERROR(VLOOKUP(F18,[1]Ark1!#REF!,12,FALSE),\"\")","v":""},{"$f":"IFERROR(VLOOKUP(G18,[1]Ark1!#REF!,12,FALSE),\"\")","v":""},{"$f":"IFERROR(VLOOKUP(H18,[1]Ark1!#REF!,12,FALSE),\"\")","v":""},{"$f":"IFERROR(VLOOKUP(I18,[1]Ark1!#REF!,12,FALSE),\"\")","v":""},{"$f":"IFERROR(VLOOKUP(J18,[1]Ark1!#REF!,12,FALSE),\"\")","v":""},{"$f":"IFERROR(VLOOKUP(K18,[1]Ark1!#REF!,12,FALSE),\"\")","v":""},{"$f":"IFERROR(VLOOKUP(L18,[1]Ark1!#REF!,12,FALSE),\"\")","v":""},{"$f":"IFERROR(VLOOKUP(M18,[1]Ark1!#REF!,12,FALSE),\"\")","v":""},{"$f":"IFERROR(VLOOKUP(N18,[1]Ark1!#REF!,12,FALSE),\"\")","v":""},{"$f":"IFERROR(VLOOKUP(O18,[1]Ark1!#REF!,12,FALSE),\"\")","v":""},{"$f":"IFERROR(VLOOKUP(P18,[1]Ark1!#REF!,12,FALSE),\"\")","v":""},{"$f":"IFERROR(VLOOKUP(Q18,[1]Ark1!#REF!,12,FALSE),\"\")","v":""},{"$f":"IFERROR(VLOOKUP(R18,[1]Ark1!#REF!,12,FALSE),\"\")","v":""},{"$f":"IFERROR(VLOOKUP(S18,[1]Ark1!#REF!,12,FALSE),\"\")","v":""},{"$f":"IFERROR(VLOOKUP(T18,[1]Ark1!#REF!,12,FALSE),\"\")","v":""},{"$f":"IFERROR(VLOOKUP(U18,[1]Ark1!#REF!,12,FALSE),\"\")","v":""},{"$f":"IFERROR(VLOOKUP(V18,[1]Ark1!#REF!,12,FALSE),\"\")","v":""},{"$f":"IFERROR(VLOOKUP(W18,[1]Ark1!#REF!,12,FALSE),\"\")","v":""},{"$f":"IFERROR(VLOOKUP(X18,[1]Ark1!#REF!,12,FALSE),\"\")","v":""},{"$f":"IF(D18=\"\",\"\",HLOOKUP($C$6,'Beregning gr. 2'!F1:P52,D18+3))","v":2.9085415137572785},{"$f":"IFERROR(AD18*C6*E18,\"\")*E6","v":0},null,2.91]
[null,null,null,6,null,{"$f":"IFERROR(VLOOKUP(D19,'Beregning gr. 2'!F1:P52,11,FALSE),\"\")","v":"m²"},{"$f":"IFERROR(VLOOKUP(D19,'Beregning gr. 2'!F1:P52,10,FALSE),\"\")","v":"Primn..+spartl..+slibn..+støvsug..."},{"$f":"IFERROR(VLOOKUP(F19,[1]Ark1!#REF!,12,FALSE),\"\")","v":""},{"$f":"IFERROR(VLOOKUP(G19,[1]Ark1!#REF!,12,FALSE),\"\")","v":""},{"$f":"IFERROR(VLOOKUP(H19,[1]Ark1!#REF!,12,FALSE),\"\")","v":""},{"$f":"IFERROR(VLOOKUP(I19,[1]Ark1!#REF!,12,FALSE),\"\")","v":""},{"$f":"IFERROR(VLOOKUP(J19,[1]Ark1!#REF!,12,FALSE),\"\")","v":""},{"$f":"IFERROR(VLOOKUP(K19,[1]Ark1!#REF!,12,FALSE),\"\")","v":""},{"$f":"IFERROR(VLOOKUP(L19,[1]Ark1!#REF!,12,FALSE),\"\")","v":""},{"$f":"IFERROR(VLOOKUP(M19,[1]Ark1!#REF!,12,FALSE),\"\")","v":""},{"$f":"IFERROR(VLOOKUP(N19,[1]Ark1!#REF!,12,FALSE),\"\")","v":""},{"$f":"IFERROR(VLOOKUP(O19,[1]Ark1!#REF!,12,FALSE),\"\")","v":""},{"$f":"IFERROR(VLOOKUP(P19,[1]Ark1!#REF!,12,FALSE),\"\")","v":""},{"$f":"IFERROR(VLOOKUP(Q19,[1]Ark1!#REF!,12,FALSE),\"\")","v":""},{"$f":"IFERROR(VLOOKUP(R19,[1]Ark1!#REF!,12,FALSE),\"\")","v":""},{"$f":"IFERROR(VLOOKUP(S19,[1]Ark1!#REF!,12,FALSE),\"\")","v":""},{"$f":"IFERROR(VLOOKUP(T19,[1]Ark1!#REF!,12,FALSE),\"\")","v":""},{"$f":"IFERROR(VLOOKUP(U19,[1]Ark1!#REF!,12,FALSE),\"\")","v":""},{"$f":"IFERROR(VLOOKUP(V19,[1]Ark1!#REF!,12,FALSE),\"\")","v":""},{"$f":"IFERROR(VLOOKUP(W19,[1]Ark1!#REF!,12,FALSE),\"\")","v":""},{"$f":"IFERROR(VLOOKUP(X19,[1]Ark1!#REF!,12,FALSE),\"\")","v":""},{"$f":"IF(D19=\"\",\"\",HLOOKUP($C$6,'Beregning gr. 2'!F1:P52,D19+3))","v":22.750710315237018},{"$f":"IFERROR(AD19*C6*E19,\"\")*E6","v":0},null,22.75]
[null,null,null,7,null,{"$f":"IFERROR(VLOOKUP(D20,'Beregning gr. 2'!F1:P52,11,FALSE),\"\")","v":"m²"},{"$f":"IFERROR(VLOOKUP(D20,'Beregning gr. 2'!F1:P52,10,FALSE),\"\")","v":"Primn..+spartl.. m/rive+slibn..+støvsug…"},{"$f":"IFERROR(VLOOKUP(F20,[1]Ark1!#REF!,12,FALSE),\"\")","v":""},{"$f":"IFERROR(VLOOKUP(G20,[1]Ark1!#REF!,12,FALSE),\"\")","v":""},{"$f":"IFERROR(VLOOKUP(H20,[1]Ark1!#REF!,12,FALSE),\"\")","v":""},{"$f":"IFERROR(VLOOKUP(I20,[1]Ark1!#REF!,12,FALSE),\"\")","v":""},{"$f":"IFERROR(VLOOKUP(J20,[1]Ark1!#REF!,12,FALSE),\"\")","v":""},{"$f":"IFERROR(VLOOKUP(K20,[1]Ark1!#REF!,12,FALSE),\"\")","v":""},{"$f":"IFERROR(VLOOKUP(L20,[1]Ark1!#REF!,12,FALSE),\"\")","v":""},{"$f":"IFERROR(VLOOKUP(M20,[1]Ark1!#REF!,12,FALSE),\"\")","v":""},{"$f":"IFERROR(VLOOKUP(N20,[1]Ark1!#REF!,12,FALSE),\"\")","v":""},{"$f":"IFERROR(VLOOKUP(O20,[1]Ark1!#REF!,12,FALSE),\"\")","v":""},{"$f":"IFERROR(VLOOKUP(P20,[1]Ark1!#REF!,12,FALSE),\"\")","v":""},{"$f":"IFERROR(VLOOKUP(Q20,[1]Ark1!#REF!,12,FALSE),\"\")","v":""},{"$f":"IFERROR(VLOOKUP(R20,[1]Ark1!#REF!,12,FALSE),\"\")","v":""},{"$f":"IFERROR(VLOOKUP(S20,[1]Ark1!#REF!,12,FALSE),\"\")","v":""},{"$f":"IFERROR(VLOOKUP(T20,[1]Ark1!#REF!,12,FALSE),\"\")","v":""},{"$f":"IFERROR(VLOOKUP(U20,[1]Ark1!#REF!,12,FALSE),\"\")","v":""},{"$f":"IFERROR(VLOOKUP(V20,[1]Ark1!#REF!,12,FALSE),\"\")","v":""},{"$f":"IFERROR(VLOOKUP(W20,[1]Ark1!#REF!,12,FALSE),\"\")","v":""},{"$f":"IFERROR(VLOOKUP(X20,[1]Ark1!#REF!,12,FALSE),\"\")","v":""},{"$f":"IF(D20=\"\",\"\",HLOOKUP($C$6,'Beregning gr. 2'!F1:P52,D20+3))","v":34.101416815959283},{"$f":"IFERROR(AD20*C6*E20,\"\")*E6","v":0},null,34.1]
[null,null,null,8,null,{"$f":"IFERROR(VLOOKUP(D21,'Beregning gr. 2'!F1:P52,11,FALSE),\"\")","v":"m²"},{"$f":"IFERROR(VLOOKUP(D21,'Beregning gr. 2'!F1:P52,10,FALSE),\"\")","v":"Aftagning og afrensning af belægning"},{"$f":"IFERROR(VLOOKUP(F21,[1]Ark1!#REF!,12,FALSE),\"\")","v":""},{"$f":"IFERROR(VLOOKUP(G21,[1]Ark1!#REF!,12,FALSE),\"\")","v":""},{"$f":"IFERROR(VLOOKUP(H21,[1]Ark1!#REF!,12,FALSE),\"\")","v":""},{"$f":"IFERROR(VLOOKUP(I21,[1]Ark1!#REF!,12,FALSE),\"\")","v":""},{"$f":"IFERROR(VLOOKUP(J21,[1]Ark1!#REF!,12,FALSE),\"\")","v":""},{"$f":"IFERROR(VLOOKUP(K21,[1]Ark1!#REF!,12,FALSE),\"\")","v":""},{"$f":"IFERROR(VLOOKUP(L21,[1]Ark1!#REF!,12,FALSE),\"\")","v":""},{"$f":"IFERROR(VLOOKUP(M21,[1]Ark1!#REF!,12,FALSE),\"\")","v":""},{"$f":"IFERROR(VLOOKUP(N21,[1]Ark1!#REF!,12,FALSE),\"\")","v":""},{"$f":"IFERROR(VLOOKUP(O21,[1]Ark1!#REF!,12,FALSE),\"\")","v":""},{"$f":"IFERROR(VLOOKUP(P21,[1]Ark1!#REF!,12,FALSE),\"\")","v":""},{"$f":"IFERROR(VLOOKUP(Q21,[1]Ark1!#REF!,12,FALSE),\"\")","v":""},{"$f":"IFERROR(VLOOKUP(R21,[1]Ark1!#REF!,12,FALSE),\"\")","v":""},{"$f":"IFERROR(VLOOKUP(S21,[1]Ark1!#REF!,12,FALSE),\"\")","v":""},{"$f":"IFERROR(VLOOKUP(T21,[1]Ark1!#REF!,12,FALSE),\"\")","v":""},{"$f":"IFERROR(VLOOKUP(U21,[1]Ark1!#REF!,12,FALSE),\"\")","v":""},{"$f":"IFERROR(VLOOKUP(V21,[1]Ark1!#REF!,12,FALSE),\"\")","v":""},{"$f":"IFERROR(VLOOKUP(W21,[1]Ark1!#REF!,12,FALSE),\"\")","v":""},{"$f":"IFERROR(VLOOKUP(X21,[1]Ark1!#REF!,12,FALSE),\"\")","v":""},{"$f":"IF(D21=\"\",\"\",HLOOKUP($C$6,'Beregning gr. 2'!F1:P52,D21+3))","v":36.874390716787204},{"$f":"IFERROR(C6*AD21*E21,\"\")*E6","v":0},null,36.869999999999997]
[null,null,null,9,null,{"$f":"IFERROR(VLOOKUP(D22,'Beregning gr. 2'!F1:P52,11,FALSE),\"\")","v":"m²"},{"$f":"IFERROR(VLOOKUP(D22,'Beregning gr. 2'!F1:P52,10,FALSE),\"\")","v":"Aftagning af ekstra lag belægning"},{"$f":"IFERROR(VLOOKUP(F22,[1]Ark1!#REF!,12,FALSE),\"\")","v":""},{"$f":"IFERROR(VLOOKUP(G22,[1]Ark1!#REF!,12,FALSE),\"\")","v":""},{"$f":"IFERROR(VLOOKUP(H22,[1]Ark1!#REF!,12,FALSE),\"\")","v":""},{"$f":"IFERROR(VLOOKUP(I22,[1]Ark1!#REF!,12,FALSE),\"\")","v":""},{"$f":"IFERROR(VLOOKUP(J22,[1]Ark1!#REF!,12,FALSE),\"\")","v":""},{"$f":"IFERROR(VLOOKUP(K22,[1]Ark1!#REF!,12,FALSE),\"\")","v":""},{"$f":"IFERROR(VLOOKUP(L22,[1]Ark1!#REF!,12,FALSE),\"\")","v":""},{"$f":"IFERROR(VLOOKUP(M22,[1]Ark1!#REF!,12,FALSE),\"\")","v":""},{"$f":"IFERROR(VLOOKUP(N22,[1]Ark1!#REF!,12,FALSE),\"\")","v":""},{"$f":"IFERROR(VLOOKUP(O22,[1]Ark1!#REF!,12,FALSE),\"\")","v":""},{"$f":"IFERROR(VLOOKUP(P22,[1]Ark1!#REF!,12,FALSE),\"\")","v":""},{"$f":"IFERROR(VLOOKUP(Q22,[1]Ark1!#REF!,12,FALSE),\"\")","v":""},{"$f":"IFERROR(VLOOKUP(R22,[1]Ark1!#REF!,12,FALSE),\"\")","v":""},{"$f":"IFERROR(VLOOKUP(S22,[1]Ark1!#REF!,12,FALSE),\"\")","v":""},{"$f":"IFERROR(VLOOKUP(T22,[1]Ark1!#REF!,12,FALSE),\"\")","v":""},{"$f":"IFERROR(VLOOKUP(U22,[1]Ark1!#REF!,12,FALSE),\"\")","v":""},{"$f":"IFERROR(VLOOKUP(V22,[1]Ark1!#REF!,12,FALSE),\"\")","v":""},{"$f":"IFERROR(VLOOKUP(W22,[1]Ark1!#REF!,12,FALSE),\"\")","v":""},{"$f":"IFERROR(VLOOKUP(X22,[1]Ark1!#REF!,12,FALSE),\"\")","v":""},{"$f":"IF(D22=\"\",\"\",HLOOKUP($C$6,'Beregning gr. 2'!F1:P52,D22+3))","v":21.678493740250225},{"$f":"IFERROR(C6*AD22*E22,\"\")*E6","v":0},null,21.68]
[null,null,null,10,null,{"$f":"IFERROR(VLOOKUP(D23,'Beregning gr. 2'!F1:P52,11,FALSE),\"\")","v":"m²"},{"$f":"IFERROR(VLOOKUP(D23,'Beregning gr. 2'!F1:P52,10,FALSE),\"\")","v":"Aftagning af masonit, afrensning af søm"},{"$f":"IFERROR(VLOOKUP(F23,[1]Ark1!#REF!,12,FALSE),\"\")","v":""},{"$f":"IFERROR(VLOOKUP(G23,[1]Ark1!#REF!,12,FALSE),\"\")","v":""},{"$f":"IFERROR(VLOOKUP(H23,[1]Ark1!#REF!,12,FALSE),\"\")","v":""},{"$f":"IFERROR(VLOOKUP(I23,[1]Ark1!#REF!,12,FALSE),\"\")","v":""},{"$f":"IFERROR(VLOOKUP(J23,[1]Ark1!#REF!,12,FALSE),\"\")","v":""},{"$f":"IFERROR(VLOOKUP(K23,[1]Ark1!#REF!,12,FALSE),\"\")","v":""},{"$f":"IFERROR(VLOOKUP(L23,[1]Ark1!#REF!,12,FALSE),\"\")","v":""},{"$f":"IFERROR(VLOOKUP(M23,[1]Ark1!#REF!,12,FALSE),\"\")","v":""},{"$f":"IFERROR(VLOOKUP(N23,[1]Ark1!#REF!,12,FALSE),\"\")","v":""},{"$f":"IFERROR(VLOOKUP(O23,[1]Ark1!#REF!,12,FALSE),\"\")","v":""},{"$f":"IFERROR(VLOOKUP(P23,[1]Ark1!#REF!,12,FALSE),\"\")","v":""},{"$f":"IFERROR(VLOOKUP(Q23,[1]Ark1!#REF!,12,FALSE),\"\")","v":""},{"$f":"IFERROR(VLOOKUP(R23,[1]Ark1!#REF!,12,FALSE),\"\")","v":""},{"$f":"IFERROR(VLOOKUP(S23,[1]Ark1!#REF!,12,FALSE),\"\")","v":""},{"$f":"IFERROR(VLOOKUP(T23,[1]Ark1!#REF!,12,FALSE),\"\")","v":""},{"$f":"IFERROR(VLOOKUP(U23,[1]Ark1!#REF!,12,FALSE),\"\")","v":""},{"$f":"IFERROR(VLOOKUP(V23,[1]Ark1!#REF!,12,FALSE),\"\")","v":""},{"$f":"IFERROR(VLOOKUP(W23,[1]Ark1!#REF!,12,FALSE),\"\")","v":""},{"$f":"IFERROR(VLOOKUP(X23,[1]Ark1!#REF!,12,FALSE),\"\")","v":""},{"$f":"IF(D23=\"\",\"\",HLOOKUP($C$6,'Beregning gr. 2'!F1:P52,D23+3))","v":59.292344163924874},{"$f":"IFERROR(E23*AD23*C6,\"\")*E6","v":0},null,59.29]
[null,null,null,11,null,{"$f":"IFERROR(VLOOKUP(D24,'Beregning gr. 2'!F1:P52,11,FALSE),\"\")","v":"m²"},{"$f":"IFERROR(VLOOKUP(D24,'Beregning gr. 2'!F1:P52,10,FALSE),\"\")","v":"Aftagning af hulkehl t.o.m. 15 cm"},{"$f":"IFERROR(VLOOKUP(F24,[1]Ark1!#REF!,12,FALSE),\"\")","v":""},{"$f":"IFERROR(VLOOKUP(G24,[1]Ark1!#REF!,12,FALSE),\"\")","v":""},{"$f":"IFERROR(VLOOKUP(H24,[1]Ark1!#REF!,12,FALSE),\"\")","v":""},{"$f":"IFERROR(VLOOKUP(I24,[1]Ark1!#REF!,12,FALSE),\"\")","v":""},{"$f":"IFERROR(VLOOKUP(J24,[1]Ark1!#REF!,12,FALSE),\"\")","v":""},{"$f":"IFERROR(VLOOKUP(K24,[1]Ark1!#REF!,12,FALSE),\"\")","v":""},{"$f":"IFERROR(VLOOKUP(L24,[1]Ark1!#REF!,12,FALSE),\"\")","v":""},{"$f":"IFERROR(VLOOKUP(M24,[1]Ark1!#REF!,12,FALSE),\"\")","v":""},{"$f":"IFERROR(VLOOKUP(N24,[1]Ark1!#REF!,12,FALSE),\"\")","v":""},{"$f":"IFERROR(VLOOKUP(O24,[1]Ark1!#REF!,12,FALSE),\"\")","v":""},{"$f":"IFERROR(VLOOKUP(P24,[1]Ark1!#REF!,12,FALSE),\"\")","v":""},{"$f":"IFERROR(VLOOKUP(Q24,[1]Ark1!#REF!,12,FALSE),\"\")","v":""},{"$f":"IFERROR(VLOOKUP(R24,[1]Ark1!#REF!,12,FALSE),\"\")","v":""},{"$f":"IFERROR(VLOOKUP(S24,[1]Ark1!#REF!,12,FALSE),\"\")","v":""},{"$f":"IFERROR(VLOOKUP(T24,[1]Ark1!#REF!,12,FALSE),\"\")","v":""},{"$f":"IFERROR(VLOOKUP(U24,[1]Ark1!#REF!,12,FALSE),\"\")","v":""},{"$f":"IFERROR(VLOOKUP(V24,[1]Ark1!#REF!,12,FALSE),\"\")","v":""},{"$f":"IFERROR(VLOOKUP(W24,[1]Ark1!#REF!,12,FALSE),\"\")","v":""},{"$f":"IFERROR(VLOOKUP(X24,[1]Ark1!#REF!,12,FALSE),\"\")","v":""},{"$f":"IF(D24=\"\",\"\",HLOOKUP($C$6,'Beregning gr. 2'!F1:P52,D24+3))","v":34.139512425034582},{"$f":"IFERROR(E24*AD24*C6,\"\")*E6","v":0},null,34.14]
[null,null,null,12,null,{"$f":"IFERROR(VLOOKUP(D25,'Beregning gr. 2'!F1:P52,11,FALSE),\"\")","v":"m²"},{"$f":"IFERROR(VLOOKUP(D25,'Beregning gr. 2'!F1:P52,10,FALSE),\"\")","v":"Aftagning af hulkehl t.o.m. 30 cm"},{"$f":"IFERROR(VLOOKUP(F25,[1]Ark1!#REF!,12,FALSE),\"\")","v":""},{"$f":"IFERROR(VLOOKUP(G25,[1]Ark1!#REF!,12,FALSE),\"\")","v":""},{"$f":"IFERROR(VLOOKUP(H25,[1]Ark1!#REF!,12,FALSE),\"\")","v":""},{"$f":"IFERROR(VLOOKUP(I25,[1]Ark1!#REF!,12,FALSE),\"\")","v":""},{"$f":"IFERROR(VLOOKUP(J25,[1]Ark1!#REF!,12,FALSE),\"\")","v":""},{"$f":"IFERROR(VLOOKUP(K25,[1]Ark1!#REF!,12,FALSE),\"\")","v":""},{"$f":"IFERROR(VLOOKUP(L25,[1]Ark1!#REF!,12,FALSE),\"\")","v":""},{"$f":"IFERROR(VLOOKUP(M25,[1]Ark1!#REF!,12,FALSE),\"\")","v":""},{"$f":"IFERROR(VLOOKUP(N25,[1]Ark1!#REF!,12,FALSE),\"\")","v":""},{"$f":"IFERROR(VLOOKUP(O25,[1]Ark1!#REF!,12,FALSE),\"\")","v":""},{"$f":"IFERROR(VLOOKUP(P25,[1]Ark1!#REF!,12,FALSE),\"\")","v":""},{"$f":"IFERROR(VLOOKUP(Q25,[1]Ark1!#REF!,12,FALSE),\"\")","v":""},{"$f":"IFERROR(VLOOKUP(R25,[1]Ark1!#REF!,12,FALSE),\"\")","v":""},{"$f":"IFERROR(VLOOKUP(S25,[1]Ark1!#REF!,12,FALSE),\"\")","v":""},{"$f":"IFERROR(VLOOKUP(T25,[1]Ark1!#REF!,12,FALSE),\"\")","v":""},{"$f":"IFERROR(VLOOKUP(U25,[1]Ark1!#REF!,12,FALSE),\"\")","v":""},{"$f":"IFERROR(VLOOKUP(V25,[1]Ark1!#REF!,12,FALSE),\"\")","v":""},{"$f":"IFERROR(VLOOKUP(W25,[1]Ark1!#REF!,12,FALSE),\"\")","v":""},{"$f":"IFERROR(VLOOKUP(X25,[1]Ark1!#REF!,12,FALSE),\"\")","v":""},{"$f":"IF(D25=\"\",\"\",HLOOKUP($C$6,'Beregning gr. 2'!F1:P52,D25+3))","v":40.441462671432369},{"$f":"IFERROR(E25*AD25*C6,\"\")*E6","v":0},null,40.44]
[null,null,null,13,null,{"$f":"IFERROR(VLOOKUP(D26,'Beregning gr. 2'!F1:P52,11,FALSE),\"\")","v":"m²"},{"$f":"IFERROR(VLOOKUP(D26,'Beregning gr. 2'!F1:P52,10,FALSE),\"\")","v":"Lægning af vinyl"},{"$f":"IFERROR(VLOOKUP(F26,[1]Ark1!#REF!,12,FALSE),\"\")","v":""},{"$f":"IFERROR(VLOOKUP(G26,[1]Ark1!#REF!,12,FALSE),\"\")","v":""},{"$f":"IFERROR(VLOOKUP(H26,[1]Ark1!#REF!,12,FALSE),\"\")","v":""},{"$f":"IFERROR(VLOOKUP(I26,[1]Ark1!#REF!,12,FALSE),\"\")","v":""},{"$f":"IFERROR(VLOOKUP(J26,[1]Ark1!#REF!,12,FALSE),\"\")","v":""},{"$f":"IFERROR(VLOOKUP(K26,[1]Ark1!#REF!,12,FALSE),\"\")","v":""},{"$f":"IFERROR(VLOOKUP(L26,[1]Ark1!#REF!,12,FALSE),\"\")","v":""},{"$f":"IFERROR(VLOOKUP(M26,[1]Ark1!#REF!,12,FALSE),\"\")","v":""},{"$f":"IFERROR(VLOOKUP(N26,[1]Ark1!#REF!,12,FALSE),\"\")","v":""},{"$f":"IFERROR(VLOOKUP(O26,[1]Ark1!#REF!,12,FALSE),\"\")","v":""},{"$f":"IFERROR(VLOOKUP(P26,[1]Ark1!#REF!,12,FALSE),\"\")","v":""},{"$f":"IFERROR(VLOOKUP(Q26,[1]Ark1!#REF!,12,FALSE),\"\")","v":""},{"$f":"IFERROR(VLOOKUP(R26,[1]Ark1!#REF!,12,FALSE),\"\")","v":""},{"$f":"IFERROR(VLOOKUP(S26,[1]Ark1!#REF!,12,FALSE),\"\")","v":""},{"$f":"IFERROR(VLOOKUP(T26,[1]Ark1!#REF!,12,FALSE),\"\")","v":""},{"$f":"IFERROR(VLOOKUP(U26,[1]Ark1!#REF!,12,FALSE),\"\")","v":""},{"$f":"IFERROR(VLOOKUP(V26,[1]Ark1!#REF!,12,FALSE),\"\")","v":""},{"$f":"IFERROR(VLOOKUP(W26,[1]Ark1!#REF!,12,FALSE),\"\")","v":""},{"$f":"IFERROR(VLOOKUP(X26,[1]Ark1!#REF!,12,FALSE),\"\")","v":""},{"$f":"IF(D26=\"\",\"\",HLOOKUP($C$6,'Beregning gr. 2'!F1:P52,D26+3))","v":63.531913150079546},{"$f":"IFERROR(E26*AD26*C6,\"\")*E6","v":0},null,{"$f":"ROUND(AA26,2)","v":63.53}]
[null,null,null,14,null,{"$f":"IFERROR(VLOOKUP(D27,'Beregning gr. 2'!F1:P52,11,FALSE),\"\")","v":"m²"},{"$f":"IFERROR(VLOOKUP(D27,'Beregning gr. 2'!F1:P52,10,FALSE),\"\")","v":"Opskæring af vinyl"},{"$f":"IFERROR(VLOOKUP(F27,[1]Ark1!#REF!,12,FALSE),\"\")","v":""},{"$f":"IFERROR(VLOOKUP(G27,[1]Ark1!#REF!,12,FALSE),\"\")","v":""},{"$f":"IFERROR(VLOOKUP(H27,[1]Ark1!#REF!,12,FALSE),\"\")","v":""},{"$f":"IFERROR(VLOOKUP(I27,[1]Ark1!#REF!,12,FALSE),\"\")","v":""},{"$f":"IFERROR(VLOOKUP(J27,[1]Ark1!#REF!,12,FALSE),\"\")","v":""},{"$f":"IFERROR(VLOOKUP(K27,[1]Ark1!#REF!,12,FALSE),\"\")","v":""},{"$f":"IFERROR(VLOOKUP(L27,[1]Ark1!#REF!,12,FALSE),\"\")","v":""},{"$f":"IFERROR(VLOOKUP(M27,[1]Ark1!#REF!,12,FALSE),\"\")","v":""},{"$f":"IFERROR(VLOOKUP(N27,[1]Ark1!#REF!,12,FALSE),\"\")","v":""},{"$f":"IFERROR(VLOOKUP(O27,[1]Ark1!#REF!,12,FALSE),\"\")","v":""},{"$f":"IFERROR(VLOOKUP(P27,[1]Ark1!#REF!,12,FALSE),\"\")","v":""},{"$f":"IFERROR(VLOOKUP(Q27,[1]Ark1!#REF!,12,FALSE),\"\")","v":""},{"$f":"IFERROR(VLOOKUP(R27,[1]Ark1!#REF!,12,FALSE),\"\")","v":""},{"$f":"IFERROR(VLOOKUP(S27,[1]Ark1!#REF!,12,FALSE),\"\")","v":""},{"$f":"IFERROR(VLOOKUP(T27,[1]Ark1!#REF!,12,FALSE),\"\")","v":""},{"$f":"IFERROR(VLOOKUP(U27,[1]Ark1!#REF!,12,FALSE),\"\")","v":""},{"$f":"IFERROR(VLOOKUP(V27,[1]Ark1!#REF!,12,FALSE),\"\")","v":""},{"$f":"IFERROR(VLOOKUP(W27,[1]Ark1!#REF!,12,FALSE),\"\")","v":""},{"$f":"IFERROR(VLOOKUP(X27,[1]Ark1!#REF!,12,FALSE),\"\")","v":""},{"$f":"IF(D27=\"\",\"\",HLOOKUP($C$6,'Beregning gr. 2'!F1:P52,D27+3))","v":8.2326514033468747},{"$f":"IFERROR(E27*AD27*C6,\"\")*E6","v":0},null,{"$f":"ROUND(AA27,2)","v":8.23}]
[null,null,null,15,null,{"$f":"IFERROR(VLOOKUP(D28,'Beregning gr. 2'!F1:P52,11,FALSE),\"\")","v":"m"},{"$f":"IFERROR(VLOOKUP(D28,'Beregning gr. 2'!F1:P52,10,FALSE),\"\")","v":"Hulkehl t.o.m. 15 cm pr. m."},{"$f":"IFERROR(VLOOKUP(F28,[1]Ark1!#REF!,12,FALSE),\"\")","v":""},{"$f":"IFERROR(VLOOKUP(G28,[1]Ark1!#REF!,12,FALSE),\"\")","v":""},{"$f":"IFERROR(VLOOKUP(H28,[1]Ark1!#REF!,12,FALSE),\"\")","v":""},{"$f":"IFERROR(VLOOKUP(I28,[1]Ark1!#REF!,12,FALSE),\"\")","v":""},{"$f":"IFERROR(VLOOKUP(J28,[1]Ark1!#REF!,12,FALSE),\"\")","v":""},{"$f":"IFERROR(VLOOKUP(K28,[1]Ark1!#REF!,12,FALSE),\"\")","v":""},{"$f":"IFERROR(VLOOKUP(L28,[1]Ark1!#REF!,12,FALSE),\"\")","v":""},{"$f":"IFERROR(VLOOKUP(M28,[1]Ark1!#REF!,12,FALSE),\"\")","v":""},{"$f":"IFERROR(VLOOKUP(N28,[1]Ark1!#REF!,12,FALSE),\"\")","v":""},{"$f":"IFERROR(VLOOKUP(O28,[1]Ark1!#REF!,12,FALSE),\"\")","v":""},{"$f":"IFERROR(VLOOKUP(P28,[1]Ark1!#REF!,12,FALSE),\"\")","v":""},{"$f":"IFERROR(VLOOKUP(Q28,[1]Ark1!#REF!,12,FALSE),\"\")","v":""},{"$f":"IFERROR(VLOOKUP(R28,[1]Ark1!#REF!,12,FALSE),\"\")","v":""},{"$f":"IFERROR(VLOOKUP(S28,[1]Ark1!#REF!,12,FALSE),\"\")","v":""},{"$f":"IFERROR(VLOOKUP(T28,[1]Ark1!#REF!,12,FALSE),\"\")","v":""},{"$f":"IFERROR(VLOOKUP(U28,[1]Ark1!#REF!,12,FALSE),\"\")","v":""},{"$f":"IFERROR(VLOOKUP(V28,[1]Ark1!#REF!,12,FALSE),\"\")","v":""},{"$f":"IFERROR(VLOOKUP(W28,[1]Ark1!#REF!,12,FALSE),\"\")","v":""},{"$f":"IFERROR(VLOOKUP(X28,[1]Ark1!#REF!,12,FALSE),\"\")","v":""},{"$f":"IF(D28=\"\",\"\",HLOOKUP($C$6,'Beregning gr. 2'!F1:P52,D28+3))","v":94.766169118763614},{"$f":"IFERROR(E28*AD28,\"\")*E6","v":0},null,94.77]
[null,null,null,16,null,{"$f":"IFERROR(VLOOKUP(D29,'Beregning gr. 2'!F1:P52,11,FALSE),\"\")","v":"stk"},{"$f":"IFERROR(VLOOKUP(D29,'Beregning gr. 2'!F1:P52,10,FALSE),\"\")","v":"Indvendige hulkehlhjørne t.o.m. 15 cm"},{"$f":"IFERROR(VLOOKUP(F29,[1]Ark1!#REF!,12,FALSE),\"\")","v":""},{"$f":"IFERROR(VLOOKUP(G29,[1]Ark1!#REF!,12,FALSE),\"\")","v":""},{"$f":"IFERROR(VLOOKUP(H29,[1]Ark1!#REF!,12,FALSE),\"\")","v":""},{"$f":"IFERROR(VLOOKUP(I29,[1]Ark1!#REF!,12,FALSE),\"\")","v":""},{"$f":"IFERROR(VLOOKUP(J29,[1]Ark1!#REF!,12,FALSE),\"\")","v":""},{"$f":"IFERROR(VLOOKUP(K29,[1]Ark1!#REF!,12,FALSE),\"\")","v":""},{"$f":"IFERROR(VLOOKUP(L29,[1]Ark1!#REF!,12,FALSE),\"\")","v":""},{"$f":"IFERROR(VLOOKUP(M29,[1]Ark1!#REF!,12,FALSE),\"\")","v":""},{"$f":"IFERROR(VLOOKUP(N29,[1]Ark1!#REF!,12,FALSE),\"\")","v":""},{"$f":"IFERROR(VLOOKUP(O29,[1]Ark1!#REF!,12,FALSE),\"\")","v":""},{"$f":"IFERROR(VLOOKUP(P29,[1]Ark1!#REF!,12,FALSE),\"\")","v":""},{"$f":"IFERROR(VLOOKUP(Q29,[1]Ark1!#REF!,12,FALSE),\"\")","v":""},{"$f":"IFERROR(VLOOKUP(R29,[1]Ark1!#REF!,12,FALSE),\"\")","v":""},{"$f":"IFERROR(VLOOKUP(S29,[1]Ark1!#REF!,12,FALSE),\"\")","v":""},{"$f":"IFERROR(VLOOKUP(T29,[1]Ark1!#REF!,12,FALSE),\"\")","v":""},{"$f":"IFERROR(VLOOKUP(U29,[1]Ark1!#REF!,12,FALSE),\"\")","v":""},{"$f":"IFERROR(VLOOKUP(V29,[1]Ark1!#REF!,12,FALSE),\"\")","v":""},{"$f":"IFERROR(VLOOKUP(W29,[1]Ark1!#REF!,12,FALSE),\"\")","v":""},{"$f":"IFERROR(VLOOKUP(X29,[1]Ark1!#REF!,12,FALSE),\"\")","v":""},{"$f":"IF(D29=\"\",\"\",HLOOKUP($C$6,'Beregning gr. 2'!F1:P52,D29+3))","v":56.504328337062788},{"$f":"IFERROR(E29*AD29,\"\")*E6","v":0},null,56.5]
[null,null,null,17,null,{"$f":"IFERROR(VLOOKUP(D30,'Beregning gr. 2'!F1:P52,11,FALSE),\"\")","v":"stk"},{"$f":"IFERROR(VLOOKUP(D30,'Beregning gr. 2'!F1:P52,10,FALSE),\"\")","v":"Udvendige hulkehlhjørner t.o.m. 15 cm"},{"$f":"IFERROR(VLOOKUP(F30,[1]Ark1!#REF!,12,FALSE),\"\")","v":""},{"$f":"IFERROR(VLOOKUP(G30,[1]Ark1!#REF!,12,FALSE),\"\")","v":""},{"$f":"IFERROR(VLOOKUP(H30,[1]Ark1!#REF!,12,FALSE),\"\")","v":""},{"$f":"IFERROR(VLOOKUP(I30,[1]Ark1!#REF!,12,FALSE),\"\")","v":""},{"$f":"IFERROR(VLOOKUP(J30,[1]Ark1!#REF!,12,FALSE),\"\")","v":""},{"$f":"IFERROR(VLOOKUP(K30,[1]Ark1!#REF!,12,FALSE),\"\")","v":""},{"$f":"IFERROR(VLOOKUP(L30,[1]Ark1!#REF!,12,FALSE),\"\")","v":""},{"$f":"IFERROR(VLOOKUP(M30,[1]Ark1!#REF!,12,FALSE),\"\")","v":""},{"$f":"IFERROR(VLOOKUP(N30,[1]Ark1!#REF!,12,FALSE),\"\")","v":""},{"$f":"IFERROR(VLOOKUP(O30,[1]Ark1!#REF!,12,FALSE),\"\")","v":""},{"$f":"IFERROR(VLOOKUP(P30,[1]Ark1!#REF!,12,FALSE),\"\")","v":""},{"$f":"IFERROR(VLOOKUP(Q30,[1]Ark1!#REF!,12,FALSE),\"\")","v":""},{"$f":"IFERROR(VLOOKUP(R30,[1]Ark1!#REF!,12,FALSE),\"\")","v":""},{"$f":"IFERROR(VLOOKUP(S30,[1]Ark1!#REF!,12,FALSE),\"\")","v":""},{"$f":"IFERROR(VLOOKUP(T30,[1]Ark1!#REF!,12,FALSE),\"\")","v":""},{"$f":"IFERROR(VLOOKUP(U30,[1]Ark1!#REF!,12,FALSE),\"\")","v":""},{"$f":"IFERROR(VLOOKUP(V30,[1]Ark1!#REF!,12,FALSE),\"\")","v":""},{"$f":"IFERROR(VLOOKUP(W30,[1]Ark1!#REF!,12,FALSE),\"\")","v":""},{"$f":"IFERROR(VLOOKUP(X30,[1]Ark1!#REF!,12,FALSE),\"\")","v":""},{"$f":"IF(D30=\"\",\"\",HLOOKUP($C$6,'Beregning gr. 2'!F1:P52,D30+3))","v":113.12711438552402},{"$f":"IFERROR(E30*AD30,\"\")*E6","v":0},null,113.13]
[null,null,null,18,null,{"$f":"IFERROR(VLOOKUP(D31,'Beregning gr. 2'!F1:P52,11,FALSE),\"\")","v":"stk"},{"$f":"IFERROR(VLOOKUP(D31,'Beregning gr. 2'!F1:P52,10,FALSE),\"\")","v":"Lige samling i hulkehl t.o.m. 15 cm"},{"$f":"IFERROR(VLOOKUP(F31,[1]Ark1!#REF!,12,FALSE),\"\")","v":""},{"$f":"IFERROR(VLOOKUP(G31,[1]Ark1!#REF!,12,FALSE),\"\")","v":""},{"$f":"IFERROR(VLOOKUP(H31,[1]Ark1!#REF!,12,FALSE),\"\")","v":""},{"$f":"IFERROR(VLOOKUP(I31,[1]Ark1!#REF!,12,FALSE),\"\")","v":""},{"$f":"IFERROR(VLOOKUP(J31,[1]Ark1!#REF!,12,FALSE),\"\")","v":""},{"$f":"IFERROR(VLOOKUP(K31,[1]Ark1!#REF!,12,FALSE),\"\")","v":""},{"$f":"IFERROR(VLOOKUP(L31,[1]Ark1!#REF!,12,FALSE),\"\")","v":""},{"$f":"IFERROR(VLOOKUP(M31,[1]Ark1!#REF!,12,FALSE),\"\")","v":""},{"$f":"IFERROR(VLOOKUP(N31,[1]Ark1!#REF!,12,FALSE),\"\")","v":""},{"$f":"IFERROR(VLOOKUP(O31,[1]Ark1!#REF!,12,FALSE),\"\")","v":""},{"$f":"IFERROR(VLOOKUP(P31,[1]Ark1!#REF!,12,FALSE),\"\")","v":""},{"$f":"IFERROR(VLOOKUP(Q31,[1]Ark1!#REF!,12,FALSE),\"\")","v":""},{"$f":"IFERROR(VLOOKUP(R31,[1]Ark1!#REF!,12,FALSE),\"\")","v":""},{"$f":"IFERROR(VLOOKUP(S31,[1]Ark1!#REF!,12,FALSE),\"\")","v":""},{"$f":"IFERROR(VLOOKUP(T31,[1]Ark1!#REF!,12,FALSE),\"\")","v":""},{"$f":"IFERROR(VLOOKUP(U31,[1]Ark1!#REF!,12,FALSE),\"\")","v":""},{"$f":"IFERROR(VLOOKUP(V31,[1]Ark1!#REF!,12,FALSE),\"\")","v":""},{"$f":"IFERROR(VLOOKUP(W31,[1]Ark1!#REF!,12,FALSE),\"\")","v":""},{"$f":"IFERROR(VLOOKUP(X31,[1]Ark1!#REF!,12,FALSE),\"\")","v":""},{"$f":"IF(D31=\"\",\"\",HLOOKUP($C$6,'Beregning gr. 2'!F1:P52,D31+3))","v":56.622786048461229},{"$f":"IFERROR(E31*AD31,\"\")*E6","v":0},null,56.62]
[null,null,null,19,null,{"$f":"IFERROR(VLOOKUP(D32,'Beregning gr. 2'!F1:P52,11,FALSE),\"\")","v":"m²"},{"$f":"IFERROR(VLOOKUP(D32,'Beregning gr. 2'!F1:P52,10,FALSE),\"\")","v":"Trådsvejsning/trådfugning, 200 cm"},{"$f":"IFERROR(VLOOKUP(F32,[1]Ark1!#REF!,12,FALSE),\"\")","v":""},{"$f":"IFERROR(VLOOKUP(G32,[1]Ark1!#REF!,12,FALSE),\"\")","v":""},{"$f":"IFERROR(VLOOKUP(H32,[1]Ark1!#REF!,12,FALSE),\"\")","v":""},{"$f":"IFERROR(VLOOKUP(I32,[1]Ark1!#REF!,12,FALSE),\"\")","v":""},{"$f":"IFERROR(VLOOKUP(J32,[1]Ark1!#REF!,12,FALSE),\"\")","v":""},{"$f":"IFERROR(VLOOKUP(K32,[1]Ark1!#REF!,12,FALSE),\"\")","v":""},{"$f":"IFERROR(VLOOKUP(L32,[1]Ark1!#REF!,12,FALSE),\"\")","v":""},{"$f":"IFERROR(VLOOKUP(M32,[1]Ark1!#REF!,12,FALSE),\"\")","v":""},{"$f":"IFERROR(VLOOKUP(N32,[1]Ark1!#REF!,12,FALSE),\"\")","v":""},{"$f":"IFERROR(VLOOKUP(O32,[1]Ark1!#REF!,12,FALSE),\"\")","v":""},{"$f":"IFERROR(VLOOKUP(P32,[1]Ark1!#REF!,12,FALSE),\"\")","v":""},{"$f":"IFERROR(VLOOKUP(Q32,[1]Ark1!#REF!,12,FALSE),\"\")","v":""},{"$f":"IFERROR(VLOOKUP(R32,[1]Ark1!#REF!,12,FALSE),\"\")","v":""},{"$f":"IFERROR(VLOOKUP(S32,[1]Ark1!#REF!,12,FALSE),\"\")","v":""},{"$f":"IFERROR(VLOOKUP(T32,[1]Ark1!#REF!,12,FALSE),\"\")","v":""},{"$f":"IFERROR(VLOOKUP(U32,[1]Ark1!#REF!,12,FALSE),\"\")","v":""},{"$f":"IFERROR(VLOOKUP(V32,[1]Ark1!#REF!,12,FALSE),\"\")","v":""},{"$f":"IFERROR(VLOOKUP(W32,[1]Ark1!#REF!,12,FALSE),\"\")","v":""},{"$f":"IFERROR(VLOOKUP(X32,[1]Ark1!#REF!,12,FALSE),\"\")","v":""},{"$f":"IF(D32=\"\",\"\",HLOOKUP($C$6,'Beregning gr. 2'!F1:P52,D32+3))","v":22.085196579038325},{"$f":"IFERROR(E32*AD32*C6,\"\")*E6","v":0},null,22.09]
[null,null,null,20,null,{"$f":"IFERROR(VLOOKUP(D33,'Beregning gr. 2'!F1:P52,11,FALSE),\"\")","v":"m²"},{"$f":"IFERROR(VLOOKUP(D33,'Beregning gr. 2'!F1:P52,10,FALSE),\"\")","v":"Trådsvejsning/trådfugning, 180 cm"},{"$f":"IFERROR(VLOOKUP(F33,[1]Ark1!#REF!,12,FALSE),\"\")","v":""},{"$f":"IFERROR(VLOOKUP(G33,[1]Ark1!#REF!,12,FALSE),\"\")","v":""},{"$f":"IFERROR(VLOOKUP(H33,[1]Ark1!#REF!,12,FALSE),\"\")","v":""},{"$f":"IFERROR(VLOOKUP(I33,[1]Ark1!#REF!,12,FALSE),\"\")","v":""},{"$f":"IFERROR(VLOOKUP(J33,[1]Ark1!#REF!,12,FALSE),\"\")","v":""},{"$f":"IFERROR(VLOOKUP(K33,[1]Ark1!#REF!,12,FALSE),\"\")","v":""},{"$f":"IFERROR(VLOOKUP(L33,[1]Ark1!#REF!,12,FALSE),\"\")","v":""},{"$f":"IFERROR(VLOOKUP(M33,[1]Ark1!#REF!,12,FALSE),\"\")","v":""},{"$f":"IFERROR(VLOOKUP(N33,[1]Ark1!#REF!,12,FALSE),\"\")","v":""},{"$f":"IFERROR(VLOOKUP(O33,[1]Ark1!#REF!,12,FALSE),\"\")","v":""},{"$f":"IFERROR(VLOOKUP(P33,[1]Ark1!#REF!,12,FALSE),\"\")","v":""},{"$f":"IFERROR(VLOOKUP(Q33,[1]Ark1!#REF!,12,FALSE),\"\")","v":""},{"$f":"IFERROR(VLOOKUP(R33,[1]Ark1!#REF!,12,FALSE),\"\")","v":""},{"$f":"IFERROR(VLOOKUP(S33,[1]Ark1!#REF!,12,FALSE),\"\")","v":""},{"$f":"IFERROR(VLOOKUP(T33,[1]Ark1!#REF!,12,FALSE),\"\")","v":""},{"$f":"IFERROR(VLOOKUP(U33,[1]Ark1!#REF!,12,FALSE),\"\")","v":""},{"$f":"IFERROR(VLOOKUP(V33,[1]Ark1!#REF!,12,FALSE),\"\")","v":""},{"$f":"IFERROR(VLOOKUP(W33,[1]Ark1!#REF!,12,FALSE),\"\")","v":""},{"$f":"IFERROR(VLOOKUP(X33,[1]Ark1!#REF!,12,FALSE),\"\")","v":""},{"$f":"IF(D33=\"\",\"\",HLOOKUP($C$6,'Beregning gr. 2'!F1:P52,D33+3))","v":24.476116297974389},{"$f":"IFERROR(E33*AD33*C6,\"\")*E6","v":0},null,24.48]
[null,null,null,21,null,{"$f":"IFERROR(VLOOKUP(D34,'Beregning gr. 2'!F1:P52,11,FALSE),\"\")","v":"m²"},{"$f":"IFERROR(VLOOKUP(D34,'Beregning gr. 2'!F1:P52,10,FALSE),\"\")","v":"Trådsvejsning/trådfugning, 150 cm"},{"$f":"IFERROR(VLOOKUP(F34,[1]Ark1!#REF!,12,FALSE),\"\")","v":""},{"$f":"IFERROR(VLOOKUP(G34,[1]Ark1!#REF!,12,FALSE),\"\")","v":""},{"$f":"IFERROR(VLOOKUP(H34,[1]Ark1!#REF!,12,FALSE),\"\")","v":""},{"$f":"IFERROR(VLOOKUP(I34,[1]Ark1!#REF!,12,FALSE),\"\")","v":""},{"$f":"IFERROR(VLOOKUP(J34,[1]Ark1!#REF!,12,FALSE),\"\")","v":""},{"$f":"IFERROR(VLOOKUP(K34,[1]Ark1!#REF!,12,FALSE),\"\")","v":""},{"$f":"IFERROR(VLOOKUP(L34,[1]Ark1!#REF!,12,FALSE),\"\")","v":""},{"$f":"IFERROR(VLOOKUP(M34,[1]Ark1!#REF!,12,FALSE),\"\")","v":""},{"$f":"IFERROR(VLOOKUP(N34,[1]Ark1!#REF!,12,FALSE),\"\")","v":""},{"$f":"IFERROR(VLOOKUP(O34,[1]Ark1!#REF!,12,FALSE),\"\")","v":""},{"$f":"IFERROR(VLOOKUP(P34,[1]Ark1!#REF!,12,FALSE),\"\")","v":""},{"$f":"IFERROR(VLOOKUP(Q34,[1]Ark1!#REF!,12,FALSE),\"\")","v":""},{"$f":"IFERROR(VLOOKUP(R34,[1]Ark1!#REF!,12,FALSE),\"\")","v":""},{"$f":"IFERROR(VLOOKUP(S34,[1]Ark1!#REF!,12,FALSE),\"\")","v":""},{"$f":"IFERROR(VLOOKUP(T34,[1]Ark1!#REF!,12,FALSE),\"\")","v":""},{"$f":"IFERROR(VLOOKUP(U34,[1]Ark1!#REF!,12,FALSE),\"\")","v":""},{"$f":"IFERROR(VLOOKUP(V34,[1]Ark1!#REF!,12,FALSE),\"\")","v":""},{"$f":"IFERROR(VLOOKUP(W34,[1]Ark1!#REF!,12,FALSE),\"\")","v":""},{"$f":"IFERROR(VLOOKUP(X34,[1]Ark1!#REF!,12,FALSE),\"\")","v":""},{"$f":"IF(D34=\"\",\"\",HLOOKUP($C$6,'Beregning gr. 2'!F1:P52,D34+3))","v":29.356550363431523},{"$f":"IFERROR(E34*AD34*C6,\"\")*E6","v":0},null,29.36]
[null,null,null,22,null,{"$f":"IFERROR(VLOOKUP(D35,'Beregning gr. 2'!F1:P52,11,FALSE),\"\")","v":"m²"},{"$f":"IFERROR(VLOOKUP(D35,'Beregning gr. 2'!F1:P52,10,FALSE),\"\")","v":"Trådsvejsning/trådfugning, 125 cm"},{"$f":"IFERROR(VLOOKUP(F35,[1]Ark1!#REF!,12,FALSE),\"\")","v":""},{"$f":"IFERROR(VLOOKUP(G35,[1]Ark1!#REF!,12,FALSE),\"\")","v":""},{"$f":"IFERROR(VLOOKUP(H35,[1]Ark1!#REF!,12,FALSE),\"\")","v":""},{"$f":"IFERROR(VLOOKUP(I35,[1]Ark1!#REF!,12,FALSE),\"\")","v":""},{"$f":"IFERROR(VLOOKUP(J35,[1]Ark1!#REF!,12,FALSE),\"\")","v":""},{"$f":"IFERROR(VLOOKUP(K35,[1]Ark1!#REF!,12,FALSE),\"\")","v":""},{"$f":"IFERROR(VLOOKUP(L35,[1]Ark1!#REF!,12,FALSE),\"\")","v":""},{"$f":"IFERROR(VLOOKUP(M35,[1]Ark1!#REF!,12,FALSE),\"\")","v":""},{"$f":"IFERROR(VLOOKUP(N35,[1]Ark1!#REF!,12,FALSE),\"\")","v":""},{"$f":"IFERROR(VLOOKUP(O35,[1]Ark1!#REF!,12,FALSE),\"\")","v":""},{"$f":"IFERROR(VLOOKUP(P35,[1]Ark1!#REF!,12,FALSE),\"\")","v":""},{"$f":"IFERROR(VLOOKUP(Q35,[1]Ark1!#REF!,12,FALSE),\"\")","v":""},{"$f":"IFERROR(VLOOKUP(R35,[1]Ark1!#REF!,12,FALSE),\"\")","v":""},{"$f":"IFERROR(VLOOKUP(S35,[1]Ark1!#REF!,12,FALSE),\"\")","v":""},{"$f":"IFERROR(VLOOKUP(T35,[1]Ark1!#REF!,12,FALSE),\"\")","v":""},{"$f":"IFERROR(VLOOKUP(U35,[1]Ark1!#REF!,12,FALSE),\"\")","v":""},{"$f":"IFERROR(VLOOKUP(V35,[1]Ark1!#REF!,12,FALSE),\"\")","v":""},{"$f":"IFERROR(VLOOKUP(W35,[1]Ark1!#REF!,12,FALSE),\"\")","v":""},{"$f":"IFERROR(VLOOKUP(X35,[1]Ark1!#REF!,12,FALSE),\"\")","v":""},{"$f":"IF(D35=\"\",\"\",HLOOKUP($C$6,'Beregning gr. 2'!F1:P52,D35+3))","v":35.272228018531081},{"$f":"IFERROR(E35*AD35*C6,\"\")*E6","v":0},null,35.270000000000003]
[null,null,null,23,null,{"$f":"IFERROR(VLOOKUP(D36,'Beregning gr. 2'!F1:P52,11,FALSE),\"\")","v":"m²"},{"$f":"IFERROR(VLOOKUP(D36,'Beregning gr. 2'!F1:P52,10,FALSE),\"\")","v":"Afdækning af gulv, minimums bredde 90 cm"},{"$f":"IFERROR(VLOOKUP(F36,[1]Ark1!#REF!,12,FALSE),\"\")","v":""},{"$f":"IFERROR(VLOOKUP(G36,[1]Ark1!#REF!,12,FALSE),\"\")","v":""},{"$f":"IFERROR(VLOOKUP(H36,[1]Ark1!#REF!,12,FALSE),\"\")","v":""},{"$f":"IFERROR(VLOOKUP(I36,[1]Ark1!#REF!,12,FALSE),\"\")","v":""},{"$f":"IFERROR(VLOOKUP(J36,[1]Ark1!#REF!,12,FALSE),\"\")","v":""},{"$f":"IFERROR(VLOOKUP(K36,[1]Ark1!#REF!,12,FALSE),\"\")","v":""},{"$f":"IFERROR(VLOOKUP(L36,[1]Ark1!#REF!,12,FALSE),\"\")","v":""},{"$f":"IFERROR(VLOOKUP(M36,[1]Ark1!#REF!,12,FALSE),\"\")","v":""},{"$f":"IFERROR(VLOOKUP(N36,[1]Ark1!#REF!,12,FALSE),\"\")","v":""},{"$f":"IFERROR(VLOOKUP(O36,[1]Ark1!#REF!,12,FALSE),\"\")","v":""},{"$f":"IFERROR(VLOOKUP(P36,[1]Ark1!#REF!,12,FALSE),\"\")","v":""},{"$f":"IFERROR(VLOOKUP(Q36,[1]Ark1!#REF!,12,FALSE),\"\")","v":""},{"$f":"IFERROR(VLOOKUP(R36,[1]Ark1!#REF!,12,FALSE),\"\")","v":""},{"$f":"IFERROR(VLOOKUP(S36,[1]Ark1!#REF!,12,FALSE),\"\")","v":""},{"$f":"IFERROR(VLOOKUP(T36,[1]Ark1!#REF!,12,FALSE),\"\")","v":""},{"$f":"IFERROR(VLOOKUP(U36,[1]Ark1!#REF!,12,FALSE),\"\")","v":""},{"$f":"IFERROR(VLOOKUP(V36,[1]Ark1!#REF!,12,FALSE),\"\")","v":""},{"$f":"IFERROR(VLOOKUP(W36,[1]Ark1!#REF!,12,FALSE),\"\")","v":""},{"$f":"IFERROR(VLOOKUP(X36,[1]Ark1!#REF!,12,FALSE),\"\")","v":""},{"$f":"IF(D36=\"\",\"\",HLOOKUP($C$6,'Beregning gr. 2'!F1:P52,D36+3))","v":6.4456237783688861},{"$f":"IFERROR(E36*AD36*C6,\"\")*E6","v":0},null,6.45]
[null,null,null,24,null,{"$f":"IFERROR(VLOOKUP(D37,'Beregning gr. 2'!F1:P52,11,FALSE),\"\")","v":"m²"},{"$f":"IFERROR(VLOOKUP(D37,'Beregning gr. 2'!F1:P52,10,FALSE),\"\")","v":"Aftagning af gulvafdækning"},{"$f":"IFERROR(VLOOKUP(F37,[1]Ark1!#REF!,12,FALSE),\"\")","v":""},{"$f":"IFERROR(VLOOKUP(G37,[1]Ark1!#REF!,12,FALSE),\"\")","v":""},{"$f":"IFERROR(VLOOKUP(H37,[1]Ark1!#REF!,12,FALSE),\"\")","v":""},{"$f":"IFERROR(VLOOKUP(I37,[1]Ark1!#REF!,12,FALSE),\"\")","v":""},{"$f":"IFERROR(VLOOKUP(J37,[1]Ark1!#REF!,12,FALSE),\"\")","v":""},{"$f":"IFERROR(VLOOKUP(K37,[1]Ark1!#REF!,12,FALSE),\"\")","v":""},{"$f":"IFERROR(VLOOKUP(L37,[1]Ark1!#REF!,12,FALSE),\"\")","v":""},{"$f":"IFERROR(VLOOKUP(M37,[1]Ark1!#REF!,12,FALSE),\"\")","v":""},{"$f":"IFERROR(VLOOKUP(N37,[1]Ark1!#REF!,12,FALSE),\"\")","v":""},{"$f":"IFERROR(VLOOKUP(O37,[1]Ark1!#REF!,12,FALSE),\"\")","v":""},{"$f":"IFERROR(VLOOKUP(P37,[1]Ark1!#REF!,12,FALSE),\"\")","v":""},{"$f":"IFERROR(VLOOKUP(Q37,[1]Ark1!#REF!,12,FALSE),\"\")","v":""},{"$f":"IFERROR(VLOOKUP(R37,[1]Ark1!#REF!,12,FALSE),\"\")","v":""},{"$f":"IFERROR(VLOOKUP(S37,[1]Ark1!#REF!,12,FALSE),\"\")","v":""},{"$f":"IFERROR(VLOOKUP(T37,[1]Ark1!#REF!,12,FALSE),\"\")","v":""},{"$f":"IFERROR(VLOOKUP(U37,[1]Ark1!#REF!,12,FALSE),\"\")","v":""},{"$f":"IFERROR(VLOOKUP(V37,[1]Ark1!#REF!,12,FALSE),\"\")","v":""},{"$f":"IFERROR(VLOOKUP(W37,[1]Ark1!#REF!,12,FALSE),\"\")","v":""},{"$f":"IFERROR(VLOOKUP(X37,[1]Ark1!#REF!,12,FALSE),\"\")","v":""},{"$f":"IF(D37=\"\",\"\",HLOOKUP($C$6,'Beregning gr. 2'!F1:P52,D37+3))","v":7.2467051274969503},{"$f":"IFERROR(E37*AD37*C6,\"\")*E6","v":0},null,7.25]
[null,null,null,25,null,{"$f":"IFERROR(VLOOKUP(D38,'Beregning gr. 2'!F1:P52,11,FALSE),\"\")","v":"m²"},{"$f":"IFERROR(VLOOKUP(D38,'Beregning gr. 2'!F1:P52,10,FALSE),\"\")","v":"Afdækning med masonit"},{"$f":"IFERROR(VLOOKUP(F38,[1]Ark1!#REF!,12,FALSE),\"\")","v":""},{"$f":"IFERROR(VLOOKUP(G38,[1]Ark1!#REF!,12,FALSE),\"\")","v":""},{"$f":"IFERROR(VLOOKUP(H38,[1]Ark1!#REF!,12,FALSE),\"\")","v":""},{"$f":"IFERROR(VLOOKUP(I38,[1]Ark1!#REF!,12,FALSE),\"\")","v":""},{"$f":"IFERROR(VLOOKUP(J38,[1]Ark1!#REF!,12,FALSE),\"\")","v":""},{"$f":"IFERROR(VLOOKUP(K38,[1]Ark1!#REF!,12,FALSE),\"\")","v":""},{"$f":"IFERROR(VLOOKUP(L38,[1]Ark1!#REF!,12,FALSE),\"\")","v":""},{"$f":"IFERROR(VLOOKUP(M38,[1]Ark1!#REF!,12,FALSE),\"\")","v":""},{"$f":"IFERROR(VLOOKUP(N38,[1]Ark1!#REF!,12,FALSE),\"\")","v":""},{"$f":"IFERROR(VLOOKUP(O38,[1]Ark1!#REF!,12,FALSE),\"\")","v":""},{"$f":"IFERROR(VLOOKUP(P38,[1]Ark1!#REF!,12,FALSE),\"\")","v":""},{"$f":"IFERROR(VLOOKUP(Q38,[1]Ark1!#REF!,12,FALSE),\"\")","v":""},{"$f":"IFERROR(VLOOKUP(R38,[1]Ark1!#REF!,12,FALSE),\"\")","v":""},{"$f":"IFERROR(VLOOKUP(S38,[1]Ark1!#REF!,12,FALSE),\"\")","v":""},{"$f":"IFERROR(VLOOKUP(T38,[1]Ark1!#REF!,12,FALSE),\"\")","v":""},{"$f":"IFERROR(VLOOKUP(U38,[1]Ark1!#REF!,12,FALSE),\"\")","v":""},{"$f":"IFERROR(VLOOKUP(V38,[1]Ark1!#REF!,12,FALSE),\"\")","v":""},{"$f":"IFERROR(VLOOKUP(W38,[1]Ark1!#REF!,12,FALSE),\"\")","v":""},{"$f":"IFERROR(VLOOKUP(X38,[1]Ark1!#REF!,12,FALSE),\"\")","v":""},{"$f":"IF(D38=\"\",\"\",HLOOKUP($C$6,'Beregning gr. 2'!F1:P52,D38+3))","v":21.86335866697209},{"$f":"IFERROR(E38*AD38*C6,\"\")*E6","v":0},null,21.86]
[null,null,null,26,null,{"$f":"IFERROR(VLOOKUP(D39,'Beregning gr. 2'!F1:P52,11,FALSE),\"\")","v":"m²"},{"$f":"IFERROR(VLOOKUP(D39,'Beregning gr. 2'!F1:P52,10,FALSE),\"\")","v":"Aftagning af masonitafdækning"},{"$f":"IFERROR(VLOOKUP(F39,[1]Ark1!#REF!,12,FALSE),\"\")","v":""},{"$f":"IFERROR(VLOOKUP(G39,[1]Ark1!#REF!,12,FALSE),\"\")","v":""},{"$f":"IFERROR(VLOOKUP(H39,[1]Ark1!#REF!,12,FALSE),\"\")","v":""},{"$f":"IFERROR(VLOOKUP(I39,[1]Ark1!#REF!,12,FALSE),\"\")","v":""},{"$f":"IFERROR(VLOOKUP(J39,[1]Ark1!#REF!,12,FALSE),\"\")","v":""},{"$f":"IFERROR(VLOOKUP(K39,[1]Ark1!#REF!,12,FALSE),\"\")","v":""},{"$f":"IFERROR(VLOOKUP(L39,[1]Ark1!#REF!,12,FALSE),\"\")","v":""},{"$f":"IFERROR(VLOOKUP(M39,[1]Ark1!#REF!,12,FALSE),\"\")","v":""},{"$f":"IFERROR(VLOOKUP(N39,[1]Ark1!#REF!,12,FALSE),\"\")","v":""},{"$f":"IFERROR(VLOOKUP(O39,[1]Ark1!#REF!,12,FALSE),\"\")","v":""},{"$f":"IFERROR(VLOOKUP(P39,[1]Ark1!#REF!,12,FALSE),\"\")","v":""},{"$f":"IFERROR(VLOOKUP(Q39,[1]Ark1!#REF!,12,FALSE),\"\")","v":""},{"$f":"IFERROR(VLOOKUP(R39,[1]Ark1!#REF!,12,FALSE),\"\")","v":""},{"$f":"IFERROR(VLOOKUP(S39,[1]Ark1!#REF!,12,FALSE),\"\")","v":""},{"$f":"IFERROR(VLOOKUP(T39,[1]Ark1!#REF!,12,FALSE),\"\")","v":""},{"$f":"IFERROR(VLOOKUP(U39,[1]Ark1!#REF!,12,FALSE),\"\")","v":""},{"$f":"IFERROR(VLOOKUP(V39,[1]Ark1!#REF!,12,FALSE),\"\")","v":""},{"$f":"IFERROR(VLOOKUP(W39,[1]Ark1!#REF!,12,FALSE),\"\")","v":""},{"$f":"IFERROR(VLOOKUP(X39,[1]Ark1!#REF!,12,FALSE),\"\")","v":""},{"$f":"IF(D39=\"\",\"\",HLOOKUP($C$6,'Beregning gr. 2'!F1:P52,D39+3))","v":14.702923838612008},{"$f":"IFERROR(E39*AD39*C6,\"\")*E6","v":0},null,14.7]
[null,null,null,27,null,{"$f":"IFERROR(VLOOKUP(D40,'Beregning gr. 2'!F1:P52,11,FALSE),\"\")","v":"m"},{"$f":"IFERROR(VLOOKUP(D40,'Beregning gr. 2'!F1:P52,10,FALSE),\"\")","v":"Primning for hulkehl"},{"$f":"IFERROR(VLOOKUP(F40,[1]Ark1!#REF!,12,FALSE),\"\")","v":""},{"$f":"IFERROR(VLOOKUP(G40,[1]Ark1!#REF!,12,FALSE),\"\")","v":""},{"$f":"IFERROR(VLOOKUP(H40,[1]Ark1!#REF!,12,FALSE),\"\")","v":""},{"$f":"IFERROR(VLOOKUP(I40,[1]Ark1!#REF!,12,FALSE),\"\")","v":""},{"$f":"IFERROR(VLOOKUP(J40,[1]Ark1!#REF!,12,FALSE),\"\")","v":""},{"$f":"IFERROR(VLOOKUP(K40,[1]Ark1!#REF!,12,FALSE),\"\")","v":""},{"$f":"IFERROR(VLOOKUP(L40,[1]Ark1!#REF!,12,FALSE),\"\")","v":""},{"$f":"IFERROR(VLOOKUP(M40,[1]Ark1!#REF!,12,FALSE),\"\")","v":""},{"$f":"IFERROR(VLOOKUP(N40,[1]Ark1!#REF!,12,FALSE),\"\")","v":""},{"$f":"IFERROR(VLOOKUP(O40,[1]Ark1!#REF!,12,FALSE),\"\")","v":""},{"$f":"IFERROR(VLOOKUP(P40,[1]Ark1!#REF!,12,FALSE),\"\")","v":""},{"$f":"IFERROR(VLOOKUP(Q40,[1]Ark1!#REF!,12,FALSE),\"\")","v":""},{"$f":"IFERROR(VLOOKUP(R40,[1]Ark1!#REF!,12,FALSE),\"\")","v":""},{"$f":"IFERROR(VLOOKUP(S40,[1]Ark1!#REF!,12,FALSE),\"\")","v":""},{"$f":"IFERROR(VLOOKUP(T40,[1]Ark1!#REF!,12,FALSE),\"\")","v":""},{"$f":"IFERROR(VLOOKUP(U40,[1]Ark1!#REF!,12,FALSE),\"\")","v":""},{"$f":"IFERROR(VLOOKUP(V40,[1]Ark1!#REF!,12,FALSE),\"\")","v":""},{"$f":"IFERROR(VLOOKUP(W40,[1]Ark1!#REF!,12,FALSE),\"\")","v":""},{"$f":"IFERROR(VLOOKUP(X40,[1]Ark1!#REF!,12,FALSE),\"\")","v":""},{"$f":"IF(D40=\"\",\"\",HLOOKUP($C$6,'Beregning gr. 2'!F1:P52,D40+3))","v":2.3691542279690894},{"$f":"IFERROR(E40*AD40,\"\")*E6","v":0},null,2.37]
[null,null,null,28,null,{"$f":"IFERROR(VLOOKUP(D41,'Beregning gr. 2'!F1:P52,2,FALSE),\"\")","v":7.2100000000000011E-2},{"$f":"IFERROR(VLOOKUP(D41,'Beregning gr. 2'!F1:P52,10,FALSE),\"\")","v":"Tillæg pr. påbegyndt cm over 15 cm"},{"$f":"IFERROR(VLOOKUP(F41,[1]Ark1!#REF!,12,FALSE),\"\")","v":""},{"$f":"IFERROR(VLOOKUP(G41,[1]Ark1!#REF!,12,FALSE),\"\")","v":""},{"$f":"IFERROR(VLOOKUP(H41,[1]Ark1!#REF!,12,FALSE),\"\")","v":""},{"$f":"IFERROR(VLOOKUP(I41,[1]Ark1!#REF!,12,FALSE),\"\")","v":""},{"$f":"IFERROR(VLOOKUP(J41,[1]Ark1!#REF!,12,FALSE),\"\")","v":""},{"$f":"IFERROR(VLOOKUP(K41,[1]Ark1!#REF!,12,FALSE),\"\")","v":""},{"$f":"IFERROR(VLOOKUP(L41,[1]Ark1!#REF!,12,FALSE),\"\")","v":""},{"$f":"IFERROR(VLOOKUP(M41,[1]Ark1!#REF!,12,FALSE),\"\")","v":""},{"$f":"IFERROR(VLOOKUP(N41,[1]Ark1!#REF!,12,FALSE),\"\")","v":""},{"$f":"IFERROR(VLOOKUP(O41,[1]Ark1!#REF!,12,FALSE),\"\")","v":""},{"$f":"IFERROR(VLOOKUP(P41,[1]Ark1!#REF!,12,FALSE),\"\")","v":""},{"$f":"IFERROR(VLOOKUP(Q41,[1]Ark1!#REF!,12,FALSE),\"\")","v":""},{"$f":"IFERROR(VLOOKUP(R41,[1]Ark1!#REF!,12,FALSE),\"\")","v":""},{"$f":"IFERROR(VLOOKUP(S41,[1]Ark1!#REF!,12,FALSE),\"\")","v":""},{"$f":"IFERROR(VLOOKUP(T41,[1]Ark1!#REF!,12,FALSE),\"\")","v":""},{"$f":"IFERROR(VLOOKUP(U41,[1]Ark1!#REF!,12,FALSE),\"\")","v":""},{"$f":"IFERROR(VLOOKUP(V41,[1]Ark1!#REF!,12,FALSE),\"\")","v":""},{"$f":"IFERROR(VLOOKUP(W41,[1]Ark1!#REF!,12,FALSE),\"\")","v":""},{"$f":"IFERROR(VLOOKUP(X41,[1]Ark1!#REF!,12,FALSE),\"\")","v":""},{"$f":"SUM(AA28*F41)*E41","v":0},{"$f":"IFERROR(E28*AD41,\"\")*E6","v":0},null,0]
[null,null,null,29,null,{"$f":"IFERROR(VLOOKUP(D42,'Beregning gr. 2'!F1:P52,11,FALSE),\"\")","v":"m"},{"$f":"IFERROR(VLOOKUP(D42,'Beregning gr. 2'!F1:P52,10,FALSE),\"\")","v":"Skæring af overkant på hulkehl"},{"$f":"IFERROR(VLOOKUP(F42,[1]Ark1!#REF!,12,FALSE),\"\")","v":""},{"$f":"IFERROR(VLOOKUP(G42,[1]Ark1!#REF!,12,FALSE),\"\")","v":""},{"$f":"IFERROR(VLOOKUP(H42,[1]Ark1!#REF!,12,FALSE),\"\")","v":""},{"$f":"IFERROR(VLOOKUP(I42,[1]Ark1!#REF!,12,FALSE),\"\")","v":""},{"$f":"IFERROR(VLOOKUP(J42,[1]Ark1!#REF!,12,FALSE),\"\")","v":""},{"$f":"IFERROR(VLOOKUP(K42,[1]Ark1!#REF!,12,FALSE),\"\")","v":""},{"$f":"IFERROR(VLOOKUP(L42,[1]Ark1!#REF!,12,FALSE),\"\")","v":""},{"$f":"IFERROR(VLOOKUP(M42,[1]Ark1!#REF!,12,FALSE),\"\")","v":""},{"$f":"IFERROR(VLOOKUP(N42,[1]Ark1!#REF!,12,FALSE),\"\")","v":""},{"$f":"IFERROR(VLOOKUP(O42,[1]Ark1!#REF!,12,FALSE),\"\")","v":""},{"$f":"IFERROR(VLOOKUP(P42,[1]Ark1!#REF!,12,FALSE),\"\")","v":""},{"$f":"IFERROR(VLOOKUP(Q42,[1]Ark1!#REF!,12,FALSE),\"\")","v":""},{"$f":"IFERROR(VLOOKUP(R42,[1]Ark1!#REF!,12,FALSE),\"\")","v":""},{"$f":"IFERROR(VLOOKUP(S42,[1]Ark1!#REF!,12,FALSE),\"\")","v":""},{"$f":"IFERROR(VLOOKUP(T42,[1]Ark1!#REF!,12,FALSE),\"\")","v":""},{"$f":"IFERROR(VLOOKUP(U42,[1]Ark1!#REF!,12,FALSE),\"\")","v":""},{"$f":"IFERROR(VLOOKUP(V42,[1]Ark1!#REF!,12,FALSE),\"\")","v":""},{"$f":"IFERROR(VLOOKUP(W42,[1]Ark1!#REF!,12,FALSE),\"\")","v":""},{"$f":"IFERROR(VLOOKUP(X42,[1]Ark1!#REF!,12,FALSE),\"\")","v":""},{"$f":"IF(D42=\"\",\"\",HLOOKUP($C$6,'Beregning gr. 2'!F1:P52,D42+3))","v":7.9958955193956776},{"$f":"IFERROR(E42*AD42,\"\")*E6","v":0},null,8]
[null,null,null,30,null,{"$f":"IFERROR(VLOOKUP(D43,'Beregning gr. 2'!F1:P52,11,FALSE),\"\")","v":"m"},{"$f":"IFERROR(VLOOKUP(D43,'Beregning gr. 2'!F1:P52,10,FALSE),\"\")","v":"Tillæg for hulkehl på færdigbehandlet væg"},{"$f":"IFERROR(VLOOKUP(F43,[1]Ark1!#REF!,12,FALSE),\"\")","v":""},{"$f":"IFERROR(VLOOKUP(G43,[1]Ark1!#REF!,12,FALSE),\"\")","v":""},{"$f":"IFERROR(VLOOKUP(H43,[1]Ark1!#REF!,12,FALSE),\"\")","v":""},{"$f":"IFERROR(VLOOKUP(I43,[1]Ark1!#REF!,12,FALSE),\"\")","v":""},{"$f":"IFERROR(VLOOKUP(J43,[1]Ark1!#REF!,12,FALSE),\"\")","v":""},{"$f":"IFERROR(VLOOKUP(K43,[1]Ark1!#REF!,12,FALSE),\"\")","v":""},{"$f":"IFERROR(VLOOKUP(L43,[1]Ark1!#REF!,12,FALSE),\"\")","v":""},{"$f":"IFERROR(VLOOKUP(M43,[1]Ark1!#REF!,12,FALSE),\"\")","v":""},{"$f":"IFERROR(VLOOKUP(N43,[1]Ark1!#REF!,12,FALSE),\"\")","v":""},{"$f":"IFERROR(VLOOKUP(O43,[1]Ark1!#REF!,12,FALSE),\"\")","v":""},{"$f":"IFERROR(VLOOKUP(P43,[1]Ark1!#REF!,12,FALSE),\"\")","v":""},{"$f":"IFERROR(VLOOKUP(Q43,[1]Ark1!#REF!,12,FALSE),\"\")","v":""},{"$f":"IFERROR(VLOOKUP(R43,[1]Ark1!#REF!,12,FALSE),\"\")","v":""},{"$f":"IFERROR(VLOOKUP(S43,[1]Ark1!#REF!,12,FALSE),\"\")","v":""},{"$f":"IFERROR(VLOOKUP(T43,[1]Ark1!#REF!,12,FALSE),\"\")","v":""},{"$f":"IFERROR(VLOOKUP(U43,[1]Ark1!#REF!,12,FALSE),\"\")","v":""},{"$f":"IFERROR(VLOOKUP(V43,[1]Ark1!#REF!,12,FALSE),\"\")","v":""},{"$f":"IFERROR(VLOOKUP(W43,[1]Ark1!#REF!,12,FALSE),\"\")","v":""},{"$f":"IFERROR(VLOOKUP(X43,[1]Ark1!#REF!,12,FALSE),\"\")","v":""},{"$f":"IF(D43=\"\",\"\",HLOOKUP($C$6,'Beregning gr. 2'!F1:P52,D43+3))","v":6.2190298484188604},{"$f":"IFERROR(E43*AD43,\"\")*E6","v":0},null,6.22]
[null,null,null,31,null,{"$f":"IFERROR(VLOOKUP(D44,'Beregning gr. 2'!F1:P52,11,FALSE),\"\")","v":"stk"},{"$f":"IFERROR(VLOOKUP(D44,'Beregning gr. 2'!F1:P52,10,FALSE),\"\")","v":"Spartling af lokalfald"},{"$f":"IFERROR(VLOOKUP(F44,[1]Ark1!#REF!,12,FALSE),\"\")","v":""},{"$f":"IFERROR(VLOOKUP(G44,[1]Ark1!#REF!,12,FALSE),\"\")","v":""},{"$f":"IFERROR(VLOOKUP(H44,[1]Ark1!#REF!,12,FALSE),\"\")","v":""},{"$f":"IFERROR(VLOOKUP(I44,[1]Ark1!#REF!,12,FALSE),\"\")","v":""},{"$f":"IFERROR(VLOOKUP(J44,[1]Ark1!#REF!,12,FALSE),\"\")","v":""},{"$f":"IFERROR(VLOOKUP(K44,[1]Ark1!#REF!,12,FALSE),\"\")","v":""},{"$f":"IFERROR(VLOOKUP(L44,[1]Ark1!#REF!,12,FALSE),\"\")","v":""},{"$f":"IFERROR(VLOOKUP(M44,[1]Ark1!#REF!,12,FALSE),\"\")","v":""},{"$f":"IFERROR(VLOOKUP(N44,[1]Ark1!#REF!,12,FALSE),\"\")","v":""},{"$f":"IFERROR(VLOOKUP(O44,[1]Ark1!#REF!,12,FALSE),\"\")","v":""},{"$f":"IFERROR(VLOOKUP(P44,[1]Ark1!#REF!,12,FALSE),\"\")","v":""},{"$f":"IFERROR(VLOOKUP(Q44,[1]Ark1!#REF!,12,FALSE),\"\")","v":""},{"$f":"IFERROR(VLOOKUP(R44,[1]Ark1!#REF!,12,FALSE),\"\")","v":""},{"$f":"IFERROR(VLOOKUP(S44,[1]Ark1!#REF!,12,FALSE),\"\")","v":""},{"$f":"IFERROR(VLOOKUP(T44,[1]Ark1!#REF!,12,FALSE),\"\")","v":""},{"$f":"IFERROR(VLOOKUP(U44,[1]Ark1!#REF!,12,FALSE),\"\")","v":""},{"$f":"IFERROR(VLOOKUP(V44,[1]Ark1!#REF!,12,FALSE),\"\")","v":""},{"$f":"IFERROR(VLOOKUP(W44,[1]Ark1!#REF!,12,FALSE),\"\")","v":""},{"$f":"IFERROR(VLOOKUP(X44,[1]Ark1!#REF!,12,FALSE),\"\")","v":""},{"$f":"IF(D44=\"\",\"\",HLOOKUP($C$6,'Beregning gr. 2'!F1:P52,D44+3))","v":343.52736305551798},{"$f":"IFERROR(E44*AD44,\"\")*E6","v":0},null,343.53]
[null,null,null,32,null,{"$f":"IFERROR(VLOOKUP(D45,'Beregning gr. 2'!F1:P52,11,FALSE),\"\")","v":"stk"},{"$f":"IFERROR(VLOOKUP(D45,'Beregning gr. 2'!F1:P52,10,FALSE),\"\")","v":"Spartling af lokalfald, afgrænset af 3 vægge"},{"$f":"IFERROR(VLOOKUP(F45,[1]Ark1!#REF!,12,FALSE),\"\")","v":""},{"$f":"IFERROR(VLOOKUP(G45,[1]Ark1!#REF!,12,FALSE),\"\")","v":""},{"$f":"IFERROR(VLOOKUP(H45,[1]Ark1!#REF!,12,FALSE),\"\")","v":""},{"$f":"IFERROR(VLOOKUP(I45,[1]Ark1!#REF!,12,FALSE),\"\")","v":""},{"$f":"IFERROR(VLOOKUP(J45,[1]Ark1!#REF!,12,FALSE),\"\")","v":""},{"$f":"IFERROR(VLOOKUP(K45,[1]Ark1!#REF!,12,FALSE),\"\")","v":""},{"$f":"IFERROR(VLOOKUP(L45,[1]Ark1!#REF!,12,FALSE),\"\")","v":""},{"$f":"IFERROR(VLOOKUP(M45,[1]Ark1!#REF!,12,FALSE),\"\")","v":""},{"$f":"IFERROR(VLOOKUP(N45,[1]Ark1!#REF!,12,FALSE),\"\")","v":""},{"$f":"IFERROR(VLOOKUP(O45,[1]Ark1!#REF!,12,FALSE),\"\")","v":""},{"$f":"IFERROR(VLOOKUP(P45,[1]Ark1!#REF!,12,FALSE),\"\")","v":""},{"$f":"IFERROR(VLOOKUP(Q45,[1]Ark1!#REF!,12,FALSE),\"\")","v":""},{"$f":"IFERROR(VLOOKUP(R45,[1]Ark1!#REF!,12,FALSE),\"\")","v":""},{"$f":"IFERROR(VLOOKUP(S45,[1]Ark1!#REF!,12,FALSE),\"\")","v":""},{"$f":"IFERROR(VLOOKUP(T45,[1]Ark1!#REF!,12,FALSE),\"\")","v":""},{"$f":"IFERROR(VLOOKUP(U45,[1]Ark1!#REF!,12,FALSE),\"\")","v":""},{"$f":"IFERROR(VLOOKUP(V45,[1]Ark1!#REF!,12,FALSE),\"\")","v":""},{"$f":"IFERROR(VLOOKUP(W45,[1]Ark1!#REF!,12,FALSE),\"\")","v":""},{"$f":"IFERROR(VLOOKUP(X45,[1]Ark1!#REF!,12,FALSE),\"\")","v":""},{"$f":"IF(D45=\"\",\"\",HLOOKUP($C$6,'Beregning gr. 2'!F1:P52,D45+3))","v":400.97935308376839},{"$f":"IFERROR(E45*AD45,\"\")*E6","v":0},null,400.98]
[null,null,null,33,null,{"$f":"IFERROR(VLOOKUP(D46,'Beregning gr. 2'!F1:P52,11,FALSE),\"\")","v":"m"},{"$f":"IFERROR(VLOOKUP(D46,'Beregning gr. 2'!F1:P52,10,FALSE),\"\")","v":"Spartling af gipsvæg"},{"$f":"IFERROR(VLOOKUP(F46,[1]Ark1!#REF!,12,FALSE),\"\")","v":""},{"$f":"IFERROR(VLOOKUP(G46,[1]Ark1!#REF!,12,FALSE),\"\")","v":""},{"$f":"IFERROR(VLOOKUP(H46,[1]Ark1!#REF!,12,FALSE),\"\")","v":""},{"$f":"IFERROR(VLOOKUP(I46,[1]Ark1!#REF!,12,FALSE),\"\")","v":""},{"$f":"IFERROR(VLOOKUP(J46,[1]Ark1!#REF!,12,FALSE),\"\")","v":""},{"$f":"IFERROR(VLOOKUP(K46,[1]Ark1!#REF!,12,FALSE),\"\")","v":""},{"$f":"IFERROR(VLOOKUP(L46,[1]Ark1!#REF!,12,FALSE),\"\")","v":""},{"$f":"IFERROR(VLOOKUP(M46,[1]Ark1!#REF!,12,FALSE),\"\")","v":""},{"$f":"IFERROR(VLOOKUP(N46,[1]Ark1!#REF!,12,FALSE),\"\")","v":""},{"$f":"IFERROR(VLOOKUP(O46,[1]Ark1!#REF!,12,FALSE),\"\")","v":""},{"$f":"IFERROR(VLOOKUP(P46,[1]Ark1!#REF!,12,FALSE),\"\")","v":""},{"$f":"IFERROR(VLOOKUP(Q46,[1]Ark1!#REF!,12,FALSE),\"\")","v":""},{"$f":"IFERROR(VLOOKUP(R46,[1]Ark1!#REF!,12,FALSE),\"\")","v":""},{"$f":"IFERROR(VLOOKUP(S46,[1]Ark1!#REF!,12,FALSE),\"\")","v":""},{"$f":"IFERROR(VLOOKUP(T46,[1]Ark1!#REF!,12,FALSE),\"\")","v":""},{"$f":"IFERROR(VLOOKUP(U46,[1]Ark1!#REF!,12,FALSE),\"\")","v":""},{"$f":"IFERROR(VLOOKUP(V46,[1]Ark1!#REF!,12,FALSE),\"\")","v":""},{"$f":"IFERROR(VLOOKUP(W46,[1]Ark1!#REF!,12,FALSE),\"\")","v":""},{"$f":"IFERROR(VLOOKUP(X46,[1]Ark1!#REF!,12,FALSE),\"\")","v":""},{"$f":"IF(D46=\"\",\"\",HLOOKUP($C$6,'Beregning gr. 2'!F1:P52,D46+3))","v":8.5881840763879502},{"$f":"IFERROR(E46*AD46,\"\")*E6","v":0},null,8.59]
[null,null,null,34,null,{"$f":"IFERROR(VLOOKUP(D47,'Beregning gr. 2'!F1:P52,11,FALSE),\"\")","v":"m"},{"$f":"IFERROR(VLOOKUP(D47,'Beregning gr. 2'!F1:P52,10,FALSE),\"\")","v":"Spartling af murstensvæg"},{"$f":"IFERROR(VLOOKUP(F47,[1]Ark1!#REF!,12,FALSE),\"\")","v":""},{"$f":"IFERROR(VLOOKUP(G47,[1]Ark1!#REF!,12,FALSE),\"\")","v":""},{"$f":"IFERROR(VLOOKUP(H47,[1]Ark1!#REF!,12,FALSE),\"\")","v":""},{"$f":"IFERROR(VLOOKUP(I47,[1]Ark1!#REF!,12,FALSE),\"\")","v":""},{"$f":"IFERROR(VLOOKUP(J47,[1]Ark1!#REF!,12,FALSE),\"\")","v":""},{"$f":"IFERROR(VLOOKUP(K47,[1]Ark1!#REF!,12,FALSE),\"\")","v":""},{"$f":"IFERROR(VLOOKUP(L47,[1]Ark1!#REF!,12,FALSE),\"\")","v":""},{"$f":"IFERROR(VLOOKUP(M47,[1]Ark1!#REF!,12,FALSE),\"\")","v":""},{"$f":"IFERROR(VLOOKUP(N47,[1]Ark1!#REF!,12,FALSE),\"\")","v":""},{"$f":"IFERROR(VLOOKUP(O47,[1]Ark1!#REF!,12,FALSE),\"\")","v":""},{"$f":"IFERROR(VLOOKUP(P47,[1]Ark1!#REF!,12,FALSE),\"\")","v":""},{"$f":"IFERROR(VLOOKUP(Q47,[1]Ark1!#REF!,12,FALSE),\"\")","v":""},{"$f":"IFERROR(VLOOKUP(R47,[1]Ark1!#REF!,12,FALSE),\"\")","v":""},{"$f":"IFERROR(VLOOKUP(S47,[1]Ark1!#REF!,12,FALSE),\"\")","v":""},{"$f":"IFERROR(VLOOKUP(T47,[1]Ark1!#REF!,12,FALSE),\"\")","v":""},{"$f":"IFERROR(VLOOKUP(U47,[1]Ark1!#REF!,12,FALSE),\"\")","v":""},{"$f":"IFERROR(VLOOKUP(V47,[1]Ark1!#REF!,12,FALSE),\"\")","v":""},{"$f":"IFERROR(VLOOKUP(W47,[1]Ark1!#REF!,12,FALSE),\"\")","v":""},{"$f":"IFERROR(VLOOKUP(X47,[1]Ark1!#REF!,12,FALSE),\"\")","v":""},{"$f":"IF(D47=\"\",\"\",HLOOKUP($C$6,'Beregning gr. 2'!F1:P52,D47+3))","v":17.1763681527759},{"$f":"IFERROR(E47*AD47,\"\")*E6","v":0},null,17.18]
[null,null,null,35,null,{"$f":"IFERROR(VLOOKUP(D48,'Beregning gr. 2'!F1:P52,11,FALSE),\"\")","v":"m"},{"$f":"IFERROR(VLOOKUP(D48,'Beregning gr. 2'!F1:P52,10,FALSE),\"\")","v":"T.o.m. Ø160 mm afløb"},{"$f":"IFERROR(VLOOKUP(F48,[1]Ark1!#REF!,12,FALSE),\"\")","v":""},{"$f":"IFERROR(VLOOKUP(G48,[1]Ark1!#REF!,12,FALSE),\"\")","v":""},{"$f":"IFERROR(VLOOKUP(H48,[1]Ark1!#REF!,12,FALSE),\"\")","v":""},{"$f":"IFERROR(VLOOKUP(I48,[1]Ark1!#REF!,12,FALSE),\"\")","v":""},{"$f":"IFERROR(VLOOKUP(J48,[1]Ark1!#REF!,12,FALSE),\"\")","v":""},{"$f":"IFERROR(VLOOKUP(K48,[1]Ark1!#REF!,12,FALSE),\"\")","v":""},{"$f":"IFERROR(VLOOKUP(L48,[1]Ark1!#REF!,12,FALSE),\"\")","v":""},{"$f":"IFERROR(VLOOKUP(M48,[1]Ark1!#REF!,12,FALSE),\"\")","v":""},{"$f":"IFERROR(VLOOKUP(N48,[1]Ark1!#REF!,12,FALSE),\"\")","v":""},{"$f":"IFERROR(VLOOKUP(O48,[1]Ark1!#REF!,12,FALSE),\"\")","v":""},{"$f":"IFERROR(VLOOKUP(P48,[1]Ark1!#REF!,12,FALSE),\"\")","v":""},{"$f":"IFERROR(VLOOKUP(Q48,[1]Ark1!#REF!,12,FALSE),\"\")","v":""},{"$f":"IFERROR(VLOOKUP(R48,[1]Ark1!#REF!,12,FALSE),\"\")","v":""},{"$f":"IFERROR(VLOOKUP(S48,[1]Ark1!#REF!,12,FALSE),\"\")","v":""},{"$f":"IFERROR(VLOOKUP(T48,[1]Ark1!#REF!,12,FALSE),\"\")","v":""},{"$f":"IFERROR(VLOOKUP(U48,[1]Ark1!#REF!,12,FALSE),\"\")","v":""},{"$f":"IFERROR(VLOOKUP(V48,[1]Ark1!#REF!,12,FALSE),\"\")","v":""},{"$f":"IFERROR(VLOOKUP(W48,[1]Ark1!#REF!,12,FALSE),\"\")","v":""},{"$f":"IFERROR(VLOOKUP(X48,[1]Ark1!#REF!,12,FALSE),\"\")","v":""},{"$f":"IF(D48=\"\",\"\",HLOOKUP($C$6,'Beregning gr. 2'!F1:P52,D48+3))","v":110.16567160056267},{"$f":"IFERROR(E48*AD48,\"\")*E6","v":0},null,110.17]
[null,null,null,36,null,{"$f":"IFERROR(VLOOKUP(D49,'Beregning gr. 2'!F1:P52,11,FALSE),\"\")","v":"cm"},{"$f":"IFERROR(VLOOKUP(D49,'Beregning gr. 2'!F1:P52,10,FALSE),\"\")","v":"Firkantede gulvafløb"},{"$f":"IFERROR(VLOOKUP(F49,[1]Ark1!#REF!,12,FALSE),\"\")","v":""},{"$f":"IFERROR(VLOOKUP(G49,[1]Ark1!#REF!,12,FALSE),\"\")","v":""},{"$f":"IFERROR(VLOOKUP(H49,[1]Ark1!#REF!,12,FALSE),\"\")","v":""},{"$f":"IFERROR(VLOOKUP(I49,[1]Ark1!#REF!,12,FALSE),\"\")","v":""},{"$f":"IFERROR(VLOOKUP(J49,[1]Ark1!#REF!,12,FALSE),\"\")","v":""},{"$f":"IFERROR(VLOOKUP(K49,[1]Ark1!#REF!,12,FALSE),\"\")","v":""},{"$f":"IFERROR(VLOOKUP(L49,[1]Ark1!#REF!,12,FALSE),\"\")","v":""},{"$f":"IFERROR(VLOOKUP(M49,[1]Ark1!#REF!,12,FALSE),\"\")","v":""},{"$f":"IFERROR(VLOOKUP(N49,[1]Ark1!#REF!,12,FALSE),\"\")","v":""},{"$f":"IFERROR(VLOOKUP(O49,[1]Ark1!#REF!,12,FALSE),\"\")","v":""},{"$f":"IFERROR(VLOOKUP(P49,[1]Ark1!#REF!,12,FALSE),\"\")","v":""},{"$f":"IFERROR(VLOOKUP(Q49,[1]Ark1!#REF!,12,FALSE),\"\")","v":""},{"$f":"IFERROR(VLOOKUP(R49,[1]Ark1!#REF!,12,FALSE),\"\")","v":""},{"$f":"IFERROR(VLOOKUP(S49,[1]Ark1!#REF!,12,FALSE),\"\")","v":""},{"$f":"IFERROR(VLOOKUP(T49,[1]Ark1!#REF!,12,FALSE),\"\")","v":""},{"$f":"IFERROR(VLOOKUP(U49,[1]Ark1!#REF!,12,FALSE),\"\")","v":""},{"$f":"IFERROR(VLOOKUP(V49,[1]Ark1!#REF!,12,FALSE),\"\")","v":""},{"$f":"IFERROR(VLOOKUP(W49,[1]Ark1!#REF!,12,FALSE),\"\")","v":""},{"$f":"IFERROR(VLOOKUP(X49,[1]Ark1!#REF!,12,FALSE),\"\")","v":""},{"$f":"IF(D49=\"\",\"\",HLOOKUP($C$6,'Beregning gr. 2'!F1:P52,D49+3))","v":1.1845771139845447},{"$f":"IFERROR(E49*AD49,\"\")*E6","v":0},null,1.18]
[null,null,null,37,null,{"$f":"IFERROR(VLOOKUP(D50,'Beregning gr. 2'!F1:P52,11,FALSE),\"\")","v":"stk"},{"$f":"IFERROR(VLOOKUP(D50,'Beregning gr. 2'!F1:P52,10,FALSE),\"\")","v":"Rørkraver/manchet"},{"$f":"IFERROR(VLOOKUP(F50,[1]Ark1!#REF!,12,FALSE),\"\")","v":""},{"$f":"IFERROR(VLOOKUP(G50,[1]Ark1!#REF!,12,FALSE),\"\")","v":""},{"$f":"IFERROR(VLOOKUP(H50,[1]Ark1!#REF!,12,FALSE),\"\")","v":""},{"$f":"IFERROR(VLOOKUP(I50,[1]Ark1!#REF!,12,FALSE),\"\")","v":""},{"$f":"IFERROR(VLOOKUP(J50,[1]Ark1!#REF!,12,FALSE),\"\")","v":""},{"$f":"IFERROR(VLOOKUP(K50,[1]Ark1!#REF!,12,FALSE),\"\")","v":""},{"$f":"IFERROR(VLOOKUP(L50,[1]Ark1!#REF!,12,FALSE),\"\")","v":""},{"$f":"IFERROR(VLOOKUP(M50,[1]Ark1!#REF!,12,FALSE),\"\")","v":""},{"$f":"IFERROR(VLOOKUP(N50,[1]Ark1!#REF!,12,FALSE),\"\")","v":""},{"$f":"IFERROR(VLOOKUP(O50,[1]Ark1!#REF!,12,FALSE),\"\")","v":""},{"$f":"IFERROR(VLOOKUP(P50,[1]Ark1!#REF!,12,FALSE),\"\")","v":""},{"$f":"IFERROR(VLOOKUP(Q50,[1]Ark1!#REF!,12,FALSE),\"\")","v":""},{"$f":"IFERROR(VLOOKUP(R50,[1]Ark1!#REF!,12,FALSE),\"\")","v":""},{"$f":"IFERROR(VLOOKUP(S50,[1]Ark1!#REF!,12,FALSE),\"\")","v":""},{"$f":"IFERROR(VLOOKUP(T50,[1]Ark1!#REF!,12,FALSE),\"\")","v":""},{"$f":"IFERROR(VLOOKUP(U50,[1]Ark1!#REF!,12,FALSE),\"\")","v":""},{"$f":"IFERROR(VLOOKUP(V50,[1]Ark1!#REF!,12,FALSE),\"\")","v":""},{"$f":"IFERROR(VLOOKUP(W50,[1]Ark1!#REF!,12,FALSE),\"\")","v":""},{"$f":"IFERROR(VLOOKUP(X50,[1]Ark1!#REF!,12,FALSE),\"\")","v":""},{"$f":"IF(D50=\"\",\"\",HLOOKUP($C$6,'Beregning gr. 2'!F1:P52,D50+3))","v":52.713681572312247},{"$f":"IFERROR(E50*AD50,\"\")*E6","v":0},null,52.71]
[null,null,null,38,null,{"$f":"IFERROR(VLOOKUP(D51,'Beregning gr. 2'!F1:P52,11,FALSE),\"\")","v":"stk"},{"$f":"IFERROR(VLOOKUP(D51,'Beregning gr. 2'!F1:P52,10,FALSE),\"\")","v":"Opkant t.o.m. 10 cm"},{"$f":"IFERROR(VLOOKUP(F51,[1]Ark1!#REF!,12,FALSE),\"\")","v":""},{"$f":"IFERROR(VLOOKUP(G51,[1]Ark1!#REF!,12,FALSE),\"\")","v":""},{"$f":"IFERROR(VLOOKUP(H51,[1]Ark1!#REF!,12,FALSE),\"\")","v":""},{"$f":"IFERROR(VLOOKUP(I51,[1]Ark1!#REF!,12,FALSE),\"\")","v":""},{"$f":"IFERROR(VLOOKUP(J51,[1]Ark1!#REF!,12,FALSE),\"\")","v":""},{"$f":"IFERROR(VLOOKUP(K51,[1]Ark1!#REF!,12,FALSE),\"\")","v":""},{"$f":"IFERROR(VLOOKUP(L51,[1]Ark1!#REF!,12,FALSE),\"\")","v":""},{"$f":"IFERROR(VLOOKUP(M51,[1]Ark1!#REF!,12,FALSE),\"\")","v":""},{"$f":"IFERROR(VLOOKUP(N51,[1]Ark1!#REF!,12,FALSE),\"\")","v":""},{"$f":"IFERROR(VLOOKUP(O51,[1]Ark1!#REF!,12,FALSE),\"\")","v":""},{"$f":"IFERROR(VLOOKUP(P51,[1]Ark1!#REF!,12,FALSE),\"\")","v":""},{"$f":"IFERROR(VLOOKUP(Q51,[1]Ark1!#REF!,12,FALSE),\"\")","v":""},{"$f":"IFERROR(VLOOKUP(R51,[1]Ark1!#REF!,12,FALSE),\"\")","v":""},{"$f":"IFERROR(VLOOKUP(S51,[1]Ark1!#REF!,12,FALSE),\"\")","v":""},{"$f":"IFERROR(VLOOKUP(T51,[1]Ark1!#REF!,12,FALSE),\"\")","v":""},{"$f":"IFERROR(VLOOKUP(U51,[1]Ark1!#REF!,12,FALSE),\"\")","v":""},{"$f":"IFERROR(VLOOKUP(V51,[1]Ark1!#REF!,12,FALSE),\"\")","v":""},{"$f":"IFERROR(VLOOKUP(W51,[1]Ark1!#REF!,12,FALSE),\"\")","v":""},{"$f":"IFERROR(VLOOKUP(X51,[1]Ark1!#REF!,12,FALSE),\"\")","v":""},{"$f":"IF(D51=\"\",\"\",HLOOKUP($C$6,'Beregning gr. 2'!F1:P52,D51+3))","v":52.713681572312247},{"$f":"IFERROR(E51*AD51,\"\")*E6","v":0},null,52.71]
[null,null,null,39,null,{"$f":"IFERROR(VLOOKUP(D52,'Beregning gr. 2'!F1:P52,11,FALSE),\"\")","v":"stk"},{"$f":"IFERROR(VLOOKUP(D52,'Beregning gr. 2'!F1:P52,10,FALSE),\"\")","v":"Skæring af hjørne ved opkant"},{"$f":"IFERROR(VLOOKUP(F52,[1]Ark1!#REF!,12,FALSE),\"\")","v":""},{"$f":"IFERROR(VLOOKUP(G52,[1]Ark1!#REF!,12,FALSE),\"\")","v":""},{"$f":"IFERROR(VLOOKUP(H52,[1]Ark1!#REF!,12,FALSE),\"\")","v":""},{"$f":"IFERROR(VLOOKUP(I52,[1]Ark1!#REF!,12,FALSE),\"\")","v":""},{"$f":"IFERROR(VLOOKUP(J52,[1]Ark1!#REF!,12,FALSE),\"\")","v":""},{"$f":"IFERROR(VLOOKUP(K52,[1]Ark1!#REF!,12,FALSE),\"\")","v":""},{"$f":"IFERROR(VLOOKUP(L52,[1]Ark1!#REF!,12,FALSE),\"\")","v":""},{"$f":"IFERROR(VLOOKUP(M52,[1]Ark1!#REF!,12,FALSE),\"\")","v":""},{"$f":"IFERROR(VLOOKUP(N52,[1]Ark1!#REF!,12,FALSE),\"\")","v":""},{"$f":"IFERROR(VLOOKUP(O52,[1]Ark1!#REF!,12,FALSE),\"\")","v":""},{"$f":"IFERROR(VLOOKUP(P52,[1]Ark1!#REF!,12,FALSE),\"\")","v":""},{"$f":"IFERROR(VLOOKUP(Q52,[1]Ark1!#REF!,12,FALSE),\"\")","v":""},{"$f":"IFERROR(VLOOKUP(R52,[1]Ark1!#REF!,12,FALSE),\"\")","v":""},{"$f":"IFERROR(VLOOKUP(S52,[1]Ark1!#REF!,12,FALSE),\"\")","v":""},{"$f":"IFERROR(VLOOKUP(T52,[1]Ark1!#REF!,12,FALSE),\"\")","v":""},{"$f":"IFERROR(VLOOKUP(U52,[1]Ark1!#REF!,12,FALSE),\"\")","v":""},{"$f":"IFERROR(VLOOKUP(V52,[1]Ark1!#REF!,12,FALSE),\"\")","v":""},{"$f":"IFERROR(VLOOKUP(W52,[1]Ark1!#REF!,12,FALSE),\"\")","v":""},{"$f":"IFERROR(VLOOKUP(X52,[1]Ark1!#REF!,12,FALSE),\"\")","v":""},{"$f":"IF(D52=\"\",\"\",HLOOKUP($C$6,'Beregning gr. 2'!F1:P52,D52+3))","v":25.172263672171574},{"$f":"IFERROR(E52*AD52,\"\")*E6","v":0},null,25.17]
[null,null,null,40,null,{"$f":"IFERROR(VLOOKUP(D53,'Beregning gr. 2'!F1:P52,11,FALSE),\"\")","v":"m"},{"$f":"IFERROR(VLOOKUP(D53,'Beregning gr. 2'!F1:P52,10,FALSE),\"\")","v":"Nedsænkning med trekantliste"},{"$f":"IFERROR(VLOOKUP(F53,[1]Ark1!#REF!,12,FALSE),\"\")","v":""},{"$f":"IFERROR(VLOOKUP(G53,[1]Ark1!#REF!,12,FALSE),\"\")","v":""},{"$f":"IFERROR(VLOOKUP(H53,[1]Ark1!#REF!,12,FALSE),\"\")","v":""},{"$f":"IFERROR(VLOOKUP(I53,[1]Ark1!#REF!,12,FALSE),\"\")","v":""},{"$f":"IFERROR(VLOOKUP(J53,[1]Ark1!#REF!,12,FALSE),\"\")","v":""},{"$f":"IFERROR(VLOOKUP(K53,[1]Ark1!#REF!,12,FALSE),\"\")","v":""},{"$f":"IFERROR(VLOOKUP(L53,[1]Ark1!#REF!,12,FALSE),\"\")","v":""},{"$f":"IFERROR(VLOOKUP(M53,[1]Ark1!#REF!,12,FALSE),\"\")","v":""},{"$f":"IFERROR(VLOOKUP(N53,[1]Ark1!#REF!,12,FALSE),\"\")","v":""},{"$f":"IFERROR(VLOOKUP(O53,[1]Ark1!#REF!,12,FALSE),\"\")","v":""},{"$f":"IFERROR(VLOOKUP(P53,[1]Ark1!#REF!,12,FALSE),\"\")","v":""},{"$f":"IFERROR(VLOOKUP(Q53,[1]Ark1!#REF!,12,FALSE),\"\")","v":""},{"$f":"IFERROR(VLOOKUP(R53,[1]Ark1!#REF!,12,FALSE),\"\")","v":""},{"$f":"IFERROR(VLOOKUP(S53,[1]Ark1!#REF!,12,FALSE),\"\")","v":""},{"$f":"IFERROR(VLOOKUP(T53,[1]Ark1!#REF!,12,FALSE),\"\")","v":""},{"$f":"IFERROR(VLOOKUP(U53,[1]Ark1!#REF!,12,FALSE),\"\")","v":""},{"$f":"IFERROR(VLOOKUP(V53,[1]Ark1!#REF!,12,FALSE),\"\")","v":""},{"$f":"IFERROR(VLOOKUP(W53,[1]Ark1!#REF!,12,FALSE),\"\")","v":""},{"$f":"IFERROR(VLOOKUP(X53,[1]Ark1!#REF!,12,FALSE),\"\")","v":""},{"$f":"IF(D53=\"\",\"\",HLOOKUP($C$6,'Beregning gr. 2'!F1:P52,D53+3))","v":94.766169118763614},{"$f":"IFERROR(E53*AD53,\"\")*E6","v":0},null,94.77]
[null,null,null,41,null,{"$f":"IFERROR(VLOOKUP(D54,'Beregning gr. 2'!F1:P52,11,FALSE),\"\")","v":"stk"},{"$f":"IFERROR(VLOOKUP(D54,'Beregning gr. 2'!F1:P52,10,FALSE),\"\")","v":"Tillæg for hjørner ved nedsænkning"},{"$f":"IFERROR(VLOOKUP(F54,[1]Ark1!#REF!,12,FALSE),\"\")","v":""},{"$f":"IFERROR(VLOOKUP(G54,[1]Ark1!#REF!,12,FALSE),\"\")","v":""},{"$f":"IFERROR(VLOOKUP(H54,[1]Ark1!#REF!,12,FALSE),\"\")","v":""},{"$f":"IFERROR(VLOOKUP(I54,[1]Ark1!#REF!,12,FALSE),\"\")","v":""},{"$f":"IFERROR(VLOOKUP(J54,[1]Ark1!#REF!,12,FALSE),\"\")","v":""},{"$f":"IFERROR(VLOOKUP(K54,[1]Ark1!#REF!,12,FALSE),\"\")","v":""},{"$f":"IFERROR(VLOOKUP(L54,[1]Ark1!#REF!,12,FALSE),\"\")","v":""},{"$f":"IFERROR(VLOOKUP(M54,[1]Ark1!#REF!,12,FALSE),\"\")","v":""},{"$f":"IFERROR(VLOOKUP(N54,[1]Ark1!#REF!,12,FALSE),\"\")","v":""},{"$f":"IFERROR(VLOOKUP(O54,[1]Ark1!#REF!,12,FALSE),\"\")","v":""},{"$f":"IFERROR(VLOOKUP(P54,[1]Ark1!#REF!,12,FALSE),\"\")","v":""},{"$f":"IFERROR(VLOOKUP(Q54,[1]Ark1!#REF!,12,FALSE),\"\")","v":""},{"$f":"IFERROR(VLOOKUP(R54,[1]Ark1!#REF!,12,FALSE),\"\")","v":""},{"$f":"IFERROR(VLOOKUP(S54,[1]Ark1!#REF!,12,FALSE),\"\")","v":""},{"$f":"IFERROR(VLOOKUP(T54,[1]Ark1!#REF!,12,FALSE),\"\")","v":""},{"$f":"IFERROR(VLOOKUP(U54,[1]Ark1!#REF!,12,FALSE),\"\")","v":""},{"$f":"IFERROR(VLOOKUP(V54,[1]Ark1!#REF!,12,FALSE),\"\")","v":""},{"$f":"IFERROR(VLOOKUP(W54,[1]Ark1!#REF!,12,FALSE),\"\")","v":""},{"$f":"IFERROR(VLOOKUP(X54,[1]Ark1!#REF!,12,FALSE),\"\")","v":""},{"$f":"IF(D54=\"\",\"\",HLOOKUP($C$6,'Beregning gr. 2'!F1:P52,D54+3))","v":88.843283548840859},{"$f":"IFERROR(E54*AD54,\"\")*E6","v":0},null,88.84]
[null,null,null,42,null,{"$f":"IFERROR(VLOOKUP(D55,'Beregning gr. 2'!F1:P52,2,FALSE),\"\")","v":0.35},{"$f":"IFERROR(VLOOKUP(D55,'Beregning gr. 2'!F1:P52,10,FALSE),\"\")","v":"Tillæg for montering med kontaktlim Pkt.13-15-16-17-18"},{"$f":"IFERROR(VLOOKUP(F55,[1]Ark1!#REF!,12,FALSE),\"\")","v":""},{"$f":"IFERROR(VLOOKUP(G55,[1]Ark1!#REF!,12,FALSE),\"\")","v":""},{"$f":"IFERROR(VLOOKUP(H55,[1]Ark1!#REF!,12,FALSE),\"\")","v":""},{"$f":"IFERROR(VLOOKUP(I55,[1]Ark1!#REF!,12,FALSE),\"\")","v":""},{"$f":"IFERROR(VLOOKUP(J55,[1]Ark1!#REF!,12,FALSE),\"\")","v":""},{"$f":"IFERROR(VLOOKUP(K55,[1]Ark1!#REF!,12,FALSE),\"\")","v":""},{"$f":"IFERROR(VLOOKUP(L55,[1]Ark1!#REF!,12,FALSE),\"\")","v":""},{"$f":"IFERROR(VLOOKUP(M55,[1]Ark1!#REF!,12,FALSE),\"\")","v":""},{"$f":"IFERROR(VLOOKUP(N55,[1]Ark1!#REF!,12,FALSE),\"\")","v":""},{"$f":"IFERROR(VLOOKUP(O55,[1]Ark1!#REF!,12,FALSE),\"\")","v":""},{"$f":"IFERROR(VLOOKUP(P55,[1]Ark1!#REF!,12,FALSE),\"\")","v":""},{"$f":"IFERROR(VLOOKUP(Q55,[1]Ark1!#REF!,12,FALSE),\"\")","v":""},{"$f":"IFERROR(VLOOKUP(R55,[1]Ark1!#REF!,12,FALSE),\"\")","v":""},{"$f":"IFERROR(VLOOKUP(S55,[1]Ark1!#REF!,12,FALSE),\"\")","v":""},{"$f":"IFERROR(VLOOKUP(T55,[1]Ark1!#REF!,12,FALSE),\"\")","v":""},{"$f":"IFERROR(VLOOKUP(U55,[1]Ark1!#REF!,12,FALSE),\"\")","v":""},{"$f":"IFERROR(VLOOKUP(V55,[1]Ark1!#REF!,12,FALSE),\"\")","v":""},{"$f":"IFERROR(VLOOKUP(W55,[1]Ark1!#REF!,12,FALSE),\"\")","v":""},{"$f":"IFERROR(VLOOKUP(X55,[1]Ark1!#REF!,12,FALSE),\"\")","v":""},{"$f":"SUM(AB26,AB28,AB29,AB30,AB31)*F55","v":0},{"$f":"IFERROR(F55*AD55*E55,\"\")","v":0},null,0]
[null,null,null,43,null,{"$f":"IFERROR(VLOOKUP(D56,'Beregning gr. 2'!F1:P52,2,FALSE),\"\")","v":0.1},{"$f":"IFERROR(VLOOKUP(D56,'Beregning gr. 2'!F1:P52,10,FALSE),\"\")","v":"Tillæg for skridsikkert Pkt. 13-14-15-16-17-18-35-36-37"},{"$f":"IFERROR(VLOOKUP(F56,[1]Ark1!#REF!,12,FALSE),\"\")","v":""},{"$f":"IFERROR(VLOOKUP(G56,[1]Ark1!#REF!,12,FALSE),\"\")","v":""},{"$f":"IFERROR(VLOOKUP(H56,[1]Ark1!#REF!,12,FALSE),\"\")","v":""},{"$f":"IFERROR(VLOOKUP(I56,[1]Ark1!#REF!,12,FALSE),\"\")","v":""},{"$f":"IFERROR(VLOOKUP(J56,[1]Ark1!#REF!,12,FALSE),\"\")","v":""},{"$f":"IFERROR(VLOOKUP(K56,[1]Ark1!#REF!,12,FALSE),\"\")","v":""},{"$f":"IFERROR(VLOOKUP(L56,[1]Ark1!#REF!,12,FALSE),\"\")","v":""},{"$f":"IFERROR(VLOOKUP(M56,[1]Ark1!#REF!,12,FALSE),\"\")","v":""},{"$f":"IFERROR(VLOOKUP(N56,[1]Ark1!#REF!,12,FALSE),\"\")","v":""},{"$f":"IFERROR(VLOOKUP(O56,[1]Ark1!#REF!,12,FALSE),\"\")","v":""},{"$f":"IFERROR(VLOOKUP(P56,[1]Ark1!#REF!,12,FALSE),\"\")","v":""},{"$f":"IFERROR(VLOOKUP(Q56,[1]Ark1!#REF!,12,FALSE),\"\")","v":""},{"$f":"IFERROR(VLOOKUP(R56,[1]Ark1!#REF!,12,FALSE),\"\")","v":""},{"$f":"IFERROR(VLOOKUP(S56,[1]Ark1!#REF!,12,FALSE),\"\")","v":""},{"$f":"IFERROR(VLOOKUP(T56,[1]Ark1!#REF!,12,FALSE),\"\")","v":""},{"$f":"IFERROR(VLOOKUP(U56,[1]Ark1!#REF!,12,FALSE),\"\")","v":""},{"$f":"IFERROR(VLOOKUP(V56,[1]Ark1!#REF!,12,FALSE),\"\")","v":""},{"$f":"IFERROR(VLOOKUP(W56,[1]Ark1!#REF!,12,FALSE),\"\")","v":""},{"$f":"IFERROR(VLOOKUP(X56,[1]Ark1!#REF!,12,FALSE),\"\")","v":""},{"$f":"SUM(AB26,AB27,AB28,AB29,AB30,AB31,AB48,AB49:AB50)","v":0},{"$f":"IFERROR(F56*AD56*E56,\"\")*F56*10","v":0},null,{"$f":"ROUND(AA56,2)","v":0}]
[null,null,null,44,null,{"$f":"IFERROR(VLOOKUP(D57,'Beregning gr. 2'!F1:P52,11,FALSE),\"\")","v":"m"},{"$f":"IFERROR(VLOOKUP(D57,'Beregning gr. 2'!F1:P52,10,FALSE),\"\")","v":"Gulvskinne m/forboring, plugs, skrue, klæbning"},{"$f":"IFERROR(VLOOKUP(F57,[1]Ark1!#REF!,12,FALSE),\"\")","v":""},{"$f":"IFERROR(VLOOKUP(G57,[1]Ark1!#REF!,12,FALSE),\"\")","v":""},{"$f":"IFERROR(VLOOKUP(H57,[1]Ark1!#REF!,12,FALSE),\"\")","v":""},{"$f":"IFERROR(VLOOKUP(I57,[1]Ark1!#REF!,12,FALSE),\"\")","v":""},{"$f":"IFERROR(VLOOKUP(J57,[1]Ark1!#REF!,12,FALSE),\"\")","v":""},{"$f":"IFERROR(VLOOKUP(K57,[1]Ark1!#REF!,12,FALSE),\"\")","v":""},{"$f":"IFERROR(VLOOKUP(L57,[1]Ark1!#REF!,12,FALSE),\"\")","v":""},{"$f":"IFERROR(VLOOKUP(M57,[1]Ark1!#REF!,12,FALSE),\"\")","v":""},{"$f":"IFERROR(VLOOKUP(N57,[1]Ark1!#REF!,12,FALSE),\"\")","v":""},{"$f":"IFERROR(VLOOKUP(O57,[1]Ark1!#REF!,12,FALSE),\"\")","v":""},{"$f":"IFERROR(VLOOKUP(P57,[1]Ark1!#REF!,12,FALSE),\"\")","v":""},{"$f":"IFERROR(VLOOKUP(Q57,[1]Ark1!#REF!,12,FALSE),\"\")","v":""},{"$f":"IFERROR(VLOOKUP(R57,[1]Ark1!#REF!,12,FALSE),\"\")","v":""},{"$f":"IFERROR(VLOOKUP(S57,[1]Ark1!#REF!,12,FALSE),\"\")","v":""},{"$f":"IFERROR(VLOOKUP(T57,[1]Ark1!#REF!,12,FALSE),\"\")","v":""},{"$f":"IFERROR(VLOOKUP(U57,[1]Ark1!#REF!,12,FALSE),\"\")","v":""},{"$f":"IFERROR(VLOOKUP(V57,[1]Ark1!#REF!,12,FALSE),\"\")","v":""},{"$f":"IFERROR(VLOOKUP(W57,[1]Ark1!#REF!,12,FALSE),\"\")","v":""},{"$f":"IFERROR(VLOOKUP(X57,[1]Ark1!#REF!,12,FALSE),\"\")","v":""},{"$f":"IF(D57=\"\",\"\",HLOOKUP($C$6,'Beregning gr. 2'!F1:P52,D57+3))","v":60.327587753567308},{"$f":"IFERROR(E57*AD57,\"\")*E6","v":0},null,60.33]
[null,null,null,45,null,{"$f":"IFERROR(VLOOKUP(D58,'Beregning gr. 2'!F1:P52,11,FALSE),\"\")","v":"m"},{"$f":"IFERROR(VLOOKUP(D58,'Beregning gr. 2'!F1:P52,10,FALSE),\"\")","v":"Gulvskinne i underlag af træ, inkl. klæbning"},{"$f":"IFERROR(VLOOKUP(F58,[1]Ark1!#REF!,12,FALSE),\"\")","v":""},{"$f":"IFERROR(VLOOKUP(G58,[1]Ark1!#REF!,12,FALSE),\"\")","v":""},{"$f":"IFERROR(VLOOKUP(H58,[1]Ark1!#REF!,12,FALSE),\"\")","v":""},{"$f":"IFERROR(VLOOKUP(I58,[1]Ark1!#REF!,12,FALSE),\"\")","v":""},{"$f":"IFERROR(VLOOKUP(J58,[1]Ark1!#REF!,12,FALSE),\"\")","v":""},{"$f":"IFERROR(VLOOKUP(K58,[1]Ark1!#REF!,12,FALSE),\"\")","v":""},{"$f":"IFERROR(VLOOKUP(L58,[1]Ark1!#REF!,12,FALSE),\"\")","v":""},{"$f":"IFERROR(VLOOKUP(M58,[1]Ark1!#REF!,12,FALSE),\"\")","v":""},{"$f":"IFERROR(VLOOKUP(N58,[1]Ark1!#REF!,12,FALSE),\"\")","v":""},{"$f":"IFERROR(VLOOKUP(O58,[1]Ark1!#REF!,12,FALSE),\"\")","v":""},{"$f":"IFERROR(VLOOKUP(P58,[1]Ark1!#REF!,12,FALSE),\"\")","v":""},{"$f":"IFERROR(VLOOKUP(Q58,[1]Ark1!#REF!,12,FALSE),\"\")","v":""},{"$f":"IFERROR(VLOOKUP(R58,[1]Ark1!#REF!,12,FALSE),\"\")","v":""},{"$f":"IFERROR(VLOOKUP(S58,[1]Ark1!#REF!,12,FALSE),\"\")","v":""},{"$f":"IFERROR(VLOOKUP(T58,[1]Ark1!#REF!,12,FALSE),\"\")","v":""},{"$f":"IFERROR(VLOOKUP(U58,[1]Ark1!#REF!,12,FALSE),\"\")","v":""},{"$f":"IFERROR(VLOOKUP(V58,[1]Ark1!#REF!,12,FALSE),\"\")","v":""},{"$f":"IFERROR(VLOOKUP(W58,[1]Ark1!#REF!,12,FALSE),\"\")","v":""},{"$f":"IFERROR(VLOOKUP(X58,[1]Ark1!#REF!,12,FALSE),\"\")","v":""},{"$f":"IF(D58=\"\",\"\",HLOOKUP($C$6,'Beregning gr. 2'!F1:P52,D58+3))","v":40.24},{"$f":"IFERROR(E58*AD58,\"\")*E6","v":0},null,40.24]
[null,null,null,46,null,{"$f":"IFERROR(VLOOKUP(D59,'Beregning gr. 2'!F1:P52,11,FALSE),\"\")","v":"m"},{"$f":"IFERROR(VLOOKUP(D59,'Beregning gr. 2'!F1:P52,10,FALSE),\"\")","v":"Gulvskinne monteret med dobbeltklæbende tape, pr. m. pr. samling, pr. gering"},{"$f":"IFERROR(VLOOKUP(F59,[1]Ark1!#REF!,12,FALSE),\"\")","v":""},{"$f":"IFERROR(VLOOKUP(G59,[1]Ark1!#REF!,12,FALSE),\"\")","v":""},{"$f":"IFERROR(VLOOKUP(H59,[1]Ark1!#REF!,12,FALSE),\"\")","v":""},{"$f":"IFERROR(VLOOKUP(I59,[1]Ark1!#REF!,12,FALSE),\"\")","v":""},{"$f":"IFERROR(VLOOKUP(J59,[1]Ark1!#REF!,12,FALSE),\"\")","v":""},{"$f":"IFERROR(VLOOKUP(K59,[1]Ark1!#REF!,12,FALSE),\"\")","v":""},{"$f":"IFERROR(VLOOKUP(L59,[1]Ark1!#REF!,12,FALSE),\"\")","v":""},{"$f":"IFERROR(VLOOKUP(M59,[1]Ark1!#REF!,12,FALSE),\"\")","v":""},{"$f":"IFERROR(VLOOKUP(N59,[1]Ark1!#REF!,12,FALSE),\"\")","v":""},{"$f":"IFERROR(VLOOKUP(O59,[1]Ark1!#REF!,12,FALSE),\"\")","v":""},{"$f":"IFERROR(VLOOKUP(P59,[1]Ark1!#REF!,12,FALSE),\"\")","v":""},{"$f":"IFERROR(VLOOKUP(Q59,[1]Ark1!#REF!,12,FALSE),\"\")","v":""},{"$f":"IFERROR(VLOOKUP(R59,[1]Ark1!#REF!,12,FALSE),\"\")","v":""},{"$f":"IFERROR(VLOOKUP(S59,[1]Ark1!#REF!,12,FALSE),\"\")","v":""},{"$f":"IFERROR(VLOOKUP(T59,[1]Ark1!#REF!,12,FALSE),\"\")","v":""},{"$f":"IFERROR(VLOOKUP(U59,[1]Ark1!#REF!,12,FALSE),\"\")","v":""},{"$f":"IFERROR(VLOOKUP(V59,[1]Ark1!#REF!,12,FALSE),\"\")","v":""},{"$f":"IFERROR(VLOOKUP(W59,[1]Ark1!#REF!,12,FALSE),\"\")","v":""},{"$f":"IFERROR(VLOOKUP(X59,[1]Ark1!#REF!,12,FALSE),\"\")","v":""},{"$f":"IF(D59=\"\",\"\",HLOOKUP($C$6,'Beregning gr. 2'!F1:P52,D59+3))","v":36.196552652140376},{"$f":"IFERROR(E59*AD59,\"\")*E6","v":0},null,36.200000000000003]
[null,null,null,null,null,null,null,null,null,null,null,null,null,null,null,null,null,null,null,null,null,null,null,null,null,null,null,null,null,{"$f":"ROUND(AA60,2)","v":0}]
[null,null,null,"Pkt.","Antal","Gulv vinyl Procent tillæg til pkt. 13-32-33-34-35-36",null,null,null,null,null,null,null,null,null,null,null,null,null,null,null,null,null,null,null,null,null,null,null,0]
[null,null,null,42,null,{"$f":"IFERROR(VLOOKUP(D62,'Ark1'!D1:O50,9,FALSE),\"\")","v":0.35},{"$f":"IFERROR(VLOOKUP(D62,'Ark1'!D1:O50,12,FALSE),\"\")","v":"Tillæg for montering med kontaktlim"},{"$f":"IFERROR(VLOOKUP(F62,[1]Ark1!D1:Q50,13,FALSE),\"\")","v":""},{"$f":"IFERROR(VLOOKUP(G62,[1]Ark1!E1:R50,13,FALSE),\"\")","v":""},{"$f":"IFERROR(VLOOKUP(H62,[1]Ark1!F1:S50,13,FALSE),\"\")","v":""},{"$f":"IFERROR(VLOOKUP(I62,[1]Ark1!G1:T50,13,FALSE),\"\")","v":""},{"$f":"IFERROR(VLOOKUP(J62,[1]Ark1!H1:U50,13,FALSE),\"\")","v":""},{"$f":"IFERROR(VLOOKUP(K62,[1]Ark1!I1:V50,13,FALSE),\"\")","v":""},{"$f":"IFERROR(VLOOKUP(L62,[1]Ark1!J1:W50,13,FALSE),\"\")","v":""},{"$f":"IFERROR(VLOOKUP(M62,[1]Ark1!K1:X50,13,FALSE),\"\")","v":""},{"$f":"IFERROR(VLOOKUP(N62,[1]Ark1!L1:Y50,13,FALSE),\"\")","v":""},{"$f":"IFERROR(VLOOKUP(O62,[1]Ark1!M1:Z50,13,FALSE),\"\")","v":""},{"$f":"IFERROR(VLOOKUP(P62,[1]Ark1!N1:AA50,13,FALSE),\"\")","v":""},{"$f":"IFERROR(VLOOKUP(Q62,[1]Ark1!O1:AB50,13,FALSE),\"\")","v":""},{"$f":"IFERROR(VLOOKUP(R62,[1]Ark1!P1:AC50,13,FALSE),\"\")","v":""},{"$f":"IFERROR(VLOOKUP(S62,[1]Ark1!Q1:AD50,13,FALSE),\"\")","v":""},{"$f":"IFERROR(VLOOKUP(T62,[1]Ark1!R1:AE50,13,FALSE),\"\")","v":""},{"$f":"IFERROR(VLOOKUP(U62,[1]Ark1!S1:AF50,13,FALSE),\"\")","v":""},{"$f":"IFERROR(VLOOKUP(V62,[1]Ark1!T1:AG50,13,FALSE),\"\")","v":""},{"$f":"IFERROR(VLOOKUP(W62,[1]Ark1!U1:AH50,13,FALSE),\"\")","v":""},{"$f":"IFERROR(VLOOKUP(X62,[1]Ark1!V1:AI50,13,FALSE),\"\")","v":""},null,{"$f":"IFERROR(F62*AA62,\"\")","v":0},null,0]
[null,null,null,43,null,{"$f":"IFERROR(VLOOKUP(D63,'Ark1'!D1:P50,9,FALSE),\"\")","v":0.1},{"$f":"IFERROR(VLOOKUP(D63,'Ark1'!D1:P50,12,FALSE),\"\")","v":"Tillæg for skridsikkert"},null,null,null,null,null,null,null,null,null,null,null,null,null,null,null,null,null,null,null,null,{"$f":"IFERROR(F63*AA63,\"\")","v":0},null,0]
[null,null,null,"Pkt.","Antal","Væg vinyl",null,null,null,null,null,null,null,null,null,null,null,null,null,null,null,null,null,null,null,null,"Sum gulv",{"$f":"SUM(AB14:AB59)","v":0}]
[null,null,null,47,null,{"$f":"IFERROR(VLOOKUP(D65,'Beregning gr. 2'!R1:AB64,11,FALSE),\"\")","v":"M²"},{"$f":"IFERROR(VLOOKUP(D65,'Beregning gr. 2'!R1:AA64,10,FALSE),\"\")","v":"opskæring af vinyl pr. m²"},null,null,null,null,null,null,null,null,null,null,null,null,null,null,null,null,null,null,null,{"$f":"IF(D65=\"\",\"\",HLOOKUP($P$6,'Beregning gr. 2'!R1:Z64,D65+3))","v":8.2271690246720013},{"$f":"IFERROR(E65*AD65*P6,\"\")*T6","v":0},null,8.23]
[null,null,null,48,null,{"$f":"IFERROR(VLOOKUP(D66,'Beregning gr. 2'!R2:AB65,11,FALSE),\"\")","v":"M²"},{"$f":"IFERROR(VLOOKUP(D66,'Beregning gr. 2'!R2:AA65,10,FALSE),\"\")","v":"Opsætning af vinyl på væg med enkeltklæbning pr. M²"},null,null,null,null,null,null,null,null,null,null,null,null,null,null,null,null,null,null,null,{"$f":"IF(D66=\"\",\"\",HLOOKUP($P$6,'Beregning gr. 2'!R1:Z64,D66+3))","v":76.237675395752007},{"$f":"IFERROR(E66*AD66*P6,\"\")*T6","v":0},null,76.239999999999995]
[null,null,null,49,null,{"$f":"IFERROR(VLOOKUP(D67,'Beregning gr. 2'!R3:AB66,11,FALSE),\"\")","v":"m."},{"$f":"IFERROR(VLOOKUP(D67,'Beregning gr. 2'!R3:AA66,10,FALSE),\"\")","v":"Indvendigt/udvendigt lodret hjørne på væg med enkeltklæbning pr. m."},null,null,null,null,null,null,null,null,null,null,null,null,null,null,null,null,null,null,null,{"$f":"IF(D67=\"\",\"\",HLOOKUP($P$6,'Beregning gr. 2'!R1:Z64,D67+3))","v":113.725839225024},{"$f":"IFERROR(E67*AD67,\"\")*T6","v":0},null,113.73]
[null,null,null,50,null,{"$f":"IFERROR(VLOOKUP(D68,'Beregning gr. 2'!R4:AB67,11,FALSE),\"\")","v":"m"},{"$f":"IFERROR(VLOOKUP(D68,'Beregning gr. 2'!R4:AA67,10,FALSE),\"\")","v":"Udvendigt lodret hjørne på væg med kontaktklæbning pr. m."},null,null,null,null,null,null,null,null,null,null,null,null,null,null,null,null,null,null,null,{"$f":"IF(D68=\"\",\"\",HLOOKUP($P$6,'Beregning gr. 2'!R1:Z64,D68+3))","v":153.53215565240802},{"$f":"IFERROR(E68*AD68,\"\")*T6","v":0},null,153.53]
[null,null,null,51,null,{"$f":"IFERROR(VLOOKUP(D69,'Beregning gr. 2'!R5:AB68,11,FALSE),\"\")","v":"stk"},{"$f":"IFERROR(VLOOKUP(D69,'Beregning gr. 2'!R5:AA68,10,FALSE),\"\")","v":"Udskæring for lem pr. stk."},null,null,null,null,null,null,null,null,null,null,null,null,null,null,null,null,null,null,null,{"$f":"IF(D69=\"\",\"\",HLOOKUP($P$6,'Beregning gr. 2'!R1:Z64,D69+3))","v":174.57734492546396},{"$f":"IFERROR(E69*AD69,\"\")*T6","v":0},null,174.58]
[null,null,null,52,null,{"$f":"IFERROR(VLOOKUP(D70,'Beregning gr. 2'!R6:AB69,11,FALSE),\"\")","v":"m"},{"$f":"IFERROR(VLOOKUP(D70,'Beregning gr. 2'!R6:AA69,10,FALSE),\"\")","v":"Lodrette svejsninger inkl. Fræsning pr. M."},null,null,null,null,null,null,null,null,null,null,null,null,null,null,null,null,null,null,null,{"$f":"IF(D70=\"\",\"\",HLOOKUP($P$6,'Beregning gr. 2'!R1:Z64,D70+3))","v":43.613086625264003},{"$f":"IFERROR(E70*AD70,\"\")*T6","v":0},null,43.61]
[null,null,null,53,null,{"$f":"IFERROR(VLOOKUP(D71,'Beregning gr. 2'!R7:AB70,11,FALSE),\"\")","v":"m"},{"$f":"IFERROR(VLOOKUP(D71,'Beregning gr. 2'!R7:AA70,10,FALSE),\"\")","v":"Vandrette svejsninger inkl. Fræsning pr. M."},null,null,null,null,null,null,null,null,null,null,null,null,null,null,null,null,null,null,null,{"$f":"IF(D71=\"\",\"\",HLOOKUP($P$6,'Beregning gr. 2'!R1:Z64,D71+3))","v":54.522040028143991},{"$f":"IFERROR(E71*AD71,\"\")*T6","v":0},null,54.52]
[null,null,null,54,null,{"$f":"IFERROR(VLOOKUP(D72,'Beregning gr. 2'!R8:AB71,11,FALSE),\"\")","v":"m"},{"$f":"IFERROR(VLOOKUP(D72,'Beregning gr. 2'!R8:AA71,10,FALSE),\"\")","v":"Skæring af underkant på vægvinyl, ned til senere overkant hulkehl eller skæring der skal stå synlig uden på hulkehl, vandret eller fast højde fra gulv pr. meter .......... kr."},null,null,null,null,null,null,null,null,null,null,null,null,null,null,null,null,null,null,null,{"$f":"IF(D72=\"\",\"\",HLOOKUP($P$6,'Beregning gr. 2'!R1:Z64,D72+3))","v":7.9998991621119995},{"$f":"IFERROR(E72*AD72,\"\")*T6","v":0},null,8]
[null,null,null,55,null,{"$f":"IFERROR(VLOOKUP(D73,'Beregning gr. 2'!R9:AB72,11,FALSE),\"\")","v":"m"},{"$f":"IFERROR(VLOOKUP(D73,'Beregning gr. 2'!R9:AA72,10,FALSE),\"\")","v":"Tillæg for afskæring af vinyl på væg i fast højde på færdigbehandlet væg pr. meter."},null,null,null,null,null,null,null,null,null,null,null,null,null,null,null,null,null,null,null,{"$f":"IF(D73=\"\",\"\",HLOOKUP($P$6,'Beregning gr. 2'!R1:Z64,D73+3))","v":7.9998991621119995},{"$f":"IFERROR(E73*AD73,\"\")*T6","v":0},null,8]
[null,null,null,56,null,{"$f":"IFERROR(VLOOKUP(D74,'Beregning gr. 2'!R10:AB73,11,FALSE),\"\")","v":"m"},{"$f":"IFERROR(VLOOKUP(D74,'Beregning gr. 2'!R10:AA73,10,FALSE),\"\")","v":"Tillæg for tæt tilskæring af vinyl på væg mod færdigbehandlet loft pr. meter. (2021)"},null,null,null,null,null,null,null,null,null,null,null,null,null,null,null,null,null,null,null,{"$f":"IF(D74=\"\",\"\",HLOOKUP($P$6,'Beregning gr. 2'!R1:Z64,D74+3))","v":5.409022728928},{"$f":"IFERROR(E74*AD74,\"\")*T6","v":0},null,5.41]
[null,null,null,57,null,{"$f":"IFERROR(VLOOKUP(D75,'Beregning gr. 2'!R11:AB74,11,FALSE),\"\")","v":"stk"},{"$f":"IFERROR(VLOOKUP(D75,'Beregning gr. 2'!R11:AA74,10,FALSE),\"\")","v":"Rørkraver/manchet t.o.m. Ø 120 mm svejset omkring røret, pr. stk."},null,null,null,null,null,null,null,null,null,null,null,null,null,null,null,null,null,null,null,{"$f":"IF(D75=\"\",\"\",HLOOKUP($P$6,'Beregning gr. 2'!R1:Z64,D75+3))","v":51.624349280503999},{"$f":"IFERROR(E75*AD75,\"\")*T6","v":0},null,51.62]
[null,null,null,58,null,{"$f":"IFERROR(VLOOKUP(D76,'Beregning gr. 2'!R12:AB75,11,FALSE),\"\")","v":"stk"},{"$f":"IFERROR(VLOOKUP(D76,'Beregning gr. 2'!R12:AA75,10,FALSE),\"\")","v":"Tillæg for tæt tilskæring for el-udtag t.o.m. 90 kvcm pr. stk."},null,null,null,null,null,null,null,null,null,null,null,null,null,null,null,null,null,null,null,{"$f":"IF(D76=\"\",\"\",HLOOKUP($P$6,'Beregning gr. 2'!R1:Z64,D76+3))","v":25.851946866200002},{"$f":"IFERROR(E76*AD76,\"\")*T6","v":0},null,25.85]
[null,null,null,59,null,{"$f":"IFERROR(VLOOKUP(D77,'Beregning gr. 2'!R13:AB76,11,FALSE),\"\")","v":"stk"},{"$f":"IFERROR(VLOOKUP(D77,'Beregning gr. 2'!R13:AA76,10,FALSE),\"\")","v":"Tillæg for udskæring for koblingsdåse til rør t.o.m Ø 65 mm pr. stk."},null,null,null,null,null,null,null,null,null,null,null,null,null,null,null,null,null,null,null,{"$f":"IF(D77=\"\",\"\",HLOOKUP($P$6,'Beregning gr. 2'!R1:Z64,D77+3))","v":25.851946866200002},{"$f":"IFERROR(E77*AD77,\"\")*T6","v":0},null,25.85]
[null,null,null,null,null,"Vægvinyl procent tillæg",null,null,null,null,null,null,null,null,null,null,null,null,null,null,null,null,null,null,null,null,null,null,null,0]
[null,null,null,60,null,{"$f":"IFERROR(VLOOKUP(D79,'Beregning gr. 2'!R1:AB64,9,FALSE),\"\")","v":0.35},{"$f":"IFERROR(VLOOKUP(D79,'Beregning gr. 2'!R1:AB64,10,FALSE),\"\")","v":"Ved kontaktlim tillægges pkt. 48"},null,null,null,null,null,null,null,null,null,null,null,null,null,null,null,null,null,null,null,{"$f":"AB66*F79","v":0},{"$f":"IFERROR(AD79,\"\")","v":0},null,0]
[null,null,null,61,null,{"$f":"IFERROR(VLOOKUP(D80,'Beregning gr. 2'!R1:AB64,9,FALSE),\"\")","v":0.1},{"$f":"IFERROR(VLOOKUP(D80,'Beregning gr. 2'!R1:AB64,10,FALSE),\"\")","v":"Ved skridsikkert vinyl tillægges Pkt. 47,48,49,50,51,54,55,56,57,58 og 59"},null,null,null,null,null,null,null,null,null,null,null,null,null,null,null,null,null,null,null,{"$f":"SUM(AB65,AB66,AB67,AB69,AB68,AB72,AB73,AB74,AB75,AB76,AB77)*F80","v":0},{"$f":"IFERROR(F80*AD80*E80,\"\")*T6","v":0},null,0]
[null,null,null,null,null,{"$f":"IFERROR(VLOOKUP(D81,'Ark1'!A17:O81,14,FALSE),\"\")","v":""},null,null,null,null,null,null,null,null,null,null,null,null,null,null,null,null,null,null,null,null,"Sum væg",{"$f":"SUM(AB65:AB80)","v":0}]
[null,null,null,null,null,null,null,null,null,null,"Total Akkord",null,null,null,null,null,null,null,null,null,null,null,null,null,null,null,null,{"$f":"SUM(AB64,AB81)","v":0}]
[null,null,null,null,null,null,null,null,null,null,"Overenskomst tillæg gældende fra 1. marts 2025",null,null,null,null,null,null,null,null,null,null,null,null,null,null,null,8.0563200000000001E-2,{"$f":"(AB82)*AA83","v":0}]
[null,null,null,null,null,null,null,null,null,null,"Total Beregning",null,null,null,null,null,null,null,null,null,null,null,null,null,null,null,null,{"$f":"SUM(AB82:AB83)","v":0}]

{"sheet":"beregning gr. 1","index":3,"n_rows":407,"n_cols":14,"rows_kept":407,"cut":false,"hidden":true,"merged":[]}
[null,null,null,null,null,0.1,2.1,6.1,10.1,15.1,30.1,50.1,100.1]
["OBS! Data på dette Ark må IKKE ændres",null,null,null,"PKt.","A","B","C","D","E","F","G","H"]
[null,null,null,null,null,"u. 2 m2","2-6 m2","6-10 m2","10-15 m2","15-30 m2","30-50 m2","50-100 m2","O. 100 m2"]
[null,null,null,null,1,3.4138389801303655,2.5264873318654328,2.2307034491104556,2.0704871792848425,1.9965412085960985,1.8979465810111058,1.7747032965298652,1.7254059827373689,"Støvsugning"]
[null,null,"Værdi","(findes ved opslag i skemaet)",2,8.7379488697199594,6.5811913912982503,5.829407355962684,5.2624882473489754,5.0160016783864938,4.7818394378721356,4.5846501827021511,4.3874609275321665,"Svabning, inkl. støvsugning"]
["m2",null,null,null,3,4.547677197357781,3.4138389801303655,3.0317847982385198,2.7606495723797906,2.6250819594504264,2.4771900180729371,2.3909197189360678,2.2183791206623318,"Maskinslibning, beton, asfalt og træ"]
[null,null,null,null,4,8.0231378197287668,6.038920939580791,5.3241098895895957,4.7818394378721356,4.5969745111502753,4.4244339128765393,4.2149203292584296,3.9684337602959485,"Maskinslibning, Anhydrit"]
["linie1",null,{"$f":"IF('Afsnit 20 gr. 1'!I6=\"\",\"\",HLOOKUP('Afsnit 20 gr. 1'!$G$6,E1:N55,'Afsnit 20 gr. 1'!I6+3))","v":""},null,5,2.9085415137572785,2.1567574784217114,1.9472438948036022,1.7623789680817412,1.6021626982561283,1.4542707568786393,1.3803247861898953,1.2940544870530266,"Primning"]
[null,null,{"$f":"IF('Afsnit 20 gr. 1'!J6=\"\",\"\",HLOOKUP('Afsnit 20 gr. 1'!$G$6,E1:N55,'Afsnit 20 gr. 1'!J6+3))","v":""},null,6,22.750710315237018,17.056870572203703,15.134275334296349,13.68000457741771,12.52151770329405,11.350706500722266,10.833084705901049,10.204543955046725,"Primn..+spartl..+slibn..+støvsug..."]
[null,null,{"$f":"IF('Afsnit 20 gr. 1'!K6=\"\",\"\",HLOOKUP('Afsnit 20 gr. 1'!$G$6,E1:N55,'Afsnit 20 gr. 1'!K6+3))","v":""},null,7,34.101416815959283,25.59763018675368,22.676764344548271,20.446060895437828,18.757627898044831,17.056870572203703,16.181843252386901,15.343788917914459,"Primn..+spartl.. m/rive+slibn..+støvsug…"]
[null,null,{"$f":"IF('Afsnit 20 gr. 1'!L6=\"\",\"\",HLOOKUP('Afsnit 20 gr. 1'!$G$6,E1:N55,'Afsnit 20 gr. 1'!L6+3))","v":""},null,8,36.874390716787204,27.655793037590399,24.500764954870643,22.134493892830822,20.298168954060337,18.424871029945482,17.500546396336173,16.600870419623114,"Aftagning og afrensning af belægning"]
[null,null,{"$f":"IF('Afsnit 20 gr. 1'!M6=\"\",\"\",HLOOKUP('Afsnit 20 gr. 1'!$G$6,E1:N55,'Afsnit 20 gr. 1'!M6+3))","v":""},null,9,21.678493740250225,16.268113551523765,14.419464284305153,13.026815169667135,11.942274266232221,10.845409034349176,10.266165597287344,9.7855167878105096,"Aftagning af ekstra lag belægning"]
[null,null,{"$f":"IF('Afsnit 20 gr. 1'!N6=\"\",\"\",HLOOKUP('Afsnit 20 gr. 1'!$G$6,E1:N55,'Afsnit 20 gr. 1'!N6+3))","v":""},null,10,59.292344163924874,44.478501369279748,39.450175362445123,35.580336229734179,32.58552441684003,29.615361260842128,28.161090503963489,26.669846761740473,"Aftagning af masonit, afrensning af søm"]
[null,null,{"$f":"IF('Afsnit 20 gr. 1'!O6=\"\",\"\",HLOOKUP('Afsnit 20 gr. 1'!$G$6,E1:N55,'Afsnit 20 gr. 1'!O6+3))","v":""},null,11,24.315900028148782,17.993519534261136,14.974059064470739,13.260977410181491,11.831355310199099,10.42638186711296,9.9087600722917486,8.7872461835124582,"Korkment, lægni..+klæbn..+ inkl. div. Udskær.."]
[null,null,{"$f":"IF('Afsnit 20 gr. 1'!P6=\"\",\"\",HLOOKUP('Afsnit 20 gr. 1'!$G$6,E1:N55,'Afsnit 20 gr. 1'!P6+3))","v":""},null,12,2.2307034491104556,1.7377303111854931,1.5405410560155082,1.3803247861898953,1.2940544870530266,1.1215138887792899,1.1215138887792899,0.98594627584992522,"Opskæring af Korkment"]
[null,null,{"$f":"IF('Afsnit 20 gr. 1'!Q6=\"\",\"\",HLOOKUP('Afsnit 20 gr. 1'!$G$6,E1:N55,'Afsnit 20 gr. 1'!Q6+3))","v":""},null,13,61.375155671657836,46.746177803734561,38.279364159873353,30.786172463413916,26.682171090188596,22.257737177312059,19.74357417389475,18.387898044601101,"Træfiberplader, inkl. maskinsømni.., inkl. div udskær.."]
[null,null,{"$f":"IF('Afsnit 20 gr. 1'!R6=\"\",\"\",HLOOKUP('Afsnit 20 gr. 1'!$G$6,E1:N55,'Afsnit 20 gr. 1'!R6+3))","v":""},null,14,50.295584396794304,40.657959550361298,33.978173531478049,28.111793190170992,25.474386902272443,22.800007629029526,21.037628660947778,19.546384918724765,"Svømmende fiberplader - under 12mm"]
[null,null,{"$f":"IF('Afsnit 20 gr. 1'!S6=\"\",\"\",HLOOKUP('Afsnit 20 gr. 1'!$G$6,E1:N55,'Afsnit 20 gr. 1'!S6+3))","v":""},null,15,64.530183754377589,52.329098590734773,44.527798683072248,38.008228934014618,34.976444135776092,31.895362023745076,30.096010070318961,28.764982597921563,"Svømmende fiberplader - 12-25mm"]
[null,null,{"$f":"IF('Afsnit 20 gr. 1'!T6=\"\",\"\",HLOOKUP('Afsnit 20 gr. 1'!$G$6,E1:N55,'Afsnit 20 gr. 1'!T6+3))","v":""},null,16,3.5617309215078543,2.9701631559978998,2.6867036016910459,2.1690818068698356,2.0211898654923464,1.7747032965298652,1.7747032965298652,1.6268113551523768,"Plastfolie udlagt"]
[null,null,{"$f":"IF('Afsnit 20 gr. 1'!U6=\"\",\"\",HLOOKUP('Afsnit 20 gr. 1'!$G$6,E1:N55,'Afsnit 20 gr. 1'!U6+3))","v":""},null,17,5.1392449628677355,3.8575148042628316,3.4384876370266144,3.0317847982385198,2.8222712146204105,2.489514346521061,2.489514346521061,2.2183791206623318,"Korkparkolag, alm. tilskær.. er indeholdt"]
[null,null,{"$f":"IF('Afsnit 20 gr. 1'!V6=\"\",\"\",HLOOKUP('Afsnit 20 gr. 1'!$G$6,E1:N55,'Afsnit 20 gr. 1'!V6+3))","v":""},null,18,7.850597221455029,6.5935157197463736,5.8787046697551784,4.855785408560882,4.4490825697727878,3.993082417192197,3.993082417192197,3.6233525637484751,"Dampspærre udlagt, bredde t.o.m. 100 cm"]
[null,null,{"$f":"IF('Afsnit 20 gr. 1'!W6=\"\",\"\",HLOOKUP('Afsnit 20 gr. 1'!$G$6,E1:N55,'Afsnit 20 gr. 1'!W6+3))","v":""},null,19,11.449301128307255,8.5407596145499749,7.6041106524925466,6.8030293033644824,6.3100561654395211,5.7431370568258151,5.7431370568258151,5.1762179482121065,"Polystyrolplader t.om. 100 mm udlagt"]
[null,null,{"$f":"IF('Afsnit 20 gr. 1'!X6=\"\",\"\",HLOOKUP('Afsnit 20 gr. 1'!$G$6,E1:N55,'Afsnit 20 gr. 1'!X6+3))","v":""},null,20,65.799589584534374,44.835906894275361,33.978173531478049,25.905738397956785,22.516548074722664,19.176655065281043,16.157194595490648,14.567356225682644,"Lægning af luvtæpper og nålefilt"]
["Sum af punkter",null,{"$f":"SUM(C8:C23)","v":0},null,21,7.2836781128413222,4.5107042120134073,3.4877849508191101,2.5264873318654328,2.3662710620398202,2.1321088215254629,2.095135836181091,1.9595682232517262,"Opskæring af nålefilt og Luvtæpper (20%) pr kvm"]
[null,null,null,null,22,63.531913150079546,42.605203445164896,32.918281284939383,25.733197799683044,22.615142702307658,19.472438948036022,17.291032812718061,15.83676205583942,"Lægning af linoleum/vinyl"]
["Resultat",null,{"$f":"B6*B243","v":0},"Sum af punkter gange punkttal",23,77.014728472327292,51.675909182984199,39.930824171921969,31.229848287546378,27.433955125524172,23.650386291950074,20.606277165263435,18.178384460982993,"Linoleum som Sandwichbelægning"]
[null,null,null,null,24,8.2326514033468747,5.1145963059714878,3.9068121180553277,3.2166497249603805,2.9824874844460236,2.6990279301391706,2.6250819594504264,2.427892704280441,"Opskæring af Linolium/vinyl"]
["linie2",null,{"$f":"IF('Afsnit 20 gr. 1'!I7=\"\",\"\",HLOOKUP('Afsnit 20 gr. 1'!$G$7,E1:N55,'Afsnit 20 gr. 1'!I7+3))","v":""},null,25,9.9087600722917486,7.3945970688744396,5.2255152620046026,4.140974358569685,3.4138389801303655,2.6990279301391706,1.7747032965298652,1.5282167275673839,"Tæt tilskæring"]
[null,null,{"$f":"IF('Afsnit 20 gr. 1'!J7=\"\",\"\",HLOOKUP('Afsnit 20 gr. 1'!$G$7,E1:N55,'Afsnit 20 gr. 1'!J7+3))","v":""},null,26,22.085196579038325,11.079571274863532,9.6499491748811437,8.208002746450628,7.4192457257706854,6.6304887050907455,6.0019479542364191,5.2624882473489754,"Trådsvejsning/trådfugning, 200 cm"]
[null,null,{"$f":"IF('Afsnit 20 gr. 1'!K7=\"\",\"\",HLOOKUP('Afsnit 20 gr. 1'!$G$7,E1:N55,'Afsnit 20 gr. 1'!K7+3))","v":""},null,27,24.476116297974389,12.262706805883441,10.722165749867937,9.1200030516118051,8.2326514033468747,7.3699484119781911,6.6428130335388698,5.7924343706183103,"Trådsvejsning/trådfugning, 180 cm"]
[null,null,{"$f":"IF('Afsnit 20 gr. 1'!L7=\"\",\"\",HLOOKUP('Afsnit 20 gr. 1'!$G$7,E1:N55,'Afsnit 20 gr. 1'!L7+3))","v":""},null,28,29.356550363431523,14.702923838612008,12.817301586049027,10.91935500503792,9.9087600722917486,8.8488678257530786,7.9861648343843941,6.9878942300863445,"Trådsvejsning/trådfugning, 150 cm"]
[null,null,{"$f":"IF('Afsnit 20 gr. 1'!M7=\"\",\"\",HLOOKUP('Afsnit 20 gr. 1'!$G$7,E1:N55,'Afsnit 20 gr. 1'!M7+3))","v":""},null,29,35.272228018531081,17.710059979954277,15.417734888603206,13.125409797252129,11.880652623991599,10.598922465386696,9.5760032041923981,8.380543344724364,"Trådsvejsning/trådfugning, 125 cm"]
[null,null,{"$f":"IF('Afsnit 20 gr. 1'!N7=\"\",\"\",HLOOKUP('Afsnit 20 gr. 1'!$G$7,E1:N55,'Afsnit 20 gr. 1'!N7+3))","v":""},null,30,58.15850594669746,43.923906589114161,36.529309520239735,30.317847982385203,26.275468251400504,22.233088520415805,19.620330889413513,18.412546701497352,"Fliser udlagt (vinyl, linolium, kork, gummi)"]
[null,null,{"$f":"IF('Afsnit 20 gr. 1'!O7=\"\",\"\",HLOOKUP('Afsnit 20 gr. 1'!$G$7,E1:N55,'Afsnit 20 gr. 1'!O7+3))","v":""},null,31,58.76239804065554,45.464447645129674,37.650823409019011,26.805414374669837,23.416224051435719,20.187249998027216,18.042816848053629,16.428329821349379,"Tæppefliser m/filt-, pvc-, tjæreholdig-, Bitumenbagside"]
[null,null,{"$f":"IF('Afsnit 20 gr. 1'!P7=\"\",\"\",HLOOKUP('Afsnit 20 gr. 1'!$G$7,E1:N55,'Afsnit 20 gr. 1'!P7+3))","v":""},null,32,6.4456237783688861,4.8434610801127551,4.2888662999471743,3.8821634611590805,3.5494065930597305,3.2166497249603805,3.0687577835828921,2.9085415137572785,"Afdækning af gulv, minimums bredde 90 cm"]
[null,null,{"$f":"IF('Afsnit 20 gr. 1'!Q7=\"\",\"\",HLOOKUP('Afsnit 20 gr. 1'!$G$7,E1:N55,'Afsnit 20 gr. 1'!Q7+3))","v":""},null,33,7.2467051274969503,5.4350288456227132,4.8064880947683859,4.3628122706359189,3.9684337602959485,3.6233525637484751,3.4384876370266144,3.2659470387528762,"Aftagning af gulvafdækning"]
[null,null,{"$f":"IF('Afsnit 20 gr. 1'!R7=\"\",\"\",HLOOKUP('Afsnit 20 gr. 1'!$G$7,E1:N55,'Afsnit 20 gr. 1'!R7+3))","v":""},null,34,21.86335866697209,16.403681164453129,14.530383240338271,13.10076114035588,12.040868893817208,10.931679333486045,10.364760224872338,9.859462758499248,"Afdækning med masonit"]
[null,null,{"$f":"IF('Afsnit 20 gr. 1'!S7=\"\",\"\",HLOOKUP('Afsnit 20 gr. 1'!$G$7,E1:N55,'Afsnit 20 gr. 1'!S7+3))","v":""},null,35,14.702923838612008,11.054922617967286,9.8224897731548797,8.8488678257530786,8.0970837904175106,7.3699484119781911,7.0125428869825939,6.618164376642623,"Aftagning af masonitafdækning"]
[null,null,{"$f":"IF('Afsnit 20 gr. 1'!T7=\"\",\"\",HLOOKUP('Afsnit 20 gr. 1'!$G$7,E1:N55,'Afsnit 20 gr. 1'!T7+3))","v":""},null,36,35.444768616804815,21.432007171287747,15.454707873947577,14.09903174465393,11.104219931759781,8.1710297611062543,7.0002185585344687,6.9755699016382202,"Plastfodlister opsat (Type 1)"]
[null,null,{"$f":"IF('Afsnit 20 gr. 1'!U7=\"\",\"\",HLOOKUP('Afsnit 20 gr. 1'!$G$7,E1:N55,'Afsnit 20 gr. 1'!U7+3))","v":""},null,37,21.604547769561481,13.458166665351477,10.204543955046725,8.5654082714462252,6.8153536318126093,5.0776233206271142,3.2166497249603805,3.1180550973753878,"Lister opsat"]
[null,null,{"$f":"IF('Afsnit 20 gr. 1'!V7=\"\",\"\",HLOOKUP('Afsnit 20 gr. 1'!$G$7,E1:N55,'Afsnit 20 gr. 1'!V7+3))","v":""},null,38,44.182717486524773,31.316118586683249,23.206710467817608,19.115033423040419,14.246923686031417,10.598922465386696,7.6903809516294164,6.5318940775057523,"Tillæg for bort, tæt tildannet i samlinger"]
[null,null,{"$f":"IF('Afsnit 20 gr. 1'!W7=\"\",\"\",HLOOKUP('Afsnit 20 gr. 1'!$G$7,E1:N55,'Afsnit 20 gr. 1'!W7+3))","v":""},null,39,77.35980966887476,54.793964280359596,40.584013579672543,33.423578751312469,24.907467793658736,18.572762971322962,13.433518008455231,11.375355157618509,"Tillæg for bort, svejst i samlinger"]
[null,null,{"$f":"IF('Afsnit 20 gr. 1'!X7=\"\",\"\",HLOOKUP('Afsnit 20 gr. 1'!$G$7,E1:N55,'Afsnit 20 gr. 1'!X7+3))","v":""},null,40,67.266184669861147,47.645853780447631,35.296876675427328,29.060766480676541,21.666169411802098,16.157194595490648,11.69578769726974,9.9457330576361205,"Tillæg for friser, tæt tildannet i samlinger"]
[null,null,{"$f":"SUM(C28:C43)","v":0},null,41,126.37366390706417,89.523921847173199,66.378833021596208,54.596775025189594,40.707256864153784,30.379469624625813,21.949628966108953,18.646708942011713,"Tillæg for friser, svejst i samlinger"]
[null,null,null,null,42,4.5230285404615307,3.4015146516822412,2.9948118128941483,2.7236765870354187,2.489514346521061,2.206054792214208,2.1321088215254629,2.0335141939404706,"Tillæg for skridsikker vinyl"]
[null,null,null,null,43,34.759121599999993,26.0693412,23.115672000000004,20.857613300000001,19.113236199999999,17.379560799999997,16.512723099999999,15.645885399999999,"Færdigtildannet Linoleumsbånd som fodpanel, t.o.m 10 cm høje, opsat med tape, inklusiv indvendige og udvendige hjørner eksklusiv, tilskæring mod gulv."]
[null,null,null,null,44,35.444030399999995,21.4355051,15.4532548,14.094138900000001,11.108364600000002,8.1760988000000001,6.9989118000000001,6.9775083999999996,"\"Boltaprofil\" lignende skinne monteret i top af linoleumsbånd på væg, med påmonteret tape eller monteret med montagelim."]
[null,null,null,null,45,10.9585408,8.2189055999999994,7.2878577,6.5708437999999996,6.0250570999999997,5.4792703999999999,5.2010262000000003,4.9334837,"Fugning med 1 komponent fugemasse t.o.m. 5 mm mellem bånd og gulv, eller i top af linoleumsbånd, udført som glittet skrå fuge."]
[null,null,null,null,46,null,null,null,null,null,null,null,60.327587753567308,"Gulvskinne fastgjort med forboring, plugs, skrue og klæbning pr. m. / pr. samling / pr. gering .................................................. kr."]
[null,null,null,null,47,null,null,null,null,null,null,null,40.238932383125068,"Gulvskinne fastgjort i underlag af træ, inkl. klæbning pr. m. / pr. samling / pr. gering .................................................. kr."]
["linie3",null,{"$f":"IF('Afsnit 20 gr. 1'!I8=\"\",\"\",HLOOKUP('Afsnit 20 gr. 1'!$G$8,E1:N55,'Afsnit 20 gr. 1'!I8+3))","v":""},null,48,null,null,null,null,null,null,null,36.196552652140376,"Gulvskinne monteret med dobbeltklæbende tape, pr. m / pr. samling / pr. gering ................................................... kr."]
[null,null,{"$f":"IF('Afsnit 20 gr. 1'!J8=\"\",\"\",HLOOKUP('Afsnit 20 gr. 1'!$G$8,E1:N55,'Afsnit 20 gr. 1'!J8+3))","v":""},null,49,null,null,null,null,null,null,null,0.1,"I rum over 150 m2 betales pkt. 36. Plastfodlister, type 1, inkl. tillæg pr. m. / pr. samling / pr. gering ......................................... kr."]
[null,null,{"$f":"IF('Afsnit 20 gr. 1'!K8=\"\",\"\",HLOOKUP('Afsnit 20 gr. 1'!$G$8,E1:N55,'Afsnit 20 gr. 1'!K8+3))","v":""},null,50,null,null,null,null,null,null,null,5.64,"I rum over 150 m2 betales pkt. 37. Lister/panellister af hårdt træ, fyr og plast/skum, inkl. tillæg pr. m. / pr. samling / pr. gering ..... kr."]
[null,null,{"$f":"IF('Afsnit 20 gr. 1'!L8=\"\",\"\",HLOOKUP('Afsnit 20 gr. 1'!$G$8,E1:N55,'Afsnit 20 gr. 1'!L8+3))","v":""},null,51,null,null,null,null,null,null,null,3.73,"For ”strips”, der leveres tilskårne, pr. meter .............................. kr."]
[null,null,{"$f":"IF('Afsnit 20 gr. 1'!M8=\"\",\"\",HLOOKUP('Afsnit 20 gr. 1'!$G$8,E1:N55,'Afsnit 20 gr. 1'!M8+3))","v":""},null,52,null,null,null,null,null,null,null,null,"Ved lægning af diagonalt samt sildebensmønster tillægges grund-priserne 10 %, tillægget betales til arbejde udført efter 20-01-30"]
[null,null,{"$f":"IF('Afsnit 20 gr. 1'!N8=\"\",\"\",HLOOKUP('Afsnit 20 gr. 1'!$G$8,E1:N55,'Afsnit 20 gr. 1'!N8+3))","v":""}]
[null,null,{"$f":"IF('Afsnit 20 gr. 1'!O8=\"\",\"\",HLOOKUP('Afsnit 20 gr. 1'!$G$8,E1:N55,'Afsnit 20 gr. 1'!O8+3))","v":""}]
[null,null,{"$f":"IF('Afsnit 20 gr. 1'!P8=\"\",\"\",HLOOKUP('Afsnit 20 gr. 1'!$G$8,E1:N55,'Afsnit 20 gr. 1'!P8+3))","v":""}]
[null,null,{"$f":"IF('Afsnit 20 gr. 1'!Q8=\"\",\"\",HLOOKUP('Afsnit 20 gr. 1'!$G$8,E1:N55,'Afsnit 20 gr. 1'!Q8+3))","v":""}]
[null,null,{"$f":"IF('Afsnit 20 gr. 1'!R8=\"\",\"\",HLOOKUP('Afsnit 20 gr. 1'!$G$8,E1:N55,'Afsnit 20 gr. 1'!R8+3))","v":""}]
[null,null,{"$f":"IF('Afsnit 20 gr. 1'!S8=\"\",\"\",HLOOKUP('Afsnit 20 gr. 1'!$G$8,E1:N55,'Afsnit 20 gr. 1'!S8+3))","v":""}]
[null,null,{"$f":"IF('Afsnit 20 gr. 1'!T8=\"\",\"\",HLOOKUP('Afsnit 20 gr. 1'!$G$8,E1:N55,'Afsnit 20 gr. 1'!T8+3))","v":""}]
[null,null,{"$f":"IF('Afsnit 20 gr. 1'!U8=\"\",\"\",HLOOKUP('Afsnit 20 gr. 1'!$G$8,E1:N55,'Afsnit 20 gr. 1'!U8+3))","v":""}]
[null,null,{"$f":"IF('Afsnit 20 gr. 1'!V8=\"\",\"\",HLOOKUP('Afsnit 20 gr. 1'!$G$8,E1:N55,'Afsnit 20 gr. 1'!V8+3))","v":""}]
[null,null,{"$f":"IF('Afsnit 20 gr. 1'!W8=\"\",\"\",HLOOKUP('Afsnit 20 gr. 1'!$G$8,E1:N55,'Afsnit 20 gr. 1'!W8+3))","v":""}]
[null,null,{"$f":"IF('Afsnit 20 gr. 1'!X8=\"\",\"\",HLOOKUP('Afsnit 20 gr. 1'!$G$8,E1:N55,'Afsnit 20 gr. 1'!X8+3))","v":""}]
[null,null,{"$f":"SUM(C51:C66)","v":0}]
[]
[]
[]
["linie4",null,{"$f":"IF('Afsnit 20 gr. 1'!I9=\"\",\"\",HLOOKUP('Afsnit 20 gr. 1'!$G$9,E1:M56,'Afsnit 20 gr. 1'!I9+3))","v":""}]
[null,null,{"$f":"IF('Afsnit 20 gr. 1'!J9=\"\",\"\",HLOOKUP('Afsnit 20 gr. 1'!$G$9,E1:M45,'Afsnit 20 gr. 1'!J9+3))","v":""}]
[null,null,{"$f":"IF('Afsnit 20 gr. 1'!K9=\"\",\"\",HLOOKUP('Afsnit 20 gr. 1'!$G$9,E1:M45,'Afsnit 20 gr. 1'!K9+3))","v":""}]
[null,null,{"$f":"IF('Afsnit 20 gr. 1'!L9=\"\",\"\",HLOOKUP('Afsnit 20 gr. 1'!$G$9,E1:M45,'Afsnit 20 gr. 1'!L9+3))","v":""}]
[null,null,{"$f":"IF('Afsnit 20 gr. 1'!M9=\"\",\"\",HLOOKUP('Afsnit 20 gr. 1'!$G$9,E1:M45,'Afsnit 20 gr. 1'!M9+3))","v":""}]
[null,null,{"$f":"IF('Afsnit 20 gr. 1'!N9=\"\",\"\",HLOOKUP('Afsnit 20 gr. 1'!$G$9,E1:M45,'Afsnit 20 gr. 1'!N9+3))","v":""}]
[null,null,{"$f":"IF('Afsnit 20 gr. 1'!O9=\"\",\"\",HLOOKUP('Afsnit 20 gr. 1'!$G$9,E1:M56,'Afsnit 20 gr. 1'!O9+3))","v":""}]
[null,null,{"$f":"IF('Afsnit 20 gr. 1'!P9=\"\",\"\",HLOOKUP('Afsnit 20 gr. 1'!$G$9,E1:M55,'Afsnit 20 gr. 1'!P9+3))","v":""}]
[null,null,{"$f":"IF('Afsnit 20 gr. 1'!Q9=\"\",\"\",HLOOKUP('Afsnit 20 gr. 1'!$G$9,E1:M56,'Afsnit 20 gr. 1'!Q9+3))","v":""}]
[null,null,{"$f":"IF('Afsnit 20 gr. 1'!R9=\"\",\"\",HLOOKUP('Afsnit 20 gr. 1'!$G$9,E1:M56,'Afsnit 20 gr. 1'!R9+3))","v":""}]
[null,null,{"$f":"IF('Afsnit 20 gr. 1'!S9=\"\",\"\",HLOOKUP('Afsnit 20 gr. 1'!$G$9,E1:M55,'Afsnit 20 gr. 1'!S9+3))","v":""}]
[null,null,{"$f":"IF('Afsnit 20 gr. 1'!T9=\"\",\"\",HLOOKUP('Afsnit 20 gr. 1'!$G$9,E1:M56,'Afsnit 20 gr. 1'!T9+3))","v":""}]
[null,null,{"$f":"IF('Afsnit 20 gr. 1'!U9=\"\",\"\",HLOOKUP('Afsnit 20 gr. 1'!$G$9,E1:M56,'Afsnit 20 gr. 1'!U9+3))","v":""}]
[null,null,{"$f":"IF('Afsnit 20 gr. 1'!V9=\"\",\"\",HLOOKUP('Afsnit 20 gr. 1'!$G$9,E1:M56,'Afsnit 20 gr. 1'!V9+3))","v":""}]
[null,null,{"$f":"IF('Afsnit 20 gr. 1'!W9=\"\",\"\",HLOOKUP('Afsnit 20 gr. 1'!$G$9,E1:M56,'Afsnit 20 gr. 1'!W9+3))","v":""}]
[null,null,{"$f":"IF('Afsnit 20 gr. 1'!X9=\"\",\"\",HLOOKUP('Afsnit 20 gr. 1'!$G$9,E1:M56,'Afsnit 20 gr. 1'!X9+3))","v":""}]
[null,null,{"$f":"SUM(C71:C86)","v":0}]
[]
[]
[]
["linie5",null,{"$f":"IF('Afsnit 20 gr. 1'!I10=\"\",\"\",HLOOKUP('Afsnit 20 gr. 1'!$G$10,E1:M56,'Afsnit 20 gr. 1'!I10+3))","v":""}]
[null,null,{"$f":"IF('Afsnit 20 gr. 1'!J10=\"\",\"\",HLOOKUP('Afsnit 20 gr. 1'!$G$10,E1:M45,'Afsnit 20 gr. 1'!J10+3))","v":""}]
[null,null,{"$f":"IF('Afsnit 20 gr. 1'!K10=\"\",\"\",HLOOKUP('Afsnit 20 gr. 1'!$G$10,E1:M45,'Afsnit 20 gr. 1'!K10+3))","v":""}]
[null,null,{"$f":"IF('Afsnit 20 gr. 1'!L10=\"\",\"\",HLOOKUP('Afsnit 20 gr. 1'!$G$10,E1:M45,'Afsnit 20 gr. 1'!L10+3))","v":""}]
[null,null,{"$f":"IF('Afsnit 20 gr. 1'!M10=\"\",\"\",HLOOKUP('Afsnit 20 gr. 1'!$G$10,E1:M45,'Afsnit 20 gr. 1'!M10+3))","v":""}]
[null,null,{"$f":"IF('Afsnit 20 gr. 1'!N10=\"\",\"\",HLOOKUP('Afsnit 20 gr. 1'!$G$10,E1:M45,'Afsnit 20 gr. 1'!N10+3))","v":""}]
[null,null,{"$f":"IF('Afsnit 20 gr. 1'!O10=\"\",\"\",HLOOKUP('Afsnit 20 gr. 1'!$G$10,E1:M56,'Afsnit 20 gr. 1'!O10+3))","v":""}]
[null,null,{"$f":"IF('Afsnit 20 gr. 1'!P10=\"\",\"\",HLOOKUP('Afsnit 20 gr. 1'!$G$10,E1:M56,'Afsnit 20 gr. 1'!P10+3))","v":""}]
[null,null,{"$f":"IF('Afsnit 20 gr. 1'!Q10=\"\",\"\",HLOOKUP('Afsnit 20 gr. 1'!$G$10,E1:M55,'Afsnit 20 gr. 1'!Q10+3))","v":""}]
[null,null,{"$f":"IF('Afsnit 20 gr. 1'!R10=\"\",\"\",HLOOKUP('Afsnit 20 gr. 1'!$G$10,E1:M56,'Afsnit 20 gr. 1'!R10+3))","v":""}]
[null,null,{"$f":"IF('Afsnit 20 gr. 1'!S10=\"\",\"\",HLOOKUP('Afsnit 20 gr. 1'!$G$10,E1:M56,'Afsnit 20 gr. 1'!S10+3))","v":""}]
[null,null,{"$f":"IF('Afsnit 20 gr. 1'!T10=\"\",\"\",HLOOKUP('Afsnit 20 gr. 1'!$G$10,E1:M56,'Afsnit 20 gr. 1'!T10+3))","v":""}]
[null,null,{"$f":"IF('Afsnit 20 gr. 1'!U10=\"\",\"\",HLOOKUP('Afsnit 20 gr. 1'!$G$10,E1:M56,'Afsnit 20 gr. 1'!U10+3))","v":""}]
[null,null,{"$f":"IF('Afsnit 20 gr. 1'!V10=\"\",\"\",HLOOKUP('Afsnit 20 gr. 1'!$G$10,E1:M56,'Afsnit 20 gr. 1'!V10+3))","v":""}]
[null,null,{"$f":"IF('Afsnit 20 gr. 1'!W10=\"\",\"\",HLOOKUP('Afsnit 20 gr. 1'!$G$10,E1:M56,'Afsnit 20 gr. 1'!W10+3))","v":""}]
[null,null,{"$f":"IF('Afsnit 20 gr. 1'!X10=\"\",\"\",HLOOKUP('Afsnit 20 gr. 1'!$G$10,E1:M56,'Afsnit 20 gr. 1'!X10+3))","v":""}]
[null,null,{"$f":"SUM(C91:C106)","v":0}]
[]
[]
[]
["linie6",null,{"$f":"IF('Afsnit 20 gr. 1'!I11=\"\",\"\",HLOOKUP('Afsnit 20 gr. 1'!$G$11,E1:M53,'Afsnit 20 gr. 1'!I11+3))","v":""}]
[null,null,{"$f":"IF('Afsnit 20 gr. 1'!J11=\"\",\"\",HLOOKUP('Afsnit 20 gr. 1'!$G$11,E1:M53,'Afsnit 20 gr. 1'!J11+3))","v":""}]
[null,null,{"$f":"IF('Afsnit 20 gr. 1'!K11=\"\",\"\",HLOOKUP('Afsnit 20 gr. 1'!$G$11,E1:M53,'Afsnit 20 gr. 1'!K11+3))","v":""}]
[null,null,{"$f":"IF('Afsnit 20 gr. 1'!L11=\"\",\"\",HLOOKUP('Afsnit 20 gr. 1'!$G$11,E1:M53,'Afsnit 20 gr. 1'!L11+3))","v":""}]
[null,null,{"$f":"IF('Afsnit 20 gr. 1'!M11=\"\",\"\",HLOOKUP('Afsnit 20 gr. 1'!$G$11,E1:M53,'Afsnit 20 gr. 1'!M11+3))","v":""}]
[null,null,{"$f":"IF('Afsnit 20 gr. 1'!N11=\"\",\"\",HLOOKUP('Afsnit 20 gr. 1'!$G$11,E1:M53,'Afsnit 20 gr. 1'!N11+3))","v":""}]
[null,null,{"$f":"IF('Afsnit 20 gr. 1'!O11=\"\",\"\",HLOOKUP('Afsnit 20 gr. 1'!$G$11,E1:M53,'Afsnit 20 gr. 1'!O11+3))","v":""}]
[null,null,{"$f":"IF('Afsnit 20 gr. 1'!P11=\"\",\"\",HLOOKUP('Afsnit 20 gr. 1'!$G$11,E1:M56,'Afsnit 20 gr. 1'!P11+3))","v":""}]
[null,null,{"$f":"IF('Afsnit 20 gr. 1'!Q11=\"\",\"\",HLOOKUP('Afsnit 20 gr. 1'!$G$11,E1:M56,'Afsnit 20 gr. 1'!Q11+3))","v":""}]
[null,null,{"$f":"IF('Afsnit 20 gr. 1'!R11=\"\",\"\",HLOOKUP('Afsnit 20 gr. 1'!$G$11,E1:M56,'Afsnit 20 gr. 1'!R11+3))","v":""}]
[null,null,{"$f":"IF('Afsnit 20 gr. 1'!S11=\"\",\"\",HLOOKUP('Afsnit 20 gr. 1'!$G$11,E1:M56,'Afsnit 20 gr. 1'!S11+3))","v":""}]
[null,null,{"$f":"IF('Afsnit 20 gr. 1'!T11=\"\",\"\",HLOOKUP('Afsnit 20 gr. 1'!$G$11,E1:M56,'Afsnit 20 gr. 1'!T11+3))","v":""}]
[null,null,{"$f":"IF('Afsnit 20 gr. 1'!U11=\"\",\"\",HLOOKUP('Afsnit 20 gr. 1'!$G$11,E1:M56,'Afsnit 20 gr. 1'!U11+3))","v":""}]
[null,null,{"$f":"IF('Afsnit 20 gr. 1'!V11=\"\",\"\",HLOOKUP('Afsnit 20 gr. 1'!$G$11,E1:M56,'Afsnit 20 gr. 1'!V11+3))","v":""}]
[null,null,{"$f":"IF('Afsnit 20 gr. 1'!W11=\"\",\"\",HLOOKUP('Afsnit 20 gr. 1'!$G$11,E1:M56,'Afsnit 20 gr. 1'!W11+3))","v":""}]
[null,null,{"$f":"IF('Afsnit 20 gr. 1'!X11=\"\",\"\",HLOOKUP('Afsnit 20 gr. 1'!$G$11,E1:M56,'Afsnit 20 gr. 1'!X11+3))","v":""}]
[null,null,{"$f":"SUM(C111:C126)","v":0}]
[]
[]
[]
["linie7",null,{"$f":"IF('Afsnit 20 gr. 1'!I12=\"\",\"\",HLOOKUP('Afsnit 20 gr. 1'!$G$12,E1:M55,'Afsnit 20 gr. 1'!I12+3))","v":""}]
[null,null,{"$f":"IF('Afsnit 20 gr. 1'!J12=\"\",\"\",HLOOKUP('Afsnit 20 gr. 1'!$G$12,E1:M55,'Afsnit 20 gr. 1'!J12+3))","v":""}]
[null,null,{"$f":"IF('Afsnit 20 gr. 1'!K12=\"\",\"\",HLOOKUP('Afsnit 20 gr. 1'!$G$12,E1:M55,'Afsnit 20 gr. 1'!K12+3))","v":""}]
[null,null,{"$f":"IF('Afsnit 20 gr. 1'!L12=\"\",\"\",HLOOKUP('Afsnit 20 gr. 1'!$G$12,E1:M55,'Afsnit 20 gr. 1'!L12+3))","v":""}]
[null,null,{"$f":"IF('Afsnit 20 gr. 1'!M12=\"\",\"\",HLOOKUP('Afsnit 20 gr. 1'!$G$12,E1:M55,'Afsnit 20 gr. 1'!M12+3))","v":""}]
[null,null,{"$f":"IF('Afsnit 20 gr. 1'!N12=\"\",\"\",HLOOKUP('Afsnit 20 gr. 1'!$G$12,E1:M55,'Afsnit 20 gr. 1'!N12+3))","v":""}]
[null,null,{"$f":"IF('Afsnit 20 gr. 1'!O12=\"\",\"\",HLOOKUP('Afsnit 20 gr. 1'!$G$12,E1:M55,'Afsnit 20 gr. 1'!O12+3))","v":""}]
[null,null,{"$f":"IF('Afsnit 20 gr. 1'!P12=\"\",\"\",HLOOKUP('Afsnit 20 gr. 1'!$G$12,E1:M55,'Afsnit 20 gr. 1'!P12+3))","v":""}]
[null,null,{"$f":"IF('Afsnit 20 gr. 1'!Q12=\"\",\"\",HLOOKUP('Afsnit 20 gr. 1'!$G$12,E1:M56,'Afsnit 20 gr. 1'!Q12+3))","v":""}]
[null,null,{"$f":"IF('Afsnit 20 gr. 1'!R12=\"\",\"\",HLOOKUP('Afsnit 20 gr. 1'!$G$12,E1:M56,'Afsnit 20 gr. 1'!R12+3))","v":""}]
[null,null,{"$f":"IF('Afsnit 20 gr. 1'!S12=\"\",\"\",HLOOKUP('Afsnit 20 gr. 1'!$G$12,E1:M56,'Afsnit 20 gr. 1'!S12+3))","v":""}]
[null,null,{"$f":"IF('Afsnit 20 gr. 1'!T12=\"\",\"\",HLOOKUP('Afsnit 20 gr. 1'!$G$12,E1:M56,'Afsnit 20 gr. 1'!T12+3))","v":""}]
[null,null,{"$f":"IF('Afsnit 20 gr. 1'!U12=\"\",\"\",HLOOKUP('Afsnit 20 gr. 1'!$G$12,E1:M56,'Afsnit 20 gr. 1'!U12+3))","v":""}]
[null,null,{"$f":"IF('Afsnit 20 gr. 1'!V12=\"\",\"\",HLOOKUP('Afsnit 20 gr. 1'!$G$12,E1:M56,'Afsnit 20 gr. 1'!V12+3))","v":""}]
[null,null,{"$f":"IF('Afsnit 20 gr. 1'!W12=\"\",\"\",HLOOKUP('Afsnit 20 gr. 1'!$G$12,E1:M56,'Afsnit 20 gr. 1'!W12+3))","v":""}]
[null,null,{"$f":"IF('Afsnit 20 gr. 1'!X12=\"\",\"\",HLOOKUP('Afsnit 20 gr. 1'!$G$12,E1:M56,'Afsnit 20 gr. 1'!X12+3))","v":""}]
[null,null,{"$f":"SUM(C131:C146)","v":0}]
[]
[]
[]
["linie8",null,{"$f":"IF('Afsnit 20 gr. 1'!I13=\"\",\"\",HLOOKUP('Afsnit 20 gr. 1'!$G$13,E1:M56,'Afsnit 20 gr. 1'!I13+3))","v":""}]
[null,null,{"$f":"IF('Afsnit 20 gr. 1'!J13=\"\",\"\",HLOOKUP('Afsnit 20 gr. 1'!$G$13,E1:M56,'Afsnit 20 gr. 1'!J13+3))","v":""}]
[null,null,{"$f":"IF('Afsnit 20 gr. 1'!K13=\"\",\"\",HLOOKUP('Afsnit 20 gr. 1'!$G$13,E1:M56,'Afsnit 20 gr. 1'!K13+3))","v":""}]
[null,null,{"$f":"IF('Afsnit 20 gr. 1'!L13=\"\",\"\",HLOOKUP('Afsnit 20 gr. 1'!$G$13,E1:M56,'Afsnit 20 gr. 1'!L13+3))","v":""}]
[null,null,{"$f":"IF('Afsnit 20 gr. 1'!M13=\"\",\"\",HLOOKUP('Afsnit 20 gr. 1'!$G$13,E1:M56,'Afsnit 20 gr. 1'!M13+3))","v":""}]
[null,null,{"$f":"IF('Afsnit 20 gr. 1'!N13=\"\",\"\",HLOOKUP('Afsnit 20 gr. 1'!$G$13,E1:M56,'Afsnit 20 gr. 1'!N13+3))","v":""}]
[null,null,{"$f":"IF('Afsnit 20 gr. 1'!O13=\"\",\"\",HLOOKUP('Afsnit 20 gr. 1'!$G$13,E1:M56,'Afsnit 20 gr. 1'!O13+3))","v":""}]
[null,null,{"$f":"IF('Afsnit 20 gr. 1'!P13=\"\",\"\",HLOOKUP('Afsnit 20 gr. 1'!$G$13,E1:M56,'Afsnit 20 gr. 1'!P13+3))","v":""}]
[null,null,{"$f":"IF('Afsnit 20 gr. 1'!Q13=\"\",\"\",HLOOKUP('Afsnit 20 gr. 1'!$G$13,E1:M57,'Afsnit 20 gr. 1'!Q13+3))","v":""}]
[null,null,{"$f":"IF('Afsnit 20 gr. 1'!R13=\"\",\"\",HLOOKUP('Afsnit 20 gr. 1'!$G$13,E1:M56,'Afsnit 20 gr. 1'!R13+3))","v":""}]
[null,null,{"$f":"IF('Afsnit 20 gr. 1'!S13=\"\",\"\",HLOOKUP('Afsnit 20 gr. 1'!$G$13,E1:M56,'Afsnit 20 gr. 1'!S13+3))","v":""}]
[null,null,{"$f":"IF('Afsnit 20 gr. 1'!T13=\"\",\"\",HLOOKUP('Afsnit 20 gr. 1'!$G$13,E1:M56,'Afsnit 20 gr. 1'!T13+3))","v":""}]
[null,null,{"$f":"IF('Afsnit 20 gr. 1'!U13=\"\",\"\",HLOOKUP('Afsnit 20 gr. 1'!$G$13,E1:M56,'Afsnit 20 gr. 1'!U13+3))","v":""}]
[null,null,{"$f":"IF('Afsnit 20 gr. 1'!V13=\"\",\"\",HLOOKUP('Afsnit 20 gr. 1'!$G$13,E1:M56,'Afsnit 20 gr. 1'!V13+3))","v":""}]
[null,null,{"$f":"IF('Afsnit 20 gr. 1'!W13=\"\",\"\",HLOOKUP('Afsnit 20 gr. 1'!$G$13,E1:M56,'Afsnit 20 gr. 1'!W13+3))","v":""}]
[null,null,{"$f":"IF('Afsnit 20 gr. 1'!X13=\"\",\"\",HLOOKUP('Afsnit 20 gr. 1'!$G$13,E1:M56,'Afsnit 20 gr. 1'!X13+3))","v":""}]
[null,null,{"$f":"SUM(C151:C166)","v":0}]
[]
[]
[]
["linie9",null,{"$f":"IF('Afsnit 20 gr. 1'!I14=\"\",\"\",HLOOKUP('Afsnit 20 gr. 1'!$G$14,E1:M53,'Afsnit 20 gr. 1'!I14+3))","v":""}]
[null,null,{"$f":"IF('Afsnit 20 gr. 1'!J14=\"\",\"\",HLOOKUP('Afsnit 20 gr. 1'!$G$14,E1:M53,'Afsnit 20 gr. 1'!J14+3))","v":""}]
[null,null,{"$f":"IF('Afsnit 20 gr. 1'!K14=\"\",\"\",HLOOKUP('Afsnit 20 gr. 1'!$G$14,E1:M53,'Afsnit 20 gr. 1'!K14+3))","v":""}]
[null,null,{"$f":"IF('Afsnit 20 gr. 1'!L14=\"\",\"\",HLOOKUP('Afsnit 20 gr. 1'!$G$14,E1:M53,'Afsnit 20 gr. 1'!L14+3))","v":""}]
[null,null,{"$f":"IF('Afsnit 20 gr. 1'!M14=\"\",\"\",HLOOKUP('Afsnit 20 gr. 1'!$G$14,E1:M53,'Afsnit 20 gr. 1'!M14+3))","v":""}]
[null,null,{"$f":"IF('Afsnit 20 gr. 1'!N14=\"\",\"\",HLOOKUP('Afsnit 20 gr. 1'!$G$14,E1:M53,'Afsnit 20 gr. 1'!N14+3))","v":""}]
[null,null,{"$f":"IF('Afsnit 20 gr. 1'!O14=\"\",\"\",HLOOKUP('Afsnit 20 gr. 1'!$G$14,E1:M53,'Afsnit 20 gr. 1'!O14+3))","v":""}]
[null,null,{"$f":"IF('Afsnit 20 gr. 1'!P14=\"\",\"\",HLOOKUP('Afsnit 20 gr. 1'!$G$14,E1:M53,'Afsnit 20 gr. 1'!P14+3))","v":""}]
[null,null,{"$f":"IF('Afsnit 20 gr. 1'!Q14=\"\",\"\",HLOOKUP('Afsnit 20 gr. 1'!$G$14,E1:M53,'Afsnit 20 gr. 1'!Q14+3))","v":""}]
[null,null,{"$f":"IF('Afsnit 20 gr. 1'!R14=\"\",\"\",HLOOKUP('Afsnit 20 gr. 1'!$G$14,E1:M53,'Afsnit 20 gr. 1'!R14+3))","v":""}]
[null,null,{"$f":"IF('Afsnit 20 gr. 1'!S14=\"\",\"\",HLOOKUP('Afsnit 20 gr. 1'!$G$14,E1:M53,'Afsnit 20 gr. 1'!S14+3))","v":""}]
[null,null,{"$f":"IF('Afsnit 20 gr. 1'!T14=\"\",\"\",HLOOKUP('Afsnit 20 gr. 1'!$G$14,E1:M53,'Afsnit 20 gr. 1'!T14+3))","v":""}]
[null,null,{"$f":"IF('Afsnit 20 gr. 1'!U14=\"\",\"\",HLOOKUP('Afsnit 20 gr. 1'!$G$14,E1:M53,'Afsnit 20 gr. 1'!U14+3))","v":""}]
[null,null,{"$f":"IF('Afsnit 20 gr. 1'!V14=\"\",\"\",HLOOKUP('Afsnit 20 gr. 1'!$G$14,E1:M53,'Afsnit 20 gr. 1'!V14+3))","v":""}]
[null,null,{"$f":"IF('Afsnit 20 gr. 1'!W14=\"\",\"\",HLOOKUP('Afsnit 20 gr. 1'!$G$14,E1:M53,'Afsnit 20 gr. 1'!W14+3))","v":""}]
[null,null,{"$f":"IF('Afsnit 20 gr. 1'!X14=\"\",\"\",HLOOKUP('Afsnit 20 gr. 1'!$G$14,E1:M53,'Afsnit 20 gr. 1'!X14+3))","v":""}]
[null,null,{"$f":"SUM(C171:C186)","v":0}]
[]
[]
[]
["linie10",null,{"$f":"IF('Afsnit 20 gr. 1'!I15=\"\",\"\",HLOOKUP('Afsnit 20 gr. 1'!$G$15,E1:M53,'Afsnit 20 gr. 1'!I15+3))","v":""}]
[null,null,{"$f":"IF('Afsnit 20 gr. 1'!J15=\"\",\"\",HLOOKUP('Afsnit 20 gr. 1'!$G$15,E1:M53,'Afsnit 20 gr. 1'!J15+3))","v":""}]
[null,null,{"$f":"IF('Afsnit 20 gr. 1'!K15=\"\",\"\",HLOOKUP('Afsnit 20 gr. 1'!$G$15,E1:M53,'Afsnit 20 gr. 1'!K15+3))","v":""}]
[null,null,{"$f":"IF('Afsnit 20 gr. 1'!L15=\"\",\"\",HLOOKUP('Afsnit 20 gr. 1'!$G$15,E1:M53,'Afsnit 20 gr. 1'!L15+3))","v":""}]
[null,null,{"$f":"IF('Afsnit 20 gr. 1'!M15=\"\",\"\",HLOOKUP('Afsnit 20 gr. 1'!$G$15,E1:M53,'Afsnit 20 gr. 1'!M15+3))","v":""}]
[null,null,{"$f":"IF('Afsnit 20 gr. 1'!N15=\"\",\"\",HLOOKUP('Afsnit 20 gr. 1'!$G$15,E1:M53,'Afsnit 20 gr. 1'!N15+3))","v":""}]
[null,null,{"$f":"IF('Afsnit 20 gr. 1'!O15=\"\",\"\",HLOOKUP('Afsnit 20 gr. 1'!$G$15,E1:M53,'Afsnit 20 gr. 1'!O15+3))","v":""}]
[null,null,{"$f":"IF('Afsnit 20 gr. 1'!P15=\"\",\"\",HLOOKUP('Afsnit 20 gr. 1'!$G$15,E1:M53,'Afsnit 20 gr. 1'!P15+3))","v":""}]
[null,null,{"$f":"IF('Afsnit 20 gr. 1'!Q15=\"\",\"\",HLOOKUP('Afsnit 20 gr. 1'!$G$15,E1:M53,'Afsnit 20 gr. 1'!Q15+3))","v":""}]
[null,null,{"$f":"IF('Afsnit 20 gr. 1'!R15=\"\",\"\",HLOOKUP('Afsnit 20 gr. 1'!$G$15,E1:M53,'Afsnit 20 gr. 1'!R15+3))","v":""}]
[null,null,{"$f":"IF('Afsnit 20 gr. 1'!S15=\"\",\"\",HLOOKUP('Afsnit 20 gr. 1'!$G$15,E1:M53,'Afsnit 20 gr. 1'!S15+3))","v":""}]
[null,null,{"$f":"IF('Afsnit 20 gr. 1'!T15=\"\",\"\",HLOOKUP('Afsnit 20 gr. 1'!$G$15,E1:M53,'Afsnit 20 gr. 1'!T15+3))","v":""}]
[null,null,{"$f":"IF('Afsnit 20 gr. 1'!U15=\"\",\"\",HLOOKUP('Afsnit 20 gr. 1'!$G$15,E1:M53,'Afsnit 20 gr. 1'!U15+3))","v":""}]
[null,null,{"$f":"IF('Afsnit 20 gr. 1'!V15=\"\",\"\",HLOOKUP('Afsnit 20 gr. 1'!$G$15,E1:M53,'Afsnit 20 gr. 1'!V15+3))","v":""}]
[null,null,{"$f":"IF('Afsnit 20 gr. 1'!W15=\"\",\"\",HLOOKUP('Afsnit 20 gr. 1'!$G$15,E1:M53,'Afsnit 20 gr. 1'!W15+3))","v":""}]
[null,null,{"$f":"IF('Afsnit 20 gr. 1'!X15=\"\",\"\",HLOOKUP('Afsnit 20 gr. 1'!$G$15,E1:M53,'Afsnit 20 gr. 1'!X15+3))","v":""}]
[null,null,{"$f":"SUM(C191:C206)","v":0}]
[]
[]
[]
["linie11",null,{"$f":"IF('Afsnit 20 gr. 1'!I16=\"\",\"\",HLOOKUP('Afsnit 20 gr. 1'!$G$16,E1:M53,'Afsnit 20 gr. 1'!I16+3))","v":""}]
[null,null,{"$f":"IF('Afsnit 20 gr. 1'!J16=\"\",\"\",HLOOKUP('Afsnit 20 gr. 1'!$G$16,E1:M53,'Afsnit 20 gr. 1'!J16+3))","v":""}]
[null,null,{"$f":"IF('Afsnit 20 gr. 1'!K16=\"\",\"\",HLOOKUP('Afsnit 20 gr. 1'!$G$16,E1:M53,'Afsnit 20 gr. 1'!K16+3))","v":""}]
[null,null,{"$f":"IF('Afsnit 20 gr. 1'!L16=\"\",\"\",HLOOKUP('Afsnit 20 gr. 1'!$G$16,E1:M53,'Afsnit 20 gr. 1'!L16+3))","v":""}]
[null,null,{"$f":"IF('Afsnit 20 gr. 1'!M16=\"\",\"\",HLOOKUP('Afsnit 20 gr. 1'!$G$16,E1:M53,'Afsnit 20 gr. 1'!M16+3))","v":""}]
[null,null,{"$f":"IF('Afsnit 20 gr. 1'!N16=\"\",\"\",HLOOKUP('Afsnit 20 gr. 1'!$G$16,E1:M53,'Afsnit 20 gr. 1'!N16+3))","v":""}]
[null,null,{"$f":"IF('Afsnit 20 gr. 1'!O16=\"\",\"\",HLOOKUP('Afsnit 20 gr. 1'!$G$16,E1:M53,'Afsnit 20 gr. 1'!O16+3))","v":""}]
[null,null,{"$f":"IF('Afsnit 20 gr. 1'!P16=\"\",\"\",HLOOKUP('Afsnit 20 gr. 1'!$G$16,E1:M53,'Afsnit 20 gr. 1'!P16+3))","v":""}]
[null,null,{"$f":"IF('Afsnit 20 gr. 1'!Q16=\"\",\"\",HLOOKUP('Afsnit 20 gr. 1'!$G$16,E1:M53,'Afsnit 20 gr. 1'!Q16+3))","v":""}]
[null,null,{"$f":"IF('Afsnit 20 gr. 1'!R16=\"\",\"\",HLOOKUP('Afsnit 20 gr. 1'!$G$16,E1:M53,'Afsnit 20 gr. 1'!R16+3))","v":""}]
[null,null,{"$f":"IF('Afsnit 20 gr. 1'!S16=\"\",\"\",HLOOKUP('Afsnit 20 gr. 1'!$G$16,E1:M53,'Afsnit 20 gr. 1'!S16+3))","v":""}]
[null,null,{"$f":"IF('Afsnit 20 gr. 1'!T16=\"\",\"\",HLOOKUP('Afsnit 20 gr. 1'!$G$6,E1:M53,'Afsnit 20 gr. 1'!T16+3))","v":""}]
[null,null,{"$f":"IF('Afsnit 20 gr. 1'!U16=\"\",\"\",HLOOKUP('Afsnit 20 gr. 1'!$G$16,E1:M53,'Afsnit 20 gr. 1'!U16+3))","v":""}]
[null,null,{"$f":"IF('Afsnit 20 gr. 1'!V16=\"\",\"\",HLOOKUP('Afsnit 20 gr. 1'!$G$16,E1:M53,'Afsnit 20 gr. 1'!V16+3))","v":""}]
[null,null,{"$f":"IF('Afsnit 20 gr. 1'!W16=\"\",\"\",HLOOKUP('Afsnit 20 gr. 1'!$G$16,E1:M53,'Afsnit 20 gr. 1'!W16+3))","v":""}]
[null,null,{"$f":"IF('Afsnit 20 gr. 1'!X16=\"\",\"\",HLOOKUP('Afsnit 20 gr. 1'!$G$16,E1:M53,'Afsnit 20 gr. 1'!X16+3))","v":""}]
[null,null,{"$f":"SUM(C211:C226)","v":0}]
[]
[]
[]
["linie12",null,{"$f":"IF('Afsnit 20 gr. 1'!I17=\"\",\"\",HLOOKUP('Afsnit 20 gr. 1'!$G$17,E1:M53,'Afsnit 20 gr. 1'!I17+3))","v":""}]
[null,null,{"$f":"IF('Afsnit 20 gr. 1'!J17=\"\",\"\",HLOOKUP('Afsnit 20 gr. 1'!$G$17,E1:M53,'Afsnit 20 gr. 1'!J17+3))","v":""}]
[null,null,{"$f":"IF('Afsnit 20 gr. 1'!K17=\"\",\"\",HLOOKUP('Afsnit 20 gr. 1'!$G$17,E1:M53,'Afsnit 20 gr. 1'!K17+3))","v":""}]
[null,null,{"$f":"IF('Afsnit 20 gr. 1'!L17=\"\",\"\",HLOOKUP('Afsnit 20 gr. 1'!$G$17,E1:M53,'Afsnit 20 gr. 1'!L17+3))","v":""}]
[null,null,{"$f":"IF('Afsnit 20 gr. 1'!M17=\"\",\"\",HLOOKUP('Afsnit 20 gr. 1'!$G$17,E1:M53,'Afsnit 20 gr. 1'!M17+3))","v":""}]
[null,null,{"$f":"IF('Afsnit 20 gr. 1'!N17=\"\",\"\",HLOOKUP('Afsnit 20 gr. 1'!$G$17,E1:M53,'Afsnit 20 gr. 1'!N17+3))","v":""}]
[null,null,{"$f":"IF('Afsnit 20 gr. 1'!O17=\"\",\"\",HLOOKUP('Afsnit 20 gr. 1'!$G$17,E1:M53,'Afsnit 20 gr. 1'!O17+3))","v":""}]
[null,null,{"$f":"IF('Afsnit 20 gr. 1'!P17=\"\",\"\",HLOOKUP('Afsnit 20 gr. 1'!$G$17,E1:M53,'Afsnit 20 gr. 1'!P17+3))","v":""}]
[null,null,{"$f":"IF('Afsnit 20 gr. 1'!Q17=\"\",\"\",HLOOKUP('Afsnit 20 gr. 1'!$G$17,E1:M53,'Afsnit 20 gr. 1'!Q17+3))","v":""}]
[null,null,{"$f":"IF('Afsnit 20 gr. 1'!R17=\"\",\"\",HLOOKUP('Afsnit 20 gr. 1'!$G$17,E1:M53,'Afsnit 20 gr. 1'!R17+3))","v":""}]
[null,null,{"$f":"IF('Afsnit 20 gr. 1'!S17=\"\",\"\",HLOOKUP('Afsnit 20 gr. 1'!$G$17,E1:M53,'Afsnit 20 gr. 1'!S17+3))","v":""}]
[null,null,{"$f":"IF('Afsnit 20 gr. 1'!T17=\"\",\"\",HLOOKUP('Afsnit 20 gr. 1'!$G$17,E1:M53,'Afsnit 20 gr. 1'!T17+3))","v":""}]
[null,null,{"$f":"IF('Afsnit 20 gr. 1'!U17=\"\",\"\",HLOOKUP('Afsnit 20 gr. 1'!$G$17,E1:M53,'Afsnit 20 gr. 1'!U17+3))","v":""}]
[null,null,{"$f":"IF('Afsnit 20 gr. 1'!V17=\"\",\"\",HLOOKUP('Afsnit 20 gr. 1'!$G$17,E1:M53,'Afsnit 20 gr. 1'!V17+3))","v":""}]
[null,null,{"$f":"IF('Afsnit 20 gr. 1'!W17=\"\",\"\",HLOOKUP('Afsnit 20 gr. 1'!$G$17,E1:M53,'Afsnit 20 gr. 1'!W17+3))","v":""}]
[null,null,{"$f":"IF('Afsnit 20 gr. 1'!X17=\"\",\"\",HLOOKUP('Afsnit 20 gr. 1'!$G$17,E1:M53,'Afsnit 20 gr. 1'!X17+3))","v":""}]
[null,null,{"$f":"SUM(C231:C246)","v":0}]
[]
[]
[]
["linie13",null,{"$f":"IF('Afsnit 20 gr. 1'!I18=\"\",\"\",HLOOKUP('Afsnit 20 gr. 1'!$G$18,E1:M53,'Afsnit 20 gr. 1'!I18+3))","v":""}]
[null,null,{"$f":"IF('Afsnit 20 gr. 1'!J18=\"\",\"\",HLOOKUP('Afsnit 20 gr. 1'!$G$18,E1:M53,'Afsnit 20 gr. 1'!J18+3))","v":""}]
[null,null,{"$f":"IF('Afsnit 20 gr. 1'!K18=\"\",\"\",HLOOKUP('Afsnit 20 gr. 1'!$G$18,E1:M53,'Afsnit 20 gr. 1'!K18+3))","v":""}]
[null,null,{"$f":"IF('Afsnit 20 gr. 1'!L18=\"\",\"\",HLOOKUP('Afsnit 20 gr. 1'!$G$18,E1:M53,'Afsnit 20 gr. 1'!L18+3))","v":""}]
[null,null,{"$f":"IF('Afsnit 20 gr. 1'!M18=\"\",\"\",HLOOKUP('Afsnit 20 gr. 1'!$G$18,E1:M53,'Afsnit 20 gr. 1'!M18+3))","v":""}]
[null,null,{"$f":"IF('Afsnit 20 gr. 1'!N18=\"\",\"\",HLOOKUP('Afsnit 20 gr. 1'!$G$18,E1:M53,'Afsnit 20 gr. 1'!N18+3))","v":""}]
[null,null,{"$f":"IF('Afsnit 20 gr. 1'!O18=\"\",\"\",HLOOKUP('Afsnit 20 gr. 1'!$G$18,E1:M53,'Afsnit 20 gr. 1'!O18+3))","v":""}]
[null,null,{"$f":"IF('Afsnit 20 gr. 1'!P18=\"\",\"\",HLOOKUP('Afsnit 20 gr. 1'!$G$19,E1:M53,'Afsnit 20 gr. 1'!P18+3))","v":""}]
[null,null,{"$f":"IF('Afsnit 20 gr. 1'!Q18=\"\",\"\",HLOOKUP('Afsnit 20 gr. 1'!$G$18,E1:M53,'Afsnit 20 gr. 1'!Q18+3))","v":""}]
[null,null,{"$f":"IF('Afsnit 20 gr. 1'!R18=\"\",\"\",HLOOKUP('Afsnit 20 gr. 1'!$G$18,E1:M53,'Afsnit 20 gr. 1'!R18+3))","v":""}]
[null,null,{"$f":"IF('Afsnit 20 gr. 1'!S18=\"\",\"\",HLOOKUP('Afsnit 20 gr. 1'!$G$18,E1:M53,'Afsnit 20 gr. 1'!S18+3))","v":""}]
[null,null,{"$f":"IF('Afsnit 20 gr. 1'!T18=\"\",\"\",HLOOKUP('Afsnit 20 gr. 1'!$G$18,E1:M53,'Afsnit 20 gr. 1'!T18+3))","v":""}]
[null,null,{"$f":"IF('Afsnit 20 gr. 1'!U18=\"\",\"\",HLOOKUP('Afsnit 20 gr. 1'!$G$18,E1:M53,'Afsnit 20 gr. 1'!U18+3))","v":""}]
[null,null,{"$f":"IF('Afsnit 20 gr. 1'!V18=\"\",\"\",HLOOKUP('Afsnit 20 gr. 1'!$G$18,E1:M53,'Afsnit 20 gr. 1'!V18+3))","v":""}]
[null,null,{"$f":"IF('Afsnit 20 gr. 1'!W18=\"\",\"\",HLOOKUP('Afsnit 20 gr. 1'!$G$18,E1:M53,'Afsnit 20 gr. 1'!W18+3))","v":""}]
[null,null,{"$f":"IF('Afsnit 20 gr. 1'!X18=\"\",\"\",HLOOKUP('Afsnit 20 gr. 1'!$G$18,E1:M53,'Afsnit 20 gr. 1'!X18+3))","v":""}]
[null,null,{"$f":"SUM(C251:C266)","v":0}]
[]
[]
[]
["linie14",null,{"$f":"IF('Afsnit 20 gr. 1'!I19=\"\",\"\",HLOOKUP('Afsnit 20 gr. 1'!$G$19,E1:M53,'Afsnit 20 gr. 1'!I19+3))","v":""}]
[null,null,{"$f":"IF('Afsnit 20 gr. 1'!J19=\"\",\"\",HLOOKUP('Afsnit 20 gr. 1'!$G$19,E1:M53,'Afsnit 20 gr. 1'!J19+3))","v":""}]
[null,null,{"$f":"IF('Afsnit 20 gr. 1'!K19=\"\",\"\",HLOOKUP('Afsnit 20 gr. 1'!$G$19,E1:M53,'Afsnit 20 gr. 1'!K19+3))","v":""}]
[null,null,{"$f":"IF('Afsnit 20 gr. 1'!L19=\"\",\"\",HLOOKUP('Afsnit 20 gr. 1'!$G$19,E1:M53,'Afsnit 20 gr. 1'!L19+3))","v":""}]
[null,null,{"$f":"IF('Afsnit 20 gr. 1'!M19=\"\",\"\",HLOOKUP('Afsnit 20 gr. 1'!$G$19,E1:M53,'Afsnit 20 gr. 1'!M19+3))","v":""}]
[null,null,{"$f":"IF('Afsnit 20 gr. 1'!N19=\"\",\"\",HLOOKUP('Afsnit 20 gr. 1'!$G$19,E1:M53,'Afsnit 20 gr. 1'!N19+3))","v":""}]
[null,null,{"$f":"IF('Afsnit 20 gr. 1'!O19=\"\",\"\",HLOOKUP('Afsnit 20 gr. 1'!$G$19,E1:M53,'Afsnit 20 gr. 1'!O19+3))","v":""}]
[null,null,{"$f":"IF('Afsnit 20 gr. 1'!P19=\"\",\"\",HLOOKUP('Afsnit 20 gr. 1'!$G$19,E1:M53,'Afsnit 20 gr. 1'!P19+3))","v":""}]
[null,null,{"$f":"IF('Afsnit 20 gr. 1'!Q19=\"\",\"\",HLOOKUP('Afsnit 20 gr. 1'!$G$19,E1:M53,'Afsnit 20 gr. 1'!Q19+3))","v":""}]
[null,null,{"$f":"IF('Afsnit 20 gr. 1'!R19=\"\",\"\",HLOOKUP('Afsnit 20 gr. 1'!$G$19,E1:M53,'Afsnit 20 gr. 1'!R19+3))","v":""}]
[null,null,{"$f":"IF('Afsnit 20 gr. 1'!S19=\"\",\"\",HLOOKUP('Afsnit 20 gr. 1'!$G$19,E1:M53,'Afsnit 20 gr. 1'!S19+3))","v":""}]
[null,null,{"$f":"IF('Afsnit 20 gr. 1'!T19=\"\",\"\",HLOOKUP('Afsnit 20 gr. 1'!$G$19,E1:M53,'Afsnit 20 gr. 1'!T19+3))","v":""}]
[null,null,{"$f":"IF('Afsnit 20 gr. 1'!U19=\"\",\"\",HLOOKUP('Afsnit 20 gr. 1'!$G$19,E1:M53,'Afsnit 20 gr. 1'!U19+3))","v":""}]
[null,null,{"$f":"IF('Afsnit 20 gr. 1'!V19=\"\",\"\",HLOOKUP('Afsnit 20 gr. 1'!$G$19,E1:M53,'Afsnit 20 gr. 1'!V19+3))","v":""}]
[null,null,{"$f":"IF('Afsnit 20 gr. 1'!W19=\"\",\"\",HLOOKUP('Afsnit 20 gr. 1'!$G$19,E1:M53,'Afsnit 20 gr. 1'!W19+3))","v":""}]
[null,null,{"$f":"IF('Afsnit 20 gr. 1'!X19=\"\",\"\",HLOOKUP('Afsnit 20 gr. 1'!$G$19,E1:M53,'Afsnit 20 gr. 1'!X19+3))","v":""}]
[null,null,{"$f":"SUM(C271:C286)","v":0}]
[]
[]
[]
["linie15",null,{"$f":"IF('Afsnit 20 gr. 1'!I20=\"\",\"\",HLOOKUP('Afsnit 20 gr. 1'!$G$20,E1:M53,'Afsnit 20 gr. 1'!I20+3))","v":""}]
[null,null,{"$f":"IF('Afsnit 20 gr. 1'!J20=\"\",\"\",HLOOKUP('Afsnit 20 gr. 1'!$G$20,E1:M53,'Afsnit 20 gr. 1'!J20+3))","v":""}]
[null,null,{"$f":"IF('Afsnit 20 gr. 1'!K20=\"\",\"\",HLOOKUP('Afsnit 20 gr. 1'!$G$20,E1:M53,'Afsnit 20 gr. 1'!K20+3))","v":""}]
[null,null,{"$f":"IF('Afsnit 20 gr. 1'!L20=\"\",\"\",HLOOKUP('Afsnit 20 gr. 1'!$G$20,E1:M53,'Afsnit 20 gr. 1'!L20+3))","v":""}]
[null,null,{"$f":"IF('Afsnit 20 gr. 1'!M20=\"\",\"\",HLOOKUP('Afsnit 20 gr. 1'!$G$20,E1:M53,'Afsnit 20 gr. 1'!M20+3))","v":""}]
[null,null,{"$f":"IF('Afsnit 20 gr. 1'!N20=\"\",\"\",HLOOKUP('Afsnit 20 gr. 1'!$G$20,E1:M53,'Afsnit 20 gr. 1'!N20+3))","v":""}]
[null,null,{"$f":"IF('Afsnit 20 gr. 1'!O20=\"\",\"\",HLOOKUP('Afsnit 20 gr. 1'!$G$20,E1:M53,'Afsnit 20 gr. 1'!O20+3))","v":""}]
[null,null,{"$f":"IF('Afsnit 20 gr. 1'!P20=\"\",\"\",HLOOKUP('Afsnit 20 gr. 1'!$G$20,E1:M53,'Afsnit 20 gr. 1'!P20+3))","v":""}]
[null,null,{"$f":"IF('Afsnit 20 gr. 1'!Q20=\"\",\"\",HLOOKUP('Afsnit 20 gr. 1'!$G$20,E1:M53,'Afsnit 20 gr. 1'!Q20+3))","v":""}]
[null,null,{"$f":"IF('Afsnit 20 gr. 1'!R20=\"\",\"\",HLOOKUP('Afsnit 20 gr. 1'!$G$20,E1:M53,'Afsnit 20 gr. 1'!R20+3))","v":""}]
[null,null,{"$f":"IF('Afsnit 20 gr. 1'!S20=\"\",\"\",HLOOKUP('Afsnit 20 gr. 1'!$G$20,E1:M53,'Afsnit 20 gr. 1'!S20+3))","v":""}]
[null,null,{"$f":"IF('Afsnit 20 gr. 1'!T20=\"\",\"\",HLOOKUP('Afsnit 20 gr. 1'!$G$20,E1:M53,'Afsnit 20 gr. 1'!T20+3))","v":""}]
[null,null,{"$f":"IF('Afsnit 20 gr. 1'!U20=\"\",\"\",HLOOKUP('Afsnit 20 gr. 1'!$G$20,E1:M53,'Afsnit 20 gr. 1'!U20+3))","v":""}]
[null,null,{"$f":"IF('Afsnit 20 gr. 1'!V20=\"\",\"\",HLOOKUP('Afsnit 20 gr. 1'!$G$20,E1:M53,'Afsnit 20 gr. 1'!V20+3))","v":""}]
[null,null,{"$f":"IF('Afsnit 20 gr. 1'!W20=\"\",\"\",HLOOKUP('Afsnit 20 gr. 1'!$G$20,E1:M53,'Afsnit 20 gr. 1'!W20+3))","v":""}]
[null,null,{"$f":"IF('Afsnit 20 gr. 1'!X20=\"\",\"\",HLOOKUP('Afsnit 20 gr. 1'!$G$20,E1:M53,'Afsnit 20 gr. 1'!X20+3))","v":""}]
[null,null,{"$f":"SUM(C291:C306)","v":0}]
[]
[]
[]
["linie16",null,{"$f":"IF('Afsnit 20 gr. 1'!I21=\"\",\"\",HLOOKUP('Afsnit 20 gr. 1'!$G$21,E1:M53,'Afsnit 20 gr. 1'!I21+3))","v":""}]
[null,null,{"$f":"IF('Afsnit 20 gr. 1'!J21=\"\",\"\",HLOOKUP('Afsnit 20 gr. 1'!$G$21,E1:M53,'Afsnit 20 gr. 1'!J21+3))","v":""}]
[null,null,{"$f":"IF('Afsnit 20 gr. 1'!K21=\"\",\"\",HLOOKUP('Afsnit 20 gr. 1'!$G$21,E1:M53,'Afsnit 20 gr. 1'!K21+3))","v":""}]
[null,null,{"$f":"IF('Afsnit 20 gr. 1'!L21=\"\",\"\",HLOOKUP('Afsnit 20 gr. 1'!$G$21,E1:M53,'Afsnit 20 gr. 1'!L21+3))","v":""}]
[null,null,{"$f":"IF('Afsnit 20 gr. 1'!M21=\"\",\"\",HLOOKUP('Afsnit 20 gr. 1'!$G$21,E1:M53,'Afsnit 20 gr. 1'!M21+3))","v":""}]
[null,null,{"$f":"IF('Afsnit 20 gr. 1'!N21=\"\",\"\",HLOOKUP('Afsnit 20 gr. 1'!$G$21,E1:M53,'Afsnit 20 gr. 1'!N21+3))","v":""}]
[null,null,{"$f":"IF('Afsnit 20 gr. 1'!O21=\"\",\"\",HLOOKUP('Afsnit 20 gr. 1'!$G$21,E1:M53,'Afsnit 20 gr. 1'!O21+3))","v":""}]
[null,null,{"$f":"IF('Afsnit 20 gr. 1'!P21=\"\",\"\",HLOOKUP('Afsnit 20 gr. 1'!$G$21,E1:M53,'Afsnit 20 gr. 1'!P21+3))","v":""}]
[null,null,{"$f":"IF('Afsnit 20 gr. 1'!Q21=\"\",\"\",HLOOKUP('Afsnit 20 gr. 1'!$G$21,E1:M53,'Afsnit 20 gr. 1'!Q21+3))","v":""}]
[null,null,{"$f":"IF('Afsnit 20 gr. 1'!R21=\"\",\"\",HLOOKUP('Afsnit 20 gr. 1'!$G$21,E1:M53,'Afsnit 20 gr. 1'!R21+3))","v":""}]
[null,null,{"$f":"IF('Afsnit 20 gr. 1'!S21=\"\",\"\",HLOOKUP('Afsnit 20 gr. 1'!$G$21,E1:M53,'Afsnit 20 gr. 1'!S21+3))","v":""}]
[null,null,{"$f":"IF('Afsnit 20 gr. 1'!T21=\"\",\"\",HLOOKUP('Afsnit 20 gr. 1'!$G$21,E1:M53,'Afsnit 20 gr. 1'!T21+3))","v":""}]
[null,null,{"$f":"IF('Afsnit 20 gr. 1'!U21=\"\",\"\",HLOOKUP('Afsnit 20 gr. 1'!$G$21,E1:M53,'Afsnit 20 gr. 1'!U21+3))","v":""}]
[null,null,{"$f":"IF('Afsnit 20 gr. 1'!V21=\"\",\"\",HLOOKUP('Afsnit 20 gr. 1'!$G$21,E1:M53,'Afsnit 20 gr. 1'!V21+3))","v":""}]
[null,null,{"$f":"IF('Afsnit 20 gr. 1'!W21=\"\",\"\",HLOOKUP('Afsnit 20 gr. 1'!$G$21,E1:M53,'Afsnit 20 gr. 1'!W21+3))","v":""}]
[null,null,{"$f":"IF('Afsnit 20 gr. 1'!X21=\"\",\"\",HLOOKUP('Afsnit 20 gr. 1'!$G$21,E1:M53,'Afsnit 20 gr. 1'!X21+3))","v":""}]
[null,null,{"$f":"SUM(C311:C326)","v":0}]
[]
[]
[]
["linie17",null,{"$f":"IF('Afsnit 20 gr. 1'!I22=\"\",\"\",HLOOKUP('Afsnit 20 gr. 1'!$G$22,E1:M53,'Afsnit 20 gr. 1'!I22+3))","v":""}]
[null,null,{"$f":"IF('Afsnit 20 gr. 1'!J22=\"\",\"\",HLOOKUP('Afsnit 20 gr. 1'!$G$22,E1:M53,'Afsnit 20 gr. 1'!J22+3))","v":""}]
[null,null,{"$f":"IF('Afsnit 20 gr. 1'!K22=\"\",\"\",HLOOKUP('Afsnit 20 gr. 1'!$G$22,E1:M53,'Afsnit 20 gr. 1'!K22+3))","v":""}]
[null,null,{"$f":"IF('Afsnit 20 gr. 1'!L22=\"\",\"\",HLOOKUP('Afsnit 20 gr. 1'!$G$22,E1:M53,'Afsnit 20 gr. 1'!L22+3))","v":""}]
[null,null,{"$f":"IF('Afsnit 20 gr. 1'!M22=\"\",\"\",HLOOKUP('Afsnit 20 gr. 1'!$G$22,E1:M53,'Afsnit 20 gr. 1'!M22+3))","v":""}]
[null,null,{"$f":"IF('Afsnit 20 gr. 1'!N22=\"\",\"\",HLOOKUP('Afsnit 20 gr. 1'!$G$22,E1:M53,'Afsnit 20 gr. 1'!N22+3))","v":""}]
[null,null,{"$f":"IF('Afsnit 20 gr. 1'!O22=\"\",\"\",HLOOKUP('Afsnit 20 gr. 1'!$G$22,E1:M53,'Afsnit 20 gr. 1'!O22+3))","v":""}]
[null,null,{"$f":"IF('Afsnit 20 gr. 1'!P22=\"\",\"\",HLOOKUP('Afsnit 20 gr. 1'!$G$22,E1:M53,'Afsnit 20 gr. 1'!P22+3))","v":""}]
[null,null,{"$f":"IF('Afsnit 20 gr. 1'!Q22=\"\",\"\",HLOOKUP('Afsnit 20 gr. 1'!$G$22,E1:M53,'Afsnit 20 gr. 1'!Q22+3))","v":""}]
[null,null,{"$f":"IF('Afsnit 20 gr. 1'!R22=\"\",\"\",HLOOKUP('Afsnit 20 gr. 1'!$G$22,E1:M53,'Afsnit 20 gr. 1'!R22+3))","v":""}]
[null,null,{"$f":"IF('Afsnit 20 gr. 1'!S22=\"\",\"\",HLOOKUP('Afsnit 20 gr. 1'!$G$22,E1:M53,'Afsnit 20 gr. 1'!S22+3))","v":""}]
[null,null,{"$f":"IF('Afsnit 20 gr. 1'!T22=\"\",\"\",HLOOKUP('Afsnit 20 gr. 1'!$G$22,E1:M53,'Afsnit 20 gr. 1'!T22+3))","v":""}]
[null,null,{"$f":"IF('Afsnit 20 gr. 1'!U22=\"\",\"\",HLOOKUP('Afsnit 20 gr. 1'!$G$22,E1:M53,'Afsnit 20 gr. 1'!U22+3))","v":""}]
[null,null,{"$f":"IF('Afsnit 20 gr. 1'!V22=\"\",\"\",HLOOKUP('Afsnit 20 gr. 1'!$G$22,E1:M53,'Afsnit 20 gr. 1'!V22+3))","v":""}]
[null,null,{"$f":"IF('Afsnit 20 gr. 1'!W22=\"\",\"\",HLOOKUP('Afsnit 20 gr. 1'!$G$22,E1:M53,'Afsnit 20 gr. 1'!W22+3))","v":""}]
[null,null,{"$f":"IF('Afsnit 20 gr. 1'!X22=\"\",\"\",HLOOKUP('Afsnit 20 gr. 1'!$G$22,E1:M53,'Afsnit 20 gr. 1'!X22+3))","v":""}]
[null,null,{"$f":"SUM(C331:C346)","v":0}]
[]
[]
[]
["linie18",null,{"$f":"IF('Afsnit 20 gr. 1'!I23=\"\",\"\",HLOOKUP('Afsnit 20 gr. 1'!$G$23,E1:M53,'Afsnit 20 gr. 1'!I23+3))","v":""}]
[null,null,{"$f":"IF('Afsnit 20 gr. 1'!J23=\"\",\"\",HLOOKUP('Afsnit 20 gr. 1'!$G$23,E1:M53,'Afsnit 20 gr. 1'!J23+3))","v":""}]
[null,null,{"$f":"IF('Afsnit 20 gr. 1'!K23=\"\",\"\",HLOOKUP('Afsnit 20 gr. 1'!$G$23,E1:M53,'Afsnit 20 gr. 1'!K23+3))","v":""}]
[null,null,{"$f":"IF('Afsnit 20 gr. 1'!L23=\"\",\"\",HLOOKUP('Afsnit 20 gr. 1'!$G$23,E1:M53,'Afsnit 20 gr. 1'!L23+3))","v":""}]
[null,null,{"$f":"IF('Afsnit 20 gr. 1'!M23=\"\",\"\",HLOOKUP('Afsnit 20 gr. 1'!$G$23,E1:M53,'Afsnit 20 gr. 1'!M23+3))","v":""}]
[null,null,{"$f":"IF('Afsnit 20 gr. 1'!N23=\"\",\"\",HLOOKUP('Afsnit 20 gr. 1'!$G$23,E1:M53,'Afsnit 20 gr. 1'!N23+3))","v":""}]
[null,null,{"$f":"IF('Afsnit 20 gr. 1'!O23=\"\",\"\",HLOOKUP('Afsnit 20 gr. 1'!$G$23,E1:M53,'Afsnit 20 gr. 1'!O23+3))","v":""}]
[null,null,{"$f":"IF('Afsnit 20 gr. 1'!P23=\"\",\"\",HLOOKUP('Afsnit 20 gr. 1'!$G$23,E1:M53,'Afsnit 20 gr. 1'!P23+3))","v":""}]
[null,null,{"$f":"IF('Afsnit 20 gr. 1'!Q23=\"\",\"\",HLOOKUP('Afsnit 20 gr. 1'!$G$23,E1:M53,'Afsnit 20 gr. 1'!Q23+3))","v":""}]
[null,null,{"$f":"IF('Afsnit 20 gr. 1'!R23=\"\",\"\",HLOOKUP('Afsnit 20 gr. 1'!$G$23,E1:M53,'Afsnit 20 gr. 1'!R23+3))","v":""}]
[null,null,{"$f":"IF('Afsnit 20 gr. 1'!S23=\"\",\"\",HLOOKUP('Afsnit 20 gr. 1'!$G$23,E1:M53,'Afsnit 20 gr. 1'!S23+3))","v":""}]
[null,null,{"$f":"IF('Afsnit 20 gr. 1'!T23=\"\",\"\",HLOOKUP('Afsnit 20 gr. 1'!$G$23,E1:M53,'Afsnit 20 gr. 1'!T23+3))","v":""}]
[null,null,{"$f":"IF('Afsnit 20 gr. 1'!U23=\"\",\"\",HLOOKUP('Afsnit 20 gr. 1'!$G$23,E1:M53,'Afsnit 20 gr. 1'!U23+3))","v":""}]
[null,null,{"$f":"IF('Afsnit 20 gr. 1'!V23=\"\",\"\",HLOOKUP('Afsnit 20 gr. 1'!$G$23,E1:M53,'Afsnit 20 gr. 1'!V23+3))","v":""}]
[null,null,{"$f":"IF('Afsnit 20 gr. 1'!W23=\"\",\"\",HLOOKUP('Afsnit 20 gr. 1'!$G$23,E1:M53,'Afsnit 20 gr. 1'!W23+3))","v":""}]
[null,null,{"$f":"IF('Afsnit 20 gr. 1'!X23=\"\",\"\",HLOOKUP('Afsnit 20 gr. 1'!$G$23,E1:M53,'Afsnit 20 gr. 1'!X23+3))","v":""}]
[null,null,{"$f":"SUM(C351:C366)","v":0}]
[]
[]
[]
["linie19",null,{"$f":"IF('Afsnit 20 gr. 1'!I24=\"\",\"\",HLOOKUP('Afsnit 20 gr. 1'!$G$24,E1:M53,'Afsnit 20 gr. 1'!I24+3))","v":""}]
[null,null,{"$f":"IF('Afsnit 20 gr. 1'!J24=\"\",\"\",HLOOKUP('Afsnit 20 gr. 1'!$G$24,E1:M53,'Afsnit 20 gr. 1'!J24+3))","v":""}]
[null,null,{"$f":"IF('Afsnit 20 gr. 1'!K24=\"\",\"\",HLOOKUP('Afsnit 20 gr. 1'!$G$24,E1:M53,'Afsnit 20 gr. 1'!K24+3))","v":""}]
[null,null,{"$f":"IF('Afsnit 20 gr. 1'!L24=\"\",\"\",HLOOKUP('Afsnit 20 gr. 1'!$G$24,E1:M53,'Afsnit 20 gr. 1'!L24+3))","v":""}]
[null,null,{"$f":"IF('Afsnit 20 gr. 1'!M24=\"\",\"\",HLOOKUP('Afsnit 20 gr. 1'!$G$24,E1:M53,'Afsnit 20 gr. 1'!M24+3))","v":""}]
[null,null,{"$f":"IF('Afsnit 20 gr. 1'!N24=\"\",\"\",HLOOKUP('Afsnit 20 gr. 1'!$G$24,E1:M53,'Afsnit 20 gr. 1'!N24+3))","v":""}]
[null,null,{"$f":"IF('Afsnit 20 gr. 1'!O24=\"\",\"\",HLOOKUP('Afsnit 20 gr. 1'!$G$24,E1:M53,'Afsnit 20 gr. 1'!O24+3))","v":""}]
[null,null,{"$f":"IF('Afsnit 20 gr. 1'!P24=\"\",\"\",HLOOKUP('Afsnit 20 gr. 1'!$G$24,E1:M53,'Afsnit 20 gr. 1'!P24+3))","v":""}]
[null,null,{"$f":"IF('Afsnit 20 gr. 1'!Q24=\"\",\"\",HLOOKUP('Afsnit 20 gr. 1'!$G$24,E1:M53,'Afsnit 20 gr. 1'!Q24+3))","v":""}]
[null,null,{"$f":"IF('Afsnit 20 gr. 1'!R24=\"\",\"\",HLOOKUP('Afsnit 20 gr. 1'!$G$24,E1:M53,'Afsnit 20 gr. 1'!R24+3))","v":""}]
[null,null,{"$f":"IF('Afsnit 20 gr. 1'!S24=\"\",\"\",HLOOKUP('Afsnit 20 gr. 1'!$G$24,E1:M53,'Afsnit 20 gr. 1'!S24+3))","v":""}]
[null,null,{"$f":"IF('Afsnit 20 gr. 1'!T24=\"\",\"\",HLOOKUP('Afsnit 20 gr. 1'!$G$24,E1:M53,'Afsnit 20 gr. 1'!T24+3))","v":""}]
[null,null,{"$f":"IF('Afsnit 20 gr. 1'!U24=\"\",\"\",HLOOKUP('Afsnit 20 gr. 1'!$G$24,E1:M53,'Afsnit 20 gr. 1'!U24+3))","v":""}]
[null,null,{"$f":"IF('Afsnit 20 gr. 1'!V24=\"\",\"\",HLOOKUP('Afsnit 20 gr. 1'!$G$24,E1:M53,'Afsnit 20 gr. 1'!V24+3))","v":""}]
[null,null,{"$f":"IF('Afsnit 20 gr. 1'!W24=\"\",\"\",HLOOKUP('Afsnit 20 gr. 1'!$G$24,E1:M53,'Afsnit 20 gr. 1'!W24+3))","v":""}]
[null,null,{"$f":"IF('Afsnit 20 gr. 1'!X24=\"\",\"\",HLOOKUP('Afsnit 20 gr. 1'!$G$24,E1:M53,'Afsnit 20 gr. 1'!X24+3))","v":""}]
[null,null,{"$f":"SUM(C371:C386)","v":0}]
[]
[]
[]
["linie20",null,{"$f":"IF('Afsnit 20 gr. 1'!I25=\"\",\"\",HLOOKUP('Afsnit 20 gr. 1'!$G$25,E1:M53,'Afsnit 20 gr. 1'!I25+3))","v":""}]
[null,null,{"$f":"IF('Afsnit 20 gr. 1'!J25=\"\",\"\",HLOOKUP('Afsnit 20 gr. 1'!$G$25,E1:M53,'Afsnit 20 gr. 1'!J25+3))","v":""}]
[null,null,{"$f":"IF('Afsnit 20 gr. 1'!K25=\"\",\"\",HLOOKUP('Afsnit 20 gr. 1'!$G$25,E1:M53,'Afsnit 20 gr. 1'!K25+3))","v":""}]
[null,null,{"$f":"IF('Afsnit 20 gr. 1'!L25=\"\",\"\",HLOOKUP('Afsnit 20 gr. 1'!$G$25,E1:M53,'Afsnit 20 gr. 1'!L25+3))","v":""}]
[null,null,{"$f":"IF('Afsnit 20 gr. 1'!M25=\"\",\"\",HLOOKUP('Afsnit 20 gr. 1'!$G$25,E1:M53,'Afsnit 20 gr. 1'!M25+3))","v":""}]
[null,null,{"$f":"IF('Afsnit 20 gr. 1'!N25=\"\",\"\",HLOOKUP('Afsnit 20 gr. 1'!$G$25,E1:M53,'Afsnit 20 gr. 1'!N25+3))","v":""}]
[null,null,{"$f":"IF('Afsnit 20 gr. 1'!O25=\"\",\"\",HLOOKUP('Afsnit 20 gr. 1'!$G$25,E1:M53,'Afsnit 20 gr. 1'!O25+3))","v":""}]
[null,null,{"$f":"IF('Afsnit 20 gr. 1'!P25=\"\",\"\",HLOOKUP('Afsnit 20 gr. 1'!$G$25,E1:M53,'Afsnit 20 gr. 1'!P25+3))","v":""}]
[null,null,{"$f":"IF('Afsnit 20 gr. 1'!Q25=\"\",\"\",HLOOKUP('Afsnit 20 gr. 1'!$G$25,E1:M53,'Afsnit 20 gr. 1'!Q25+3))","v":""}]
[null,null,{"$f":"IF('Afsnit 20 gr. 1'!R25=\"\",\"\",HLOOKUP('Afsnit 20 gr. 1'!$G$25,E1:M53,'Afsnit 20 gr. 1'!R25+3))","v":""}]
[null,null,{"$f":"IF('Afsnit 20 gr. 1'!S25=\"\",\"\",HLOOKUP('Afsnit 20 gr. 1'!$G$25,E1:M53,'Afsnit 20 gr. 1'!S25+3))","v":""}]
[null,null,{"$f":"IF('Afsnit 20 gr. 1'!T25=\"\",\"\",HLOOKUP('Afsnit 20 gr. 1'!$G$25,E1:M53,'Afsnit 20 gr. 1'!T25+3))","v":""}]
[null,null,{"$f":"IF('Afsnit 20 gr. 1'!U25=\"\",\"\",HLOOKUP('Afsnit 20 gr. 1'!$G$25,E1:M53,'Afsnit 20 gr. 1'!U25+3))","v":""}]
[null,null,{"$f":"IF('Afsnit 20 gr. 1'!V25=\"\",\"\",HLOOKUP('Afsnit 20 gr. 1'!$G$25,E1:M53,'Afsnit 20 gr. 1'!V25+3))","v":""}]
[null,null,{"$f":"IF('Afsnit 20 gr. 1'!W25=\"\",\"\",HLOOKUP('Afsnit 20 gr. 1'!$G$25,E1:M53,'Afsnit 20 gr. 1'!W25+3))","v":""}]
[null,null,{"$f":"IF('Afsnit 20 gr. 1'!X25=\"\",\"\",HLOOKUP('Afsnit 20 gr. 1'!$G$25,E1:M53,'Afsnit 20 gr. 1'!X25+3))","v":""}]
[null,null,{"$f":"SUM(C391:C406)","v":0}]

{"sheet":"Beregning gr. 2","index":4,"n_rows":404,"n_cols":28,"rows_kept":404,"cut":false,"hidden":true,"merged":[]}
[null,null,null,null,null,null,0.1,2.1,6.1,10.1,15.1,30.1,50.1,100.1,null,null,null,null,0.1,6.1,15.1,20.100000000000001,30.1,50.1,70.099999999999994,100.1]
["OBS! Data på dette Ark må IKKE ændres",null,null,null,null,"PKt.","A","B","C","D","E","F","G","H",null,null,null,"PKT.","A","B","C","D","E","F","G","H"]
[null,null,null,null,null,null,"u. 2 m2","2-6 m2","6-10 m2","10-15 m2","15-30 m2","30-50 m2","50-100 m2","O. 100 m2",null,null,null,null,"u. 6 m²","6-15m²","15-20m²","20-30m²","30-50m²","50-70m²","70-100m²","O. 100m²"]
[null,null,null,null,"m²",1,3.4138389801303655,2.5264873318654328,2.2307034491104556,2.0704871792848425,1.9965412085960985,1.8979465810111058,1.7747032965298652,1.7254059827373689,"Støvsugning","m²",null,1]
[null,null,"Værdi","(findes ved opslag i skemaet)","m²",2,8.7379488697199594,6.5811913912982503,5.829407355962684,5.2624882473489754,5.0160016783864938,4.7818394378721356,4.5846501827021511,4.3874609275321665,"Svabning, inkl. støvsugning","m²",null,2]
["m2",null,null,null,"m²",3,4.547677197357781,3.4138389801303655,3.0317847982385198,2.7606495723797906,2.6250819594504264,2.4771900180729371,2.3909197189360678,2.2183791206623318,"Maskinslibning, beton, asfalt og træ","m²",null,3]
[null,null,null,null,"m²",4,8.0231378197287668,6.038920939580791,5.3241098895895957,4.7818394378721356,4.5969745111502753,4.4244339128765393,4.2149203292584296,3.9684337602959485,"Maskinslibning, Anhydrit","m²",null,4]
["Række6",null,{"$f":"IF('Afsnit 20 gr. 2'!J6=\"\",\"\",HLOOKUP('Afsnit 20 gr. 2'!$C$6,E1:O52,'Afsnit 20 gr. 2'!J6+3))","v":""},null,"m²",5,2.9085415137572785,2.1567574784217114,1.9472438948036022,1.7623789680817412,1.6021626982561283,1.4542707568786393,1.3803247861898953,1.2940544870530266,"Primning","m²",null,5]
[null,null,{"$f":"IF('Afsnit 20 gr. 2'!K6=\"\",\"\",HLOOKUP('Afsnit 20 gr. 2'!$C$6,F1:N52,'Afsnit 20 gr. 2'!K6+3))","v":""},null,"m²",6,22.750710315237018,17.056870572203703,15.134275334296349,13.68000457741771,12.52151770329405,11.350706500722266,10.833084705901049,10.204543955046725,"Primn..+spartl..+slibn..+støvsug...","m²",null,6]
[null,null,{"$f":"IF('Afsnit 20 gr. 2'!L6=\"\",\"\",HLOOKUP('Afsnit 20 gr. 2'!$C$6,F1:O52,'Afsnit 20 gr. 2'!L6+3))","v":""},null,"m²",7,34.101416815959283,25.59763018675368,22.676764344548271,20.446060895437828,18.757627898044831,17.056870572203703,16.181843252386901,15.343788917914459,"Primn..+spartl.. m/rive+slibn..+støvsug…","m²",null,7]
[null,null,{"$f":"IF('Afsnit 20 gr. 2'!M6=\"\",\"\",HLOOKUP('Afsnit 20 gr. 2'!$C$6,F1:O52,'Afsnit 20 gr. 2'!M6+3))","v":""},null,"m²",8,36.874390716787204,27.655793037590399,24.500764954870643,22.134493892830822,20.298168954060337,18.424871029945482,17.500546396336173,16.600870419623114,"Aftagning og afrensning af belægning","m²",null,8]
[null,null,{"$f":"IF('Afsnit 20 gr. 2'!N6=\"\",\"\",HLOOKUP('Afsnit 20 gr. 2'!$C6,F1:O52,'Afsnit 20 gr. 2'!N6+3))","v":""},null,"m²",9,21.678493740250225,16.268113551523765,14.419464284305153,13.026815169667135,11.942274266232221,10.845409034349176,10.266165597287344,9.7855167878105096,"Aftagning af ekstra lag belægning","m²",null,9]
[null,null,{"$f":"IF('Afsnit 20 gr. 2'!O6=\"\",\"\",HLOOKUP('Afsnit 20 gr. 2'!$C$6,F1:O52,'Afsnit 20 gr. 2'!O6+3))","v":""},null,"m²",10,59.292344163924874,44.478501369279748,39.450175362445123,35.580336229734179,32.58552441684003,29.615361260842128,28.161090503963489,26.669846761740473,"Aftagning af masonit, afrensning af søm","m²",null,10]
[null,null,{"$f":"IF('Afsnit 20 gr. 2'!P6<>\"\",\"\",HLOOKUP('Afsnit 20 gr. 2'!$C$6,F1:O52,'Afsnit 20 gr. 2'!P6+3))","v":""},null,"m²",11,34.139512425034582,25.610557204345863,22.708343275083724,20.481338300792771,18.775547256655035,17.069756212517291,16.216860690448417,15.363965168379547,"Aftagning af hulkehl t.o.m. 15 cm","m²",null,11]
[null,null,{"$f":"IF('Afsnit 20 gr. 2'!Q6<>\"\",\"\",HLOOKUP('Afsnit 20 gr. 2'!$C$6,F1:O52,'Afsnit 20 gr. 2'!Q6+3))","v":"u. 2 m2"},null,"m²",12,40.441462671432369,30.337019889144194,26.889900487449168,24.260139294403476,22.246358200629757,20.220731335716184,19.213840788829316,18.195104470802605,"Aftagning af hulkehl t.o.m. 30 cm","m²",null,12]
[null,null,{"$f":"IF('Afsnit 20 gr. 2'!R6=\"\",\"\",HLOOKUP('Afsnit 20 gr. 2'!$C$6,F1:O52,'Afsnit 20 gr. 2'!R6+3))","v":""},null,"m²",13,63.531913150079546,42.605203445164896,32.918281284939383,25.733197799683044,22.615142702307658,19.472438948036022,17.291032812718061,15.83676205583942,"Lægning af vinyl","m²",null,13]
[null,null,{"$f":"IF('Afsnit 20 gr. 2'!S6=\"\",\"\",HLOOKUP('Afsnit 20 gr. 2'!$C$6,F1:O52,'Afsnit 20 gr. 2'!S6+3))","v":""},null,"m²",14,8.2326514033468747,5.1145963059714878,3.9068121180553277,3.2166497249603805,2.9824874844460236,2.6990279301391706,2.6250819594504264,2.427892704280441,"Opskæring af vinyl","m²",null,14]
[null,null,{"$f":"IF('Afsnit 20 gr. 2'!#REF!=\"\",\"\",HLOOKUP('Afsnit 20 gr. 2'!$C$6,F1:O52,'Afsnit 20 gr. 2'!#REF!+3))","v":{"$error":"#REF!"}},null,"m",15,94.766169118763614,71.074626839072678,63.01950246397778,56.859701471258148,52.121393015319974,47.383084559381807,45.013930331412702,42.644776103443611,"Hulkehl t.o.m. 15 cm pr. m.","m",null,15]
[null,null,{"$f":"IF('Afsnit 20 gr. 2'!Q6=\"\",\"\",HLOOKUP('Afsnit 20 gr. 2'!$C$6,F1:O52,'Afsnit 20 gr. 2'!Q6+3))","v":""},null,"stk",16,56.504328337062788,42.384169138367,37.574786055589755,33.902597002237677,31.083303470954455,28.252164168531394,26.842517402889786,25.432870637248172,"Indvendige hulkehlhjørne t.o.m. 15 cm","stk",null,16]
[null,null,{"$f":"IF('Afsnit 20 gr. 2'!V6=\"\",\"\",HLOOKUP('Afsnit 20 gr. 2'!$C$6,F1:O52,'Afsnit 20 gr. 2'!V6+3))","v":""},null,"stk",17,113.12711438552402,84.851258674712952,75.232492509158433,67.876268631314403,62.225835797608148,56.563557192762012,53.732417890338944,50.913124359055729,"Udvendige hulkehlhjørner t.o.m. 15 cm","stk",null,17]
[null,null,{"$f":"IF('Afsnit 20 gr. 2'!W6=\"\",\"\",HLOOKUP('Afsnit 20 gr. 2'!$C$6,F1:O52,'Afsnit 20 gr. 2'!W6+3))","v":""},null,"stk",18,56.622786048461229,42.467089536345931,37.657706453568672,33.97367162907674,31.142532326653676,28.311393024230615,26.901746258589011,25.480253721807557,"Lige samling i hulkehl t.o.m. 15 cm","stk",null,18]
[null,null,{"$f":"IF('Afsnit 20 gr. 2'!#REF!=\"\",\"\",HLOOKUP('Afsnit 20 gr. 2'!$C$6,F1:O52,'Afsnit 20 gr. 2'!#REF!+3))","v":{"$error":"#REF!"}},null,"m²",19,22.085196579038325,11.079571274863532,9.6499491748811437,8.208002746450628,7.4192457257706854,6.6304887050907455,6.0019479542364191,5.2624882473489754,"Trådsvejsning/trådfugning, 200 cm","m²",null,19]
[null,null,{"$f":"IF('Afsnit 20 gr. 2'!U6=\"\",\"\",HLOOKUP('Afsnit 20 gr. 2'!$C$6,F1:O52,'Afsnit 20 gr. 2'!U6+3))","v":""},null,"m²",20,24.476116297974389,12.262706805883441,10.722165749867937,9.1200030516118051,8.2326514033468747,7.3699484119781911,6.6428130335388698,5.7924343706183103,"Trådsvejsning/trådfugning, 180 cm","m²",null,20]
["Sum af punkter",null,{"$f":"SUM(C8:C23)","v":{"$error":"#REF!"}},null,"m²",21,29.356550363431523,14.702923838612008,12.817301586049027,10.91935500503792,9.9087600722917486,8.8488678257530786,7.9861648343843941,6.9878942300863445,"Trådsvejsning/trådfugning, 150 cm","m²",null,21]
[null,null,null,null,"m²",22,35.272228018531081,17.710059979954277,15.417734888603206,13.125409797252129,11.880652623991599,10.598922465386696,9.5760032041923981,8.380543344724364,"Trådsvejsning/trådfugning, 125 cm","m²",null,22]
["Resultat",null,{"$f":"B6*C24","v":{"$error":"#REF!"}},"Sum af punkter gange punkttal","m²",23,6.4456237783688861,4.8434610801127551,4.2888662999471743,3.8821634611590805,3.5494065930597305,3.2166497249603805,3.0687577835828921,2.9085415137572785,"Afdækning af gulv, minimums bredde 90 cm","m²",null,23]
[null,null,null,null,"m²",24,7.2467051274969503,5.4350288456227132,4.8064880947683859,4.3628122706359189,3.9684337602959485,3.6233525637484751,3.4384876370266144,3.2659470387528762,"Aftagning af gulvafdækning","m²",null,24]
["Række8",null,{"$f":"IF('Afsnit 20 gr. 2'!J8=\"\",\"\",HLOOKUP('Afsnit 20 gr. 2'!$P$6,R1:AA52,'Afsnit 20 gr. 2'!J8+3))","v":""},null,"m²",25,21.86335866697209,16.403681164453129,14.530383240338271,13.10076114035588,12.040868893817208,10.931679333486045,10.364760224872338,9.859462758499248,"Afdækning med masonit","m²",null,25]
[null,null,{"$f":"IF('Afsnit 20 gr. 2'!K8=\"\",\"\",HLOOKUP('Afsnit 20 gr. 2'!$P$6,Q1:AA52,'Afsnit 20 gr. 2'!K8+3))","v":""},null,"m²",26,14.702923838612008,11.054922617967286,9.8224897731548797,8.8488678257530786,8.0970837904175106,7.3699484119781911,7.0125428869825939,6.618164376642623,"Aftagning af masonitafdækning","m²",null,26]
[null,null,{"$f":"IF('Afsnit 20 gr. 2'!K7=\"\",\"\",HLOOKUP('Afsnit 20 gr. 2'!$P$5,F1:O52,'Afsnit 20 gr. 2'!K7+3))","v":""},null,"m",27,2.3691542279690894,2.3691542279690894,2.3691542279690894,2.3691542279690894,2.3691542279690894,2.3691542279690894,2.3691542279690894,2.3691542279690894,"Primning for hulkehl","m",null,27]
[null,null,{"$f":"IF('Afsnit 20 gr. 2'!J8=\"\",\"\",HLOOKUP('Afsnit 20 gr. 2'!$P$6,Q1:AA52,'Afsnit 20 gr. 2'!J8+3))","v":""},null,"%",28,7.2100000000000011E-2,7.2100000000000011E-2,7.2100000000000011E-2,7.2100000000000011E-2,7.2100000000000011E-2,7.2100000000000011E-2,7.2100000000000011E-2,7.2100000000000011E-2,"Tillæg pr. påbegyndt cm over 15 cm","%",null,28]
[null,null,{"$f":"IF('Afsnit 20 gr. 2'!N7=\"\",\"\",HLOOKUP('Afsnit 20 gr. 2'!$P$5,F1:O52,'Afsnit 20 gr. 2'!N7+3))","v":""},null,"m",29,7.9958955193956776,7.9958955193956776,7.9958955193956776,7.9958955193956776,7.9958955193956776,7.9958955193956776,7.9958955193956776,7.9958955193956776,"Skæring af overkant på hulkehl","m",null,29]
[null,null,{"$f":"IF('Afsnit 20 gr. 2'!O7=\"\",\"\",HLOOKUP('Afsnit 20 gr. 2'!$P$5,F1:O52,'Afsnit 20 gr. 2'!O7+3))","v":""},null,"m",30,6.2190298484188604,6.2190298484188604,6.2190298484188604,6.2190298484188604,6.2190298484188604,6.2190298484188604,6.2190298484188604,6.2190298484188604,"Tillæg for hulkehl på færdigbehandlet væg","m",null,30]
[null,null,{"$f":"IF('Afsnit 20 gr. 2'!P7=\"\",\"\",HLOOKUP('Afsnit 20 gr. 2'!$P$5,F1:O52,'Afsnit 20 gr. 2'!P7+3))","v":""},null,"stk",31,343.52736305551798,343.52736305551798,343.52736305551798,343.52736305551798,343.52736305551798,343.52736305551798,343.52736305551798,343.52736305551798,"Spartling af lokalfald","stk",null,31]
[null,null,{"$f":"IF('Afsnit 20 gr. 2'!Q7=\"\",\"\",HLOOKUP('Afsnit 20 gr. 2'!$P$5,F1:O52,'Afsnit 20 gr. 2'!Q7+3))","v":""},null,"stk",32,400.97935308376839,400.97935308376839,400.97935308376839,400.97935308376839,400.97935308376839,400.97935308376839,400.97935308376839,400.97935308376839,"Spartling af lokalfald, afgrænset af 3 vægge","stk",null,32]
[null,null,{"$f":"IF('Afsnit 20 gr. 2'!R7=\"\",\"\",HLOOKUP('Afsnit 20 gr. 2'!$P$5,F1:O52,'Afsnit 20 gr. 2'!R7+3))","v":""},null,"m",33,8.5881840763879502,8.5881840763879502,8.5881840763879502,8.5881840763879502,8.5881840763879502,8.5881840763879502,8.5881840763879502,8.5881840763879502,"Spartling af gipsvæg","m",null,33]
[null,null,{"$f":"IF('Afsnit 20 gr. 2'!S7=\"\",\"\",HLOOKUP('Afsnit 20 gr. 2'!$P$5,F1:O52,'Afsnit 20 gr. 2'!S7+3))","v":""},null,"m",34,17.1763681527759,17.1763681527759,17.1763681527759,17.1763681527759,17.1763681527759,17.1763681527759,17.1763681527759,17.1763681527759,"Spartling af murstensvæg","m",null,34]
[null,null,{"$f":"IF('Afsnit 20 gr. 2'!T7=\"\",\"\",HLOOKUP('Afsnit 20 gr. 2'!$P$5,F1:O52,'Afsnit 20 gr. 2'!T7+3))","v":""},null,"m",35,110.16567160056267,110.16567160056267,110.16567160056267,110.16567160056267,110.16567160056267,110.16567160056267,110.16567160056267,110.16567160056267,"T.o.m. Ø160 mm afløb","m",null,35]
[null,null,{"$f":"IF('Afsnit 20 gr. 2'!U7=\"\",\"\",HLOOKUP('Afsnit 20 gr. 2'!$P$5,F1:O52,'Afsnit 20 gr. 2'!U7+3))","v":""},null,"cm",36,1.1845771139845447,1.1845771139845447,1.1845771139845447,1.1845771139845447,1.1845771139845447,1.1845771139845447,1.1845771139845447,1.1845771139845447,"Firkantede gulvafløb","cm",null,36]
[null,null,{"$f":"IF('Afsnit 20 gr. 2'!V7=\"\",\"\",HLOOKUP('Afsnit 20 gr. 2'!$P$5,F1:O52,'Afsnit 20 gr. 2'!V7+3))","v":""},null,"stk",37,52.713681572312247,52.713681572312247,52.713681572312247,52.713681572312247,52.713681572312247,52.713681572312247,52.713681572312247,52.713681572312247,"Rørkraver/manchet","stk",null,37]
[null,null,{"$f":"IF('Afsnit 20 gr. 2'!W7=\"\",\"\",HLOOKUP('Afsnit 20 gr. 2'!$P$5,F1:O52,'Afsnit 20 gr. 2'!W7+3))","v":""},null,"stk",38,52.713681572312247,52.713681572312247,52.713681572312247,52.713681572312247,52.713681572312247,52.713681572312247,52.713681572312247,52.713681572312247,"Opkant t.o.m. 10 cm","stk",null,38]
[null,null,{"$f":"IF('Afsnit 20 gr. 2'!X7=\"\",\"\",HLOOKUP('Afsnit 20 gr. 2'!$P$5,F1:O52,'Afsnit 20 gr. 2'!X7+3))","v":""},null,"stk",39,25.172263672171574,25.172263672171574,25.172263672171574,25.172263672171574,25.172263672171574,25.172263672171574,25.172263672171574,25.172263672171574,"Skæring af hjørne ved opkant","stk",null,39]
[null,null,{"$f":"IF('Afsnit 20 gr. 2'!Y7=\"\",\"\",HLOOKUP('Afsnit 20 gr. 2'!$P$5,F1:O52,'Afsnit 20 gr. 2'!Y7+3))","v":""},null,"m",40,94.766169118763614,94.766169118763614,94.766169118763614,94.766169118763614,94.766169118763614,94.766169118763614,94.766169118763614,94.766169118763614,"Nedsænkning med trekantliste","m",null,40]
[null,null,{"$f":"SUM(C28:C29)","v":0},null,"stk",41,88.843283548840859,88.843283548840859,88.843283548840859,88.843283548840859,88.843283548840859,88.843283548840859,88.843283548840859,88.843283548840859,"Tillæg for hjørner ved nedsænkning","stk",null,41]
[null,null,null,null,"%",42,0.35,0.35,0.35,0.35,0.35,0.35,0.35,0.35,"Tillæg for montering med kontaktlim Pkt.13-15-16-17-18","%",null,42]
[null,null,null,null,"%",43,0.1,0.1,0.1,0.1,0.1,0.1,0.1,0.1,"Tillæg for skridsikkert Pkt. 13-14-15-16-17-18-35-36-37","%",null,43]
[null,null,null,null,"m",44,60.327587753567308,60.327587753567308,60.327587753567308,60.327587753567308,60.327587753567308,60.327587753567308,60.327587753567308,60.327587753567308,"Gulvskinne m/forboring, plugs, skrue, klæbning","m",null,44]
["linie3",null,{"$f":"IF('Afsnit 20 gr. 2'!J8=\"\",\"\",HLOOKUP('Afsnit 20 gr. 2'!$P$6,F1:O68,'Afsnit 20 gr. 2'!J8+3))","v":""},null,"m",45,40.24,40.24,40.24,40.24,40.24,40.24,40.24,40.24,"Gulvskinne i underlag af træ, inkl. klæbning","m",null,45]
[null,null,{"$f":"IF('Afsnit 20 gr. 2'!K8=\"\",\"\",HLOOKUP('Afsnit 20 gr. 2'!$P$6,F1:O68,'Afsnit 20 gr. 2'!K8+3))","v":""},null,"m",46,36.196552652140376,36.196552652140376,36.196552652140376,36.196552652140376,36.196552652140376,36.196552652140376,36.196552652140376,36.196552652140376,"Gulvskinne monteret med dobbeltklæbende tape, pr. m. pr. samling, pr. gering","m",null,46]
[null,null,{"$f":"IF('Afsnit 20 gr. 2'!L8=\"\",\"\",HLOOKUP('Afsnit 20 gr. 2'!$P$6,F1:O52,'Afsnit 20 gr. 2'!L8+3))","v":""},null,null,null,null,null,null,null,null,null,null,null,null,null,null,47,8.2271690246720013,5.1135719075999999,3.9090416360319997,3.2158685552240001,2.9772351995359996,2.704511364464,2.624966912568,2.4317875293919999,"opskæring af vinyl pr. m²","M²"]
[null,null,{"$f":"IF('Afsnit 20 gr. 2'!M8=\"\",\"\",HLOOKUP('Afsnit 20 gr. 2'!$P$6,F1:O52,'Afsnit 20 gr. 2'!M8+3))","v":""},null,null,null,null,null,null,null,null,null,null,null,null,null,null,48,76.237675395752007,51.124355582871999,39.499502112927999,32.022323634704001,27.136021589664001,23.374705364295998,20.749738451728,19.011124003144001,"Opsætning af vinyl på væg med enkeltklæbning pr. M²","M²"]
[null,null,{"$f":"IF('Afsnit 20 gr. 2'!N8=\"\",\"\",HLOOKUP('Afsnit 20 gr. 2'!$P$6,F1:O52,'Afsnit 20 gr. 2'!N8+3))","v":""},null,null,null,null,null,null,null,null,null,null,null,null,null,null,49,113.725839225024,85.294379418768017,75.624046766839996,68.237776233639991,62.544666176511996,56.862919612512002,54.022046330511998,51.181173048512001,"Indvendigt/udvendigt lodret hjørne på væg med enkeltklæbning pr. m.","m."]
[null,null,{"$f":"IF('Afsnit 20 gr. 2'!O8=\"\",\"\",HLOOKUP('Afsnit 20 gr. 2'!$P$6,F1:O52,'Afsnit 20 gr. 2'!O8+3))","v":""},null,null,null,null,null,null,null,null,null,null,null,null,null,null,50,153.53215565240802,115.146275866024,102.10098575507999,92.112475295568004,84.442117434167983,76.760396079640003,72.930898895504015,69.090038218240011,"Udvendigt lodret hjørne på væg med kontaktklæbning pr. m.","m"]
[null,null,{"$f":"IF('Afsnit 20 gr. 2'!P8=\"\",\"\",HLOOKUP('Afsnit 20 gr. 2'!$P$6,F1:O52,'Afsnit 20 gr. 2'!P8+3))","v":{"$error":"#VALUE!"}},null,null,null,null,null,null,null,null,null,null,null,null,null,null,51,174.57734492546396,87.294354209295989,58.192448308487997,43.749448542799996,36.465449447752007,33.147309454376,31.488239457688003,28.340551861232001,"Udskæring for lem pr. stk.","stk"]
[null,null,{"$f":"IF('Afsnit 20 gr. 2'!Q8=\"\",\"\",HLOOKUP('Afsnit 20 gr. 2'!$P$6,F1:O52,'Afsnit 20 gr. 2'!Q8+3))","v":""},null,null,null,null,null,null,null,null,null,null,null,null,null,null,52,43.613086625264003,21.806543312632002,14.533907710711997,10.931680389136,9.1135214886559996,8.2839864903120013,7.8635372445760003,7.0794562187440011,"Lodrette svejsninger inkl. Fræsning pr. M.","m"]
[null,null,{"$f":"IF('Afsnit 20 gr. 2'!R8=\"\",\"\",HLOOKUP('Afsnit 20 gr. 2'!$P$6,F1:O52,'Afsnit 20 gr. 2'!R8+3))","v":""},null,null,null,null,null,null,null,null,null,null,null,null,null,null,53,54.522040028143991,27.261020014071995,18.170225511672001,13.658918739856,11.386220114255996,10.352142239607998,9.8294215557199998,8.8521611467120014,"Vandrette svejsninger inkl. Fræsning pr. M.","m"]
[null,null,{"$f":"IF('Afsnit 20 gr. 2'!S8=\"\",\"\",HLOOKUP('Afsnit 20 gr. 2'!$P$6,F1:O52,'Afsnit 20 gr. 2'!S8+3))","v":""},null,null,null,null,null,null,null,null,null,null,null,null,null,null,54,7.9998991621119995,7.9998991621119995,7.9998991621119995,7.9998991621119995,7.9998991621119995,7.9998991621119995,7.9998991621119995,7.9998991621119995,"Skæring af underkant på vægvinyl, ned til senere overkant hulkehl eller skæring der skal stå synlig uden på hulkehl, vandret eller fast højde fra gulv pr. meter .......... kr.","m"]
[null,null,{"$f":"IF('Afsnit 20 gr. 2'!T8=\"\",\"\",HLOOKUP('Afsnit 20 gr. 2'!$P$6,F1:O52,'Afsnit 20 gr. 2'!T8+3))","v":""},null,null,null,null,null,null,null,null,null,null,null,null,null,null,55,7.9998991621119995,7.9998991621119995,7.9998991621119995,7.9998991621119995,7.9998991621119995,7.9998991621119995,7.9998991621119995,7.9998991621119995,"Tillæg for afskæring af vinyl på væg i fast højde på færdigbehandlet væg pr. meter.","m"]
[null,null,{"$f":"IF('Afsnit 20 gr. 2'!U8=\"\",\"\",HLOOKUP('Afsnit 20 gr. 2'!$P$6,F1:O52,'Afsnit 20 gr. 2'!U8+3))","v":""},null,null,null,null,null,null,null,null,null,null,null,null,null,null,56,5.409022728928,5.409022728928,5.409022728928,5.409022728928,5.409022728928,5.409022728928,5.409022728928,5.409022728928,"Tillæg for tæt tilskæring af vinyl på væg mod færdigbehandlet loft pr. meter. (2021)","m"]
[null,null,{"$f":"IF('Afsnit 20 gr. 2'!V8=\"\",\"\",HLOOKUP('Afsnit 20 gr. 2'!$P$6,F1:O52,'Afsnit 20 gr. 2'!V8+3))","v":""},null,null,null,null,null,null,null,null,null,null,null,null,null,null,57,51.624349280503999,51.624349280503999,51.624349280503999,51.624349280503999,51.624349280503999,51.624349280503999,51.624349280503999,51.624349280503999,"Rørkraver/manchet t.o.m. Ø 120 mm svejset omkring røret, pr. stk.","stk"]
[null,null,{"$f":"IF('Afsnit 20 gr. 2'!W8=\"\",\"\",HLOOKUP('Afsnit 20 gr. 2'!$P$6,F1:O52,'Afsnit 20 gr. 2'!W8+3))","v":""},null,null,null,null,null,null,null,null,null,null,null,null,null,null,58,25.851946866200002,25.851946866200002,25.851946866200002,25.851946866200002,25.851946866200002,25.851946866200002,25.851946866200002,25.851946866200002,"Tillæg for tæt tilskæring for el-udtag t.o.m. 90 kvcm pr. stk.","stk"]
[null,null,{"$f":"IF('Afsnit 20 gr. 2'!X8=\"\",\"\",HLOOKUP('Afsnit 20 gr. 2'!$P$6,F1:O52,'Afsnit 20 gr. 2'!X8+3))","v":""},null,null,null,null,null,null,null,null,null,null,null,null,null,null,59,25.851946866200002,25.851946866200002,25.851946866200002,25.851946866200002,25.851946866200002,25.851946866200002,25.851946866200002,25.851946866200002,"Tillæg for udskæring for koblingsdåse til rør t.o.m Ø 65 mm pr. stk.","stk"]
[null,null,{"$f":"IF('Afsnit 20 gr. 2'!Y8=\"\",\"\",HLOOKUP('Afsnit 20 gr. 2'!$P$6,F1:O52,'Afsnit 20 gr. 2'!Y8+3))","v":""},null,null,null,null,null,null,null,null,null,null,null,null,null,null,60,0.35,0.35,0.35,0.35,0.35,0.35,0.35,0.35,"Ved kontaktlim tillægges pkt. 48","%"]
[null,null,{"$f":"SUM(C48:C63)","v":{"$error":"#VALUE!"}},null,null,null,null,null,null,null,null,null,null,null,null,null,null,61,0.1,0.1,0.1,0.1,0.1,0.1,0.1,0.1,"Ved skridsikkert vinyl tillægges Pkt. 47,48,49,50,51,54,55,56,57,58 og 59","%"]
[]
[]
[]
["linie4",null,{"$f":"IF('Afsnit 20 gr. 2'!J9=\"\",\"\",HLOOKUP('Afsnit 20 gr. 2'!$C$9,F1:N45,'Afsnit 20 gr. 2'!J9+3))","v":""}]
[null,null,{"$f":"IF('Afsnit 20 gr. 2'!K9=\"\",\"\",HLOOKUP('Afsnit 20 gr. 2'!$C$9,F1:N45,'Afsnit 20 gr. 2'!K9+3))","v":""}]
[null,null,{"$f":"IF('Afsnit 20 gr. 2'!L9=\"\",\"\",HLOOKUP('Afsnit 20 gr. 2'!$C$9,F1:N45,'Afsnit 20 gr. 2'!L9+3))","v":""}]
[null,null,{"$f":"IF('Afsnit 20 gr. 2'!M9=\"\",\"\",HLOOKUP('Afsnit 20 gr. 2'!$C$9,F1:N45,'Afsnit 20 gr. 2'!M9+3))","v":""}]
[null,null,{"$f":"IF('Afsnit 20 gr. 2'!N9=\"\",\"\",HLOOKUP('Afsnit 20 gr. 2'!$C$9,F1:N45,'Afsnit 20 gr. 2'!N9+3))","v":""}]
[null,null,{"$f":"IF('Afsnit 20 gr. 2'!O9=\"\",\"\",HLOOKUP('Afsnit 20 gr. 2'!$C$9,F1:N45,'Afsnit 20 gr. 2'!O9+3))","v":""}]
[null,null,{"$f":"IF('Afsnit 20 gr. 2'!P9=\"\",\"\",HLOOKUP('Afsnit 20 gr. 2'!$C$9,F1:N45,'Afsnit 20 gr. 2'!P9+3))","v":""}]
[null,null,{"$f":"IF('Afsnit 20 gr. 2'!Q9=\"\",\"\",HLOOKUP('Afsnit 20 gr. 2'!$C$9,F1:N45,'Afsnit 20 gr. 2'!Q9+3))","v":""}]
[null,null,{"$f":"IF('Afsnit 20 gr. 2'!R9=\"\",\"\",HLOOKUP('Afsnit 20 gr. 2'!$C$9,F1:N45,'Afsnit 20 gr. 2'!R9+3))","v":""}]
[null,null,{"$f":"IF('Afsnit 20 gr. 2'!S9=\"\",\"\",HLOOKUP('Afsnit 20 gr. 2'!$C$9,F1:N45,'Afsnit 20 gr. 2'!S9+3))","v":""}]
[null,null,{"$f":"IF('Afsnit 20 gr. 2'!T9=\"\",\"\",HLOOKUP('Afsnit 20 gr. 2'!$C$9,F1:N45,'Afsnit 20 gr. 2'!T9+3))","v":""}]
[null,null,{"$f":"IF('Afsnit 20 gr. 2'!U9=\"\",\"\",HLOOKUP('Afsnit 20 gr. 2'!$C$9,F1:N45,'Afsnit 20 gr. 2'!U9+3))","v":""}]
[null,null,{"$f":"IF('Afsnit 20 gr. 2'!V9=\"\",\"\",HLOOKUP('Afsnit 20 gr. 2'!$C$9,F1:N45,'Afsnit 20 gr. 2'!V9+3))","v":""}]
[null,null,{"$f":"IF('Afsnit 20 gr. 2'!W9=\"\",\"\",HLOOKUP('Afsnit 20 gr. 2'!$C$9,F1:N45,'Afsnit 20 gr. 2'!W9+3))","v":""}]
[null,null,{"$f":"IF('Afsnit 20 gr. 2'!X9=\"\",\"\",HLOOKUP('Afsnit 20 gr. 2'!$C$9,F1:N45,'Afsnit 20 gr. 2'!X9+3))","v":""}]
[null,null,{"$f":"IF('Afsnit 20 gr. 2'!Y9=\"\",\"\",HLOOKUP('Afsnit 20 gr. 2'!$C$9,F1:N45,'Afsnit 20 gr. 2'!Y9+3))","v":""}]
[null,null,{"$f":"SUM(C68:C83)","v":0}]
[]
[]
[]
["linie5",null,{"$f":"IF('Afsnit 20 gr. 2'!J10=\"\",\"\",HLOOKUP('Afsnit 20 gr. 2'!$C$10,F1:N45,'Afsnit 20 gr. 2'!J10+3))","v":""}]
[null,null,{"$f":"IF('Afsnit 20 gr. 2'!K10=\"\",\"\",HLOOKUP('Afsnit 20 gr. 2'!$C$10,F1:N45,'Afsnit 20 gr. 2'!K10+3))","v":""}]
[null,null,{"$f":"IF('Afsnit 20 gr. 2'!L10=\"\",\"\",HLOOKUP('Afsnit 20 gr. 2'!$C$10,F1:N45,'Afsnit 20 gr. 2'!L10+3))","v":""}]
[null,null,{"$f":"IF('Afsnit 20 gr. 2'!M10=\"\",\"\",HLOOKUP('Afsnit 20 gr. 2'!$C$10,F1:N45,'Afsnit 20 gr. 2'!M10+3))","v":""}]
[null,null,{"$f":"IF('Afsnit 20 gr. 2'!N10=\"\",\"\",HLOOKUP('Afsnit 20 gr. 2'!$C$10,F1:N45,'Afsnit 20 gr. 2'!N10+3))","v":""}]
[null,null,{"$f":"IF('Afsnit 20 gr. 2'!O10=\"\",\"\",HLOOKUP('Afsnit 20 gr. 2'!$C$10,F1:N45,'Afsnit 20 gr. 2'!O10+3))","v":""}]
[null,null,{"$f":"IF('Afsnit 20 gr. 2'!P10=\"\",\"\",HLOOKUP('Afsnit 20 gr. 2'!$C$10,F1:N45,'Afsnit 20 gr. 2'!P10+3))","v":""}]
[null,null,{"$f":"IF('Afsnit 20 gr. 2'!Q10=\"\",\"\",HLOOKUP('Afsnit 20 gr. 2'!$C$10,F1:N45,'Afsnit 20 gr. 2'!Q10+3))","v":""}]
[null,null,{"$f":"IF('Afsnit 20 gr. 2'!R10=\"\",\"\",HLOOKUP('Afsnit 20 gr. 2'!$C$10,F1:N45,'Afsnit 20 gr. 2'!R10+3))","v":""}]
[null,null,{"$f":"IF('Afsnit 20 gr. 2'!S10=\"\",\"\",HLOOKUP('Afsnit 20 gr. 2'!$C$10,F1:N45,'Afsnit 20 gr. 2'!S10+3))","v":""}]
[null,null,{"$f":"IF('Afsnit 20 gr. 2'!T10=\"\",\"\",HLOOKUP('Afsnit 20 gr. 2'!$C$10,F1:N45,'Afsnit 20 gr. 2'!T10+3))","v":""}]
[null,null,{"$f":"IF('Afsnit 20 gr. 2'!U10=\"\",\"\",HLOOKUP('Afsnit 20 gr. 2'!$C$10,F1:N45,'Afsnit 20 gr. 2'!U10+3))","v":""}]
[null,null,{"$f":"IF('Afsnit 20 gr. 2'!V10=\"\",\"\",HLOOKUP('Afsnit 20 gr. 2'!$C$10,F1:N45,'Afsnit 20 gr. 2'!V10+3))","v":""}]
[null,null,{"$f":"IF('Afsnit 20 gr. 2'!W10=\"\",\"\",HLOOKUP('Afsnit 20 gr. 2'!$C$10,F1:N45,'Afsnit 20 gr. 2'!W10+3))","v":""}]
[null,null,{"$f":"IF('Afsnit 20 gr. 2'!X10=\"\",\"\",HLOOKUP('Afsnit 20 gr. 2'!$C$10,F1:N45,'Afsnit 20 gr. 2'!X10+3))","v":""}]
[null,null,{"$f":"IF('Afsnit 20 gr. 2'!Y10=\"\",\"\",HLOOKUP('Afsnit 20 gr. 2'!$C$10,F1:N45,'Afsnit 20 gr. 2'!Y10+3))","v":""}]
[null,null,{"$f":"SUM(C88:C103)","v":0}]
[]
[]
[]
["linie6",null,{"$f":"IF(#REF!=\"\",\"\",HLOOKUP(#REF!,F1:N50,#REF!+3))","v":{"$error":"#REF!"}}]
[null,null,{"$f":"IF(#REF!=\"\",\"\",HLOOKUP(#REF!,F1:N50,#REF!+3))","v":{"$error":"#REF!"}}]
[null,null,{"$f":"IF(#REF!=\"\",\"\",HLOOKUP(#REF!,F1:N50,#REF!+3))","v":{"$error":"#REF!"}}]
[null,null,{"$f":"IF(#REF!=\"\",\"\",HLOOKUP(#REF!,F1:N50,#REF!+3))","v":{"$error":"#REF!"}}]
[null,null,{"$f":"IF(#REF!=\"\",\"\",HLOOKUP(#REF!,F1:N50,#REF!+3))","v":{"$error":"#REF!"}}]
[null,null,{"$f":"IF(#REF!=\"\",\"\",HLOOKUP(#REF!,F1:N50,#REF!+3))","v":{"$error":"#REF!"}}]
[null,null,{"$f":"IF(#REF!=\"\",\"\",HLOOKUP(#REF!,F1:N50,#REF!+3))","v":{"$error":"#REF!"}}]
[null,null,{"$f":"IF(#REF!=\"\",\"\",HLOOKUP(#REF!,F1:N50,#REF!+3))","v":{"$error":"#REF!"}}]
[null,null,{"$f":"IF(#REF!=\"\",\"\",HLOOKUP(#REF!,F1:N50,#REF!+3))","v":{"$error":"#REF!"}}]
[null,null,{"$f":"IF(#REF!=\"\",\"\",HLOOKUP(#REF!,F1:N50,#REF!+3))","v":{"$error":"#REF!"}}]
[null,null,{"$f":"IF(#REF!=\"\",\"\",HLOOKUP(#REF!,F1:N50,#REF!+3))","v":{"$error":"#REF!"}}]
[null,null,{"$f":"IF(#REF!=\"\",\"\",HLOOKUP(#REF!,F1:N50,#REF!+3))","v":{"$error":"#REF!"}}]
[null,null,{"$f":"IF(#REF!=\"\",\"\",HLOOKUP(#REF!,F1:N50,#REF!+3))","v":{"$error":"#REF!"}}]
[null,null,{"$f":"IF(#REF!=\"\",\"\",HLOOKUP(#REF!,F1:N50,#REF!+3))","v":{"$error":"#REF!"}}]
[null,null,{"$f":"IF(#REF!=\"\",\"\",HLOOKUP(#REF!,F1:N50,#REF!+3))","v":{"$error":"#REF!"}}]
[null,null,{"$f":"IF(#REF!=\"\",\"\",HLOOKUP(#REF!,F1:N50,#REF!+3))","v":{"$error":"#REF!"}}]
[null,null,{"$f":"SUM(C108:C123)","v":{"$error":"#REF!"}}]
[]
[]
[]
["linie7",null,{"$f":"IF(#REF!=\"\",\"\",HLOOKUP(#REF!,F1:N50,#REF!+3))","v":{"$error":"#REF!"}}]
[null,null,{"$f":"IF(#REF!=\"\",\"\",HLOOKUP(#REF!,F1:N50,#REF!+3))","v":{"$error":"#REF!"}}]
[null,null,{"$f":"IF(#REF!=\"\",\"\",HLOOKUP(#REF!,F1:N50,#REF!+3))","v":{"$error":"#REF!"}}]
[null,null,{"$f":"IF(#REF!=\"\",\"\",HLOOKUP(#REF!,F1:N50,#REF!+3))","v":{"$error":"#REF!"}}]
[null,null,{"$f":"IF(#REF!=\"\",\"\",HLOOKUP(#REF!,F1:N50,#REF!+3))","v":{"$error":"#REF!"}}]
[null,null,{"$f":"IF(#REF!=\"\",\"\",HLOOKUP(#REF!,F1:N50,#REF!+3))","v":{"$error":"#REF!"}}]
[null,null,{"$f":"IF(#REF!=\"\",\"\",HLOOKUP(#REF!,F1:N50,#REF!+3))","v":{"$error":"#REF!"}}]
[null,null,{"$f":"IF(#REF!=\"\",\"\",HLOOKUP(#REF!,F1:N50,#REF!+3))","v":{"$error":"#REF!"}}]
[null,null,{"$f":"IF(#REF!=\"\",\"\",HLOOKUP(#REF!,F1:N50,#REF!+3))","v":{"$error":"#REF!"}}]
[null,null,{"$f":"IF(#REF!=\"\",\"\",HLOOKUP(#REF!,F1:N50,#REF!+3))","v":{"$error":"#REF!"}}]
[null,null,{"$f":"IF(#REF!=\"\",\"\",HLOOKUP(#REF!,F1:N50,#REF!+3))","v":{"$error":"#REF!"}}]
[null,null,{"$f":"IF(#REF!=\"\",\"\",HLOOKUP(#REF!,F1:N50,#REF!+3))","v":{"$error":"#REF!"}}]
[null,null,{"$f":"IF(#REF!=\"\",\"\",HLOOKUP(#REF!,F1:N50,#REF!+3))","v":{"$error":"#REF!"}}]
[null,null,{"$f":"IF(#REF!=\"\",\"\",HLOOKUP(#REF!,F1:N50,#REF!+3))","v":{"$error":"#REF!"}}]
[null,null,{"$f":"IF(#REF!=\"\",\"\",HLOOKUP(#REF!,F1:N50,#REF!+3))","v":{"$error":"#REF!"}}]
[null,null,{"$f":"IF(#REF!=\"\",\"\",HLOOKUP(#REF!,F1:N50,#REF!+3))","v":{"$error":"#REF!"}}]
[null,null,{"$f":"SUM(C128:C143)","v":{"$error":"#REF!"}}]
[]
[]
[]
["linie8",null,{"$f":"IF(#REF!=\"\",\"\",HLOOKUP(#REF!,F1:N50,#REF!+3))","v":{"$error":"#REF!"}}]
[null,null,{"$f":"IF(#REF!=\"\",\"\",HLOOKUP(#REF!,F1:N50,#REF!+3))","v":{"$error":"#REF!"}}]
[null,null,{"$f":"IF(#REF!=\"\",\"\",HLOOKUP(#REF!,F1:N50,#REF!+3))","v":{"$error":"#REF!"}}]
[null,null,{"$f":"IF(#REF!=\"\",\"\",HLOOKUP(#REF!,F1:N50,#REF!+3))","v":{"$error":"#REF!"}}]
[null,null,{"$f":"IF(#REF!=\"\",\"\",HLOOKUP(#REF!,F1:N50,#REF!+3))","v":{"$error":"#REF!"}}]
[null,null,{"$f":"IF(#REF!=\"\",\"\",HLOOKUP(#REF!,F1:N50,#REF!+3))","v":{"$error":"#REF!"}}]
[null,null,{"$f":"IF(#REF!=\"\",\"\",HLOOKUP(#REF!,F1:N50,#REF!+3))","v":{"$error":"#REF!"}}]
[null,null,{"$f":"IF(#REF!=\"\",\"\",HLOOKUP(#REF!,F1:N50,#REF!+3))","v":{"$error":"#REF!"}}]
[null,null,{"$f":"IF(#REF!=\"\",\"\",HLOOKUP(#REF!,F1:N50,#REF!+3))","v":{"$error":"#REF!"}}]
[null,null,{"$f":"IF(#REF!=\"\",\"\",HLOOKUP(#REF!,F1:N50,#REF!+3))","v":{"$error":"#REF!"}}]
[null,null,{"$f":"IF(#REF!=\"\",\"\",HLOOKUP(#REF!,F1:N50,#REF!+3))","v":{"$error":"#REF!"}}]
[null,null,{"$f":"IF(#REF!=\"\",\"\",HLOOKUP(#REF!,F1:N50,#REF!+3))","v":{"$error":"#REF!"}}]
[null,null,{"$f":"IF(#REF!=\"\",\"\",HLOOKUP(#REF!,F1:N50,#REF!+3))","v":{"$error":"#REF!"}}]
[null,null,{"$f":"IF(#REF!=\"\",\"\",HLOOKUP(#REF!,F1:N50,#REF!+3))","v":{"$error":"#REF!"}}]
[null,null,{"$f":"IF(#REF!=\"\",\"\",HLOOKUP(#REF!,F1:N50,#REF!+3))","v":{"$error":"#REF!"}}]
[null,null,{"$f":"IF(#REF!=\"\",\"\",HLOOKUP(#REF!,F1:N50,#REF!+3))","v":{"$error":"#REF!"}}]
[null,null,{"$f":"SUM(C148:C163)","v":{"$error":"#REF!"}}]
[]
[]
[]
["linie9",null,{"$f":"IF(#REF!=\"\",\"\",HLOOKUP(#REF!,F1:N50,#REF!+3))","v":{"$error":"#REF!"}}]
[null,null,{"$f":"IF(#REF!=\"\",\"\",HLOOKUP(#REF!,F1:N50,#REF!+3))","v":{"$error":"#REF!"}}]
[null,null,{"$f":"IF(#REF!=\"\",\"\",HLOOKUP(#REF!,F1:N50,#REF!+3))","v":{"$error":"#REF!"}}]
[null,null,{"$f":"IF(#REF!=\"\",\"\",HLOOKUP(#REF!,F1:N50,#REF!+3))","v":{"$error":"#REF!"}}]
[null,null,{"$f":"IF(#REF!=\"\",\"\",HLOOKUP(#REF!,F1:N50,#REF!+3))","v":{"$error":"#REF!"}}]
[null,null,{"$f":"IF(#REF!=\"\",\"\",HLOOKUP(#REF!,F1:N50,#REF!+3))","v":{"$error":"#REF!"}}]
[null,null,{"$f":"IF(#REF!=\"\",\"\",HLOOKUP(#REF!,F1:N50,#REF!+3))","v":{"$error":"#REF!"}}]
[null,null,{"$f":"IF(#REF!=\"\",\"\",HLOOKUP(#REF!,F1:N50,#REF!+3))","v":{"$error":"#REF!"}}]
[null,null,{"$f":"IF(#REF!=\"\",\"\",HLOOKUP(#REF!,F1:N50,#REF!+3))","v":{"$error":"#REF!"}}]
[null,null,{"$f":"IF(#REF!=\"\",\"\",HLOOKUP(#REF!,F1:N50,#REF!+3))","v":{"$error":"#REF!"}}]
[null,null,{"$f":"IF(#REF!=\"\",\"\",HLOOKUP(#REF!,F1:N50,#REF!+3))","v":{"$error":"#REF!"}}]
[null,null,{"$f":"IF(#REF!=\"\",\"\",HLOOKUP(#REF!,F1:N50,#REF!+3))","v":{"$error":"#REF!"}}]
[null,null,{"$f":"IF(#REF!=\"\",\"\",HLOOKUP(#REF!,F1:N50,#REF!+3))","v":{"$error":"#REF!"}}]
[null,null,{"$f":"IF(#REF!=\"\",\"\",HLOOKUP(#REF!,F1:N50,#REF!+3))","v":{"$error":"#REF!"}}]
[null,null,{"$f":"IF(#REF!=\"\",\"\",HLOOKUP(#REF!,F1:N50,#REF!+3))","v":{"$error":"#REF!"}}]
[null,null,{"$f":"IF(#REF!=\"\",\"\",HLOOKUP(#REF!,F1:N50,#REF!+3))","v":{"$error":"#REF!"}}]
[null,null,{"$f":"SUM(C168:C183)","v":{"$error":"#REF!"}}]
[]
[]
[]
["linie10",null,{"$f":"IF(#REF!=\"\",\"\",HLOOKUP(#REF!,F1:N50,#REF!+3))","v":{"$error":"#REF!"}}]
[null,null,{"$f":"IF(#REF!=\"\",\"\",HLOOKUP(#REF!,F1:N50,#REF!+3))","v":{"$error":"#REF!"}}]
[null,null,{"$f":"IF(#REF!=\"\",\"\",HLOOKUP(#REF!,F1:N50,#REF!+3))","v":{"$error":"#REF!"}}]
[null,null,{"$f":"IF(#REF!=\"\",\"\",HLOOKUP(#REF!,F1:N50,#REF!+3))","v":{"$error":"#REF!"}}]
[null,null,{"$f":"IF(#REF!=\"\",\"\",HLOOKUP(#REF!,F1:N50,#REF!+3))","v":{"$error":"#REF!"}}]
[null,null,{"$f":"IF(#REF!=\"\",\"\",HLOOKUP(#REF!,F1:N50,#REF!+3))","v":{"$error":"#REF!"}}]
[null,null,{"$f":"IF(#REF!=\"\",\"\",HLOOKUP(#REF!,F1:N50,#REF!+3))","v":{"$error":"#REF!"}}]
[null,null,{"$f":"IF(#REF!=\"\",\"\",HLOOKUP(#REF!,F1:N50,#REF!+3))","v":{"$error":"#REF!"}}]
[null,null,{"$f":"IF(#REF!=\"\",\"\",HLOOKUP(#REF!,F1:N50,#REF!+3))","v":{"$error":"#REF!"}}]
[null,null,{"$f":"IF(#REF!=\"\",\"\",HLOOKUP(#REF!,F1:N50,#REF!+3))","v":{"$error":"#REF!"}}]
[null,null,{"$f":"IF(#REF!=\"\",\"\",HLOOKUP(#REF!,F1:N50,#REF!+3))","v":{"$error":"#REF!"}}]
[null,null,{"$f":"IF(#REF!=\"\",\"\",HLOOKUP(#REF!,F1:N50,#REF!+3))","v":{"$error":"#REF!"}}]
[null,null,{"$f":"IF(#REF!=\"\",\"\",HLOOKUP(#REF!,F1:N50,#REF!+3))","v":{"$error":"#REF!"}}]
[null,null,{"$f":"IF(#REF!=\"\",\"\",HLOOKUP(#REF!,F1:N50,#REF!+3))","v":{"$error":"#REF!"}}]
[null,null,{"$f":"IF(#REF!=\"\",\"\",HLOOKUP(#REF!,F1:N50,#REF!+3))","v":{"$error":"#REF!"}}]
[null,null,{"$f":"IF(#REF!=\"\",\"\",HLOOKUP(#REF!,F1:N50,#REF!+3))","v":{"$error":"#REF!"}}]
[null,null,{"$f":"SUM(C188:C203)","v":{"$error":"#REF!"}}]
[]
[]
[]
["linie11",null,{"$f":"IF(#REF!=\"\",\"\",HLOOKUP(#REF!,F1:N50,#REF!+3))","v":{"$error":"#REF!"}}]
[null,null,{"$f":"IF(#REF!=\"\",\"\",HLOOKUP(#REF!,F1:N50,#REF!+3))","v":{"$error":"#REF!"}}]
[null,null,{"$f":"IF(#REF!=\"\",\"\",HLOOKUP(#REF!,F1:N50,#REF!+3))","v":{"$error":"#REF!"}}]
[null,null,{"$f":"IF(#REF!=\"\",\"\",HLOOKUP(#REF!,F1:N50,#REF!+3))","v":{"$error":"#REF!"}}]
[null,null,{"$f":"IF(#REF!=\"\",\"\",HLOOKUP(#REF!,F1:N50,#REF!+3))","v":{"$error":"#REF!"}}]
[null,null,{"$f":"IF(#REF!=\"\",\"\",HLOOKUP(#REF!,F1:N50,#REF!+3))","v":{"$error":"#REF!"}}]
[null,null,{"$f":"IF(#REF!=\"\",\"\",HLOOKUP(#REF!,F1:N50,#REF!+3))","v":{"$error":"#REF!"}}]
[null,null,{"$f":"IF(#REF!=\"\",\"\",HLOOKUP(#REF!,F1:N50,#REF!+3))","v":{"$error":"#REF!"}}]
[null,null,{"$f":"IF(#REF!=\"\",\"\",HLOOKUP(#REF!,F1:N50,#REF!+3))","v":{"$error":"#REF!"}}]
[null,null,{"$f":"IF(#REF!=\"\",\"\",HLOOKUP(#REF!,F1:N50,#REF!+3))","v":{"$error":"#REF!"}}]
[null,null,{"$f":"IF(#REF!=\"\",\"\",HLOOKUP(#REF!,F1:N50,#REF!+3))","v":{"$error":"#REF!"}}]
[null,null,{"$f":"IF(#REF!=\"\",\"\",HLOOKUP(#REF!,F1:N50,#REF!+3))","v":{"$error":"#REF!"}}]
[null,null,{"$f":"IF(#REF!=\"\",\"\",HLOOKUP(#REF!,F1:N50,#REF!+3))","v":{"$error":"#REF!"}}]
[null,null,{"$f":"IF(#REF!=\"\",\"\",HLOOKUP(#REF!,F1:N50,#REF!+3))","v":{"$error":"#REF!"}}]
[null,null,{"$f":"IF(#REF!=\"\",\"\",HLOOKUP(#REF!,F1:N50,#REF!+3))","v":{"$error":"#REF!"}}]
[null,null,{"$f":"IF(#REF!=\"\",\"\",HLOOKUP(#REF!,F1:N50,#REF!+3))","v":{"$error":"#REF!"}}]
[null,null,{"$f":"SUM(C208:C223)","v":{"$error":"#REF!"}}]
[]
[]
[]
["linie12",null,{"$f":"IF(#REF!=\"\",\"\",HLOOKUP(#REF!,F1:N50,#REF!+3))","v":{"$error":"#REF!"}}]
[null,null,{"$f":"IF(#REF!=\"\",\"\",HLOOKUP(#REF!,F1:N50,#REF!+3))","v":{"$error":"#REF!"}}]
[null,null,{"$f":"IF(#REF!=\"\",\"\",HLOOKUP(#REF!,F1:N50,#REF!+3))","v":{"$error":"#REF!"}}]
[null,null,{"$f":"IF(#REF!=\"\",\"\",HLOOKUP(#REF!,F1:N50,#REF!+3))","v":{"$error":"#REF!"}}]
[null,null,{"$f":"IF(#REF!=\"\",\"\",HLOOKUP(#REF!,F1:N50,#REF!+3))","v":{"$error":"#REF!"}}]
[null,null,{"$f":"IF(#REF!=\"\",\"\",HLOOKUP(#REF!,F1:N50,#REF!+3))","v":{"$error":"#REF!"}}]
[null,null,{"$f":"IF(#REF!=\"\",\"\",HLOOKUP(#REF!,F1:N50,#REF!+3))","v":{"$error":"#REF!"}}]
[null,null,{"$f":"IF(#REF!=\"\",\"\",HLOOKUP(#REF!,F1:N50,#REF!+3))","v":{"$error":"#REF!"}}]
[null,null,{"$f":"IF(#REF!=\"\",\"\",HLOOKUP(#REF!,F1:N50,#REF!+3))","v":{"$error":"#REF!"}}]
[null,null,{"$f":"IF(#REF!=\"\",\"\",HLOOKUP(#REF!,F1:N50,#REF!+3))","v":{"$error":"#REF!"}}]
[null,null,{"$f":"IF(#REF!=\"\",\"\",HLOOKUP(#REF!,F1:N50,#REF!+3))","v":{"$error":"#REF!"}}]
[null,null,{"$f":"IF(#REF!=\"\",\"\",HLOOKUP(#REF!,F1:N50,#REF!+3))","v":{"$error":"#REF!"}}]
[null,null,{"$f":"IF(#REF!=\"\",\"\",HLOOKUP(#REF!,F1:N50,#REF!+3))","v":{"$error":"#REF!"}}]
[null,null,{"$f":"IF(#REF!=\"\",\"\",HLOOKUP(#REF!,F1:N50,#REF!+3))","v":{"$error":"#REF!"}}]
[null,null,{"$f":"IF(#REF!=\"\",\"\",HLOOKUP(#REF!,F1:N50,#REF!+3))","v":{"$error":"#REF!"}}]
[null,null,{"$f":"IF(#REF!=\"\",\"\",HLOOKUP(#REF!,F1:N50,#REF!+3))","v":{"$error":"#REF!"}}]
[null,null,{"$f":"SUM(C228:C243)","v":{"$error":"#REF!"}}]
[]
[]
[]
["linie13",null,{"$f":"IF(#REF!=\"\",\"\",HLOOKUP(#REF!,F1:N50,#REF!+3))","v":{"$error":"#REF!"}}]
[null,null,{"$f":"IF(#REF!=\"\",\"\",HLOOKUP(#REF!,F1:N50,#REF!+3))","v":{"$error":"#REF!"}}]
[null,null,{"$f":"IF(#REF!=\"\",\"\",HLOOKUP(#REF!,F1:N50,#REF!+3))","v":{"$error":"#REF!"}}]
[null,null,{"$f":"IF(#REF!=\"\",\"\",HLOOKUP(#REF!,F1:N50,#REF!+3))","v":{"$error":"#REF!"}}]
[null,null,{"$f":"IF(#REF!=\"\",\"\",HLOOKUP(#REF!,F1:N50,#REF!+3))","v":{"$error":"#REF!"}}]
[null,null,{"$f":"IF(#REF!=\"\",\"\",HLOOKUP(#REF!,F1:N50,#REF!+3))","v":{"$error":"#REF!"}}]
[null,null,{"$f":"IF(#REF!=\"\",\"\",HLOOKUP(#REF!,F1:N50,#REF!+3))","v":{"$error":"#REF!"}}]
[null,null,{"$f":"IF(#REF!=\"\",\"\",HLOOKUP(#REF!,F1:N50,#REF!+3))","v":{"$error":"#REF!"}}]
[null,null,{"$f":"IF(#REF!=\"\",\"\",HLOOKUP(#REF!,F1:N50,#REF!+3))","v":{"$error":"#REF!"}}]
[null,null,{"$f":"IF(#REF!=\"\",\"\",HLOOKUP(#REF!,F1:N50,#REF!+3))","v":{"$error":"#REF!"}}]
[null,null,{"$f":"IF(#REF!=\"\",\"\",HLOOKUP(#REF!,F1:N50,#REF!+3))","v":{"$error":"#REF!"}}]
[null,null,{"$f":"IF(#REF!=\"\",\"\",HLOOKUP(#REF!,F1:N50,#REF!+3))","v":{"$error":"#REF!"}}]
[null,null,{"$f":"IF(#REF!=\"\",\"\",HLOOKUP(#REF!,F1:N50,#REF!+3))","v":{"$error":"#REF!"}}]
[null,null,{"$f":"IF(#REF!=\"\",\"\",HLOOKUP(#REF!,F1:N50,#REF!+3))","v":{"$error":"#REF!"}}]
[null,null,{"$f":"IF(#REF!=\"\",\"\",HLOOKUP(#REF!,F1:N50,#REF!+3))","v":{"$error":"#REF!"}}]
[null,null,{"$f":"IF(#REF!=\"\",\"\",HLOOKUP(#REF!,F1:N50,#REF!+3))","v":{"$error":"#REF!"}}]
[null,null,{"$f":"SUM(C248:C263)","v":{"$error":"#REF!"}}]
[]
[]
[]
["linie14",null,{"$f":"IF(#REF!=\"\",\"\",HLOOKUP(#REF!,F1:N50,#REF!+3))","v":{"$error":"#REF!"}}]
[null,null,{"$f":"IF(#REF!=\"\",\"\",HLOOKUP(#REF!,F1:N50,#REF!+3))","v":{"$error":"#REF!"}}]
[null,null,{"$f":"IF(#REF!=\"\",\"\",HLOOKUP(#REF!,F1:N50,#REF!+3))","v":{"$error":"#REF!"}}]
[null,null,{"$f":"IF(#REF!=\"\",\"\",HLOOKUP(#REF!,F1:N50,#REF!+3))","v":{"$error":"#REF!"}}]
[null,null,{"$f":"IF(#REF!=\"\",\"\",HLOOKUP(#REF!,F1:N50,#REF!+3))","v":{"$error":"#REF!"}}]
[null,null,{"$f":"IF(#REF!=\"\",\"\",HLOOKUP(#REF!,F1:N50,#REF!+3))","v":{"$error":"#REF!"}}]
[null,null,{"$f":"IF(#REF!=\"\",\"\",HLOOKUP(#REF!,F1:N50,#REF!+3))","v":{"$error":"#REF!"}}]
[null,null,{"$f":"IF(#REF!=\"\",\"\",HLOOKUP(#REF!,F1:N50,#REF!+3))","v":{"$error":"#REF!"}}]
[null,null,{"$f":"IF(#REF!=\"\",\"\",HLOOKUP(#REF!,F1:N50,#REF!+3))","v":{"$error":"#REF!"}}]
[null,null,{"$f":"IF(#REF!=\"\",\"\",HLOOKUP(#REF!,F1:N50,#REF!+3))","v":{"$error":"#REF!"}}]
[null,null,{"$f":"IF(#REF!=\"\",\"\",HLOOKUP(#REF!,F1:N50,#REF!+3))","v":{"$error":"#REF!"}}]
[null,null,{"$f":"IF(#REF!=\"\",\"\",HLOOKUP(#REF!,F1:N50,#REF!+3))","v":{"$error":"#REF!"}}]
[null,null,{"$f":"IF(#REF!=\"\",\"\",HLOOKUP(#REF!,F1:N50,#REF!+3))","v":{"$error":"#REF!"}}]
[null,null,{"$f":"IF(#REF!=\"\",\"\",HLOOKUP(#REF!,F1:N50,#REF!+3))","v":{"$error":"#REF!"}}]
[null,null,{"$f":"IF(#REF!=\"\",\"\",HLOOKUP(#REF!,F1:N50,#REF!+3))","v":{"$error":"#REF!"}}]
[null,null,{"$f":"IF(#REF!=\"\",\"\",HLOOKUP(#REF!,F1:N50,#REF!+3))","v":{"$error":"#REF!"}}]
[null,null,{"$f":"SUM(C268:C283)","v":{"$error":"#REF!"}}]
[]
[]
[]
["linie15",null,{"$f":"IF(#REF!=\"\",\"\",HLOOKUP(#REF!,F1:N50,#REF!+3))","v":{"$error":"#REF!"}}]
[null,null,{"$f":"IF(#REF!=\"\",\"\",HLOOKUP(#REF!,F1:N50,#REF!+3))","v":{"$error":"#REF!"}}]
[null,null,{"$f":"IF(#REF!=\"\",\"\",HLOOKUP(#REF!,F1:N50,#REF!+3))","v":{"$error":"#REF!"}}]
[null,null,{"$f":"IF(#REF!=\"\",\"\",HLOOKUP(#REF!,F1:N50,#REF!+3))","v":{"$error":"#REF!"}}]
[null,null,{"$f":"IF(#REF!=\"\",\"\",HLOOKUP(#REF!,F1:N50,#REF!+3))","v":{"$error":"#REF!"}}]
[null,null,{"$f":"IF(#REF!=\"\",\"\",HLOOKUP(#REF!,F1:N50,#REF!+3))","v":{"$error":"#REF!"}}]
[null,null,{"$f":"IF(#REF!=\"\",\"\",HLOOKUP(#REF!,F1:N50,#REF!+3))","v":{"$error":"#REF!"}}]
[null,null,{"$f":"IF(#REF!=\"\",\"\",HLOOKUP(#REF!,F1:N50,#REF!+3))","v":{"$error":"#REF!"}}]
[null,null,{"$f":"IF(#REF!=\"\",\"\",HLOOKUP(#REF!,F1:N50,#REF!+3))","v":{"$error":"#REF!"}}]
[null,null,{"$f":"IF(#REF!=\"\",\"\",HLOOKUP(#REF!,F1:N50,#REF!+3))","v":{"$error":"#REF!"}}]
[null,null,{"$f":"IF(#REF!=\"\",\"\",HLOOKUP(#REF!,F1:N50,#REF!+3))","v":{"$error":"#REF!"}}]
[null,null,{"$f":"IF(#REF!=\"\",\"\",HLOOKUP(#REF!,F1:N50,#REF!+3))","v":{"$error":"#REF!"}}]
[null,null,{"$f":"IF(#REF!=\"\",\"\",HLOOKUP(#REF!,F1:N50,#REF!+3))","v":{"$error":"#REF!"}}]
[null,null,{"$f":"IF(#REF!=\"\",\"\",HLOOKUP(#REF!,F1:N50,#REF!+3))","v":{"$error":"#REF!"}}]
[null,null,{"$f":"IF(#REF!=\"\",\"\",HLOOKUP(#REF!,F1:N50,#REF!+3))","v":{"$error":"#REF!"}}]
[null,null,{"$f":"IF(#REF!=\"\",\"\",HLOOKUP(#REF!,F1:N50,#REF!+3))","v":{"$error":"#REF!"}}]
[null,null,{"$f":"SUM(C288:C303)","v":{"$error":"#REF!"}}]
[]
[]
[]
["linie16",null,{"$f":"IF(#REF!=\"\",\"\",HLOOKUP(#REF!,F1:N50,#REF!+3))","v":{"$error":"#REF!"}}]
[null,null,{"$f":"IF(#REF!=\"\",\"\",HLOOKUP(#REF!,F1:N50,#REF!+3))","v":{"$error":"#REF!"}}]
[null,null,{"$f":"IF(#REF!=\"\",\"\",HLOOKUP(#REF!,F1:N50,#REF!+3))","v":{"$error":"#REF!"}}]
[null,null,{"$f":"IF(#REF!=\"\",\"\",HLOOKUP(#REF!,F1:N50,#REF!+3))","v":{"$error":"#REF!"}}]
[null,null,{"$f":"IF(#REF!=\"\",\"\",HLOOKUP(#REF!,F1:N50,#REF!+3))","v":{"$error":"#REF!"}}]
[null,null,{"$f":"IF(#REF!=\"\",\"\",HLOOKUP(#REF!,F1:N50,#REF!+3))","v":{"$error":"#REF!"}}]
[null,null,{"$f":"IF(#REF!=\"\",\"\",HLOOKUP(#REF!,F1:N50,#REF!+3))","v":{"$error":"#REF!"}}]
[null,null,{"$f":"IF(#REF!=\"\",\"\",HLOOKUP(#REF!,F1:N50,#REF!+3))","v":{"$error":"#REF!"}}]
[null,null,{"$f":"IF(#REF!=\"\",\"\",HLOOKUP(#REF!,F1:N50,#REF!+3))","v":{"$error":"#REF!"}}]
[null,null,{"$f":"IF(#REF!=\"\",\"\",HLOOKUP(#REF!,F1:N50,#REF!+3))","v":{"$error":"#REF!"}}]
[null,null,{"$f":"IF(#REF!=\"\",\"\",HLOOKUP(#REF!,F1:N50,#REF!+3))","v":{"$error":"#REF!"}}]
[null,null,{"$f":"IF(#REF!=\"\",\"\",HLOOKUP(#REF!,F1:N50,#REF!+3))","v":{"$error":"#REF!"}}]
[null,null,{"$f":"IF(#REF!=\"\",\"\",HLOOKUP(#REF!,F1:N50,#REF!+3))","v":{"$error":"#REF!"}}]
[null,null,{"$f":"IF(#REF!=\"\",\"\",HLOOKUP(#REF!,F1:N50,#REF!+3))","v":{"$error":"#REF!"}}]
[null,null,{"$f":"IF(#REF!=\"\",\"\",HLOOKUP(#REF!,F1:N50,#REF!+3))","v":{"$error":"#REF!"}}]
[null,null,{"$f":"IF(#REF!=\"\",\"\",HLOOKUP(#REF!,F1:N50,#REF!+3))","v":{"$error":"#REF!"}}]
[null,null,{"$f":"SUM(C308:C323)","v":{"$error":"#REF!"}}]
[]
[]
[]
["linie17",null,{"$f":"IF(#REF!=\"\",\"\",HLOOKUP(#REF!,F1:N50,#REF!+3))","v":{"$error":"#REF!"}}]
[null,null,{"$f":"IF(#REF!=\"\",\"\",HLOOKUP(#REF!,F1:N50,#REF!+3))","v":{"$error":"#REF!"}}]
[null,null,{"$f":"IF(#REF!=\"\",\"\",HLOOKUP(#REF!,F1:N50,#REF!+3))","v":{"$error":"#REF!"}}]
[null,null,{"$f":"IF(#REF!=\"\",\"\",HLOOKUP(#REF!,F1:N50,#REF!+3))","v":{"$error":"#REF!"}}]
[null,null,{"$f":"IF(#REF!=\"\",\"\",HLOOKUP(#REF!,F1:N50,#REF!+3))","v":{"$error":"#REF!"}}]
[null,null,{"$f":"IF(#REF!=\"\",\"\",HLOOKUP(#REF!,F1:N50,#REF!+3))","v":{"$error":"#REF!"}}]
[null,null,{"$f":"IF(#REF!=\"\",\"\",HLOOKUP(#REF!,F1:N50,#REF!+3))","v":{"$error":"#REF!"}}]
[null,null,{"$f":"IF(#REF!=\"\",\"\",HLOOKUP(#REF!,F1:N50,#REF!+3))","v":{"$error":"#REF!"}}]
[null,null,{"$f":"IF(#REF!=\"\",\"\",HLOOKUP(#REF!,F1:N50,#REF!+3))","v":{"$error":"#REF!"}}]
[null,null,{"$f":"IF(#REF!=\"\",\"\",HLOOKUP(#REF!,F1:N50,#REF!+3))","v":{"$error":"#REF!"}}]
[null,null,{"$f":"IF(#REF!=\"\",\"\",HLOOKUP(#REF!,F1:N50,#REF!+3))","v":{"$error":"#REF!"}}]
[null,null,{"$f":"IF(#REF!=\"\",\"\",HLOOKUP(#REF!,F1:N50,#REF!+3))","v":{"$error":"#REF!"}}]
[null,null,{"$f":"IF(#REF!=\"\",\"\",HLOOKUP(#REF!,F1:N50,#REF!+3))","v":{"$error":"#REF!"}}]
[null,null,{"$f":"IF(#REF!=\"\",\"\",HLOOKUP(#REF!,F1:N50,#REF!+3))","v":{"$error":"#REF!"}}]
[null,null,{"$f":"IF(#REF!=\"\",\"\",HLOOKUP(#REF!,F1:N50,#REF!+3))","v":{"$error":"#REF!"}}]
[null,null,{"$f":"IF(#REF!=\"\",\"\",HLOOKUP(#REF!,F1:N50,#REF!+3))","v":{"$error":"#REF!"}}]
[null,null,{"$f":"SUM(C328:C343)","v":{"$error":"#REF!"}}]
[]
[]
[]
["linie18",null,{"$f":"IF(#REF!=\"\",\"\",HLOOKUP(#REF!,F1:N50,#REF!+3))","v":{"$error":"#REF!"}}]
[null,null,{"$f":"IF(#REF!=\"\",\"\",HLOOKUP(#REF!,F1:N50,#REF!+3))","v":{"$error":"#REF!"}}]
[null,null,{"$f":"IF(#REF!=\"\",\"\",HLOOKUP(#REF!,F1:N50,#REF!+3))","v":{"$error":"#REF!"}}]
[null,null,{"$f":"IF(#REF!=\"\",\"\",HLOOKUP(#REF!,F1:N50,#REF!+3))","v":{"$error":"#REF!"}}]
[null,null,{"$f":"IF(#REF!=\"\",\"\",HLOOKUP(#REF!,F1:N50,#REF!+3))","v":{"$error":"#REF!"}}]
[null,null,{"$f":"IF(#REF!=\"\",\"\",HLOOKUP(#REF!,F1:N50,#REF!+3))","v":{"$error":"#REF!"}}]
[null,null,{"$f":"IF(#REF!=\"\",\"\",HLOOKUP(#REF!,F1:N50,#REF!+3))","v":{"$error":"#REF!"}}]
[null,null,{"$f":"IF(#REF!=\"\",\"\",HLOOKUP(#REF!,F1:N50,#REF!+3))","v":{"$error":"#REF!"}}]
[null,null,{"$f":"IF(#REF!=\"\",\"\",HLOOKUP(#REF!,F1:N50,#REF!+3))","v":{"$error":"#REF!"}}]
[null,null,{"$f":"IF(#REF!=\"\",\"\",HLOOKUP(#REF!,F1:N50,#REF!+3))","v":{"$error":"#REF!"}}]
[null,null,{"$f":"IF(#REF!=\"\",\"\",HLOOKUP(#REF!,F1:N50,#REF!+3))","v":{"$error":"#REF!"}}]
[null,null,{"$f":"IF(#REF!=\"\",\"\",HLOOKUP(#REF!,F1:N50,#REF!+3))","v":{"$error":"#REF!"}}]
[null,null,{"$f":"IF(#REF!=\"\",\"\",HLOOKUP(#REF!,F1:N50,#REF!+3))","v":{"$error":"#REF!"}}]
[null,null,{"$f":"IF(#REF!=\"\",\"\",HLOOKUP(#REF!,F1:N50,#REF!+3))","v":{"$error":"#REF!"}}]
[null,null,{"$f":"IF(#REF!=\"\",\"\",HLOOKUP(#REF!,F1:N50,#REF!+3))","v":{"$error":"#REF!"}}]
[null,null,{"$f":"IF(#REF!=\"\",\"\",HLOOKUP(#REF!,F1:N50,#REF!+3))","v":{"$error":"#REF!"}}]
[null,null,{"$f":"SUM(C348:C363)","v":{"$error":"#REF!"}}]
[]
[]
[]
["linie19",null,{"$f":"IF(#REF!=\"\",\"\",HLOOKUP(#REF!,F1:N50,#REF!+3))","v":{"$error":"#REF!"}}]
[null,null,{"$f":"IF(#REF!=\"\",\"\",HLOOKUP(#REF!,F1:N50,#REF!+3))","v":{"$error":"#REF!"}}]
[null,null,{"$f":"IF(#REF!=\"\",\"\",HLOOKUP(#REF!,F1:N50,#REF!+3))","v":{"$error":"#REF!"}}]
[null,null,{"$f":"IF(#REF!=\"\",\"\",HLOOKUP(#REF!,F1:N50,#REF!+3))","v":{"$error":"#REF!"}}]
[null,null,{"$f":"IF(#REF!=\"\",\"\",HLOOKUP(#REF!,F1:N50,#REF!+3))","v":{"$error":"#REF!"}}]
[null,null,{"$f":"IF(#REF!=\"\",\"\",HLOOKUP(#REF!,F1:N50,#REF!+3))","v":{"$error":"#REF!"}}]
[null,null,{"$f":"IF(#REF!=\"\",\"\",HLOOKUP(#REF!,F1:N50,#REF!+3))","v":{"$error":"#REF!"}}]
[null,null,{"$f":"IF(#REF!=\"\",\"\",HLOOKUP(#REF!,F1:N50,#REF!+3))","v":{"$error":"#REF!"}}]
[null,null,{"$f":"IF(#REF!=\"\",\"\",HLOOKUP(#REF!,F1:N50,#REF!+3))","v":{"$error":"#REF!"}}]
[null,null,{"$f":"IF(#REF!=\"\",\"\",HLOOKUP(#REF!,F1:N50,#REF!+3))","v":{"$error":"#REF!"}}]
[null,null,{"$f":"IF(#REF!=\"\",\"\",HLOOKUP(#REF!,F1:N50,#REF!+3))","v":{"$error":"#REF!"}}]
[null,null,{"$f":"IF(#REF!=\"\",\"\",HLOOKUP(#REF!,F1:N50,#REF!+3))","v":{"$error":"#REF!"}}]
[null,null,{"$f":"IF(#REF!=\"\",\"\",HLOOKUP(#REF!,F1:N50,#REF!+3))","v":{"$error":"#REF!"}}]
[null,null,{"$f":"IF(#REF!=\"\",\"\",HLOOKUP(#REF!,F1:N50,#REF!+3))","v":{"$error":"#REF!"}}]
[null,null,{"$f":"IF(#REF!=\"\",\"\",HLOOKUP(#REF!,F1:N50,#REF!+3))","v":{"$error":"#REF!"}}]
[null,null,{"$f":"IF(#REF!=\"\",\"\",HLOOKUP(#REF!,F1:N50,#REF!+3))","v":{"$error":"#REF!"}}]
[null,null,{"$f":"SUM(C368:C383)","v":{"$error":"#REF!"}}]
[]
[]
[]
["linie20",null,{"$f":"IF(#REF!=\"\",\"\",HLOOKUP(#REF!,F1:N50,#REF!+3))","v":{"$error":"#REF!"}}]
[null,null,{"$f":"IF(#REF!=\"\",\"\",HLOOKUP(#REF!,F1:N50,#REF!+3))","v":{"$error":"#REF!"}}]
[null,null,{"$f":"IF(#REF!=\"\",\"\",HLOOKUP(#REF!,F1:N50,#REF!+3))","v":{"$error":"#REF!"}}]
[null,null,{"$f":"IF(#REF!=\"\",\"\",HLOOKUP(#REF!,F1:N50,#REF!+3))","v":{"$error":"#REF!"}}]
[null,null,{"$f":"IF(#REF!=\"\",\"\",HLOOKUP(#REF!,F1:N50,#REF!+3))","v":{"$error":"#REF!"}}]
[null,null,{"$f":"IF(#REF!=\"\",\"\",HLOOKUP(#REF!,F1:N50,#REF!+3))","v":{"$error":"#REF!"}}]
[null,null,{"$f":"IF(#REF!=\"\",\"\",HLOOKUP(#REF!,F1:N50,#REF!+3))","v":{"$error":"#REF!"}}]
[null,null,{"$f":"IF(#REF!=\"\",\"\",HLOOKUP(#REF!,F1:N50,#REF!+3))","v":{"$error":"#REF!"}}]
[null,null,{"$f":"IF(#REF!=\"\",\"\",HLOOKUP(#REF!,F1:N50,#REF!+3))","v":{"$error":"#REF!"}}]
[null,null,{"$f":"IF(#REF!=\"\",\"\",HLOOKUP(#REF!,F1:N50,#REF!+3))","v":{"$error":"#REF!"}}]
[null,null,{"$f":"IF(#REF!=\"\",\"\",HLOOKUP(#REF!,F1:N50,#REF!+3))","v":{"$error":"#REF!"}}]
[null,null,{"$f":"IF(#REF!=\"\",\"\",HLOOKUP(#REF!,F1:N50,#REF!+3))","v":{"$error":"#REF!"}}]
[null,null,{"$f":"IF(#REF!=\"\",\"\",HLOOKUP(#REF!,F1:N50,#REF!+3))","v":{"$error":"#REF!"}}]
[null,null,{"$f":"IF(#REF!=\"\",\"\",HLOOKUP(#REF!,F1:N50,#REF!+3))","v":{"$error":"#REF!"}}]
[null,null,{"$f":"IF(#REF!=\"\",\"\",HLOOKUP(#REF!,F1:N50,#REF!+3))","v":{"$error":"#REF!"}}]
[null,null,{"$f":"IF(#REF!=\"\",\"\",HLOOKUP(#REF!,F1:N50,#REF!+3))","v":{"$error":"#REF!"}}]
[null,null,{"$f":"SUM(C388:C403)","v":{"$error":"#REF!"}}]

{"sheet":"Ark3","index":5,"n_rows":0,"n_cols":0,"rows_kept":0,"cut":false,"hidden":true,"merged":[]}

{"sheet":"Afsnit 20 gr. 3","index":6,"n_rows":36,"n_cols":28,"rows_kept":36,"cut":false,"hidden":false,"merged":[[19,7,19,22],[20,7,20,22],[0,7,0,24],[4,7,4,22],[14,7,14,22],[15,7,15,22],[16,7,16,10],[17,7,17,22],[18,7,18,22],[31,1,31,6],[28,7,28,19],[27,7,27,22],[29,7,29,22],[21,7,21,22],[22,7,22,22],[23,7,23,22],[26,7,26,22]]}
[]
["Afsnit 20 gr. 3 trappe"]
[]
["Trappeprisliste",null,null,null,null,null,null,"Tast valgfrie satser fra Pkt. 1-26 i trappeprislisten i hvert sit felt herunder",null,null,null,null,null,null,null,null,null,null,null,null,null,null,null,null,null,null,1,"Støvsugning"]
[null,"Antal"," L (m)","B (m)",null,"M²",null,null,null,null,null,null,null,null,null,null,null,null,null,null,null,null,null,"Pr. Trin/M²","Total",null,2,"Svabning og støvsugning"]
["Repose(r)",null,null,null,null,{"$f":"C6*D6","v":0},null,null,null,null,null,null,null,null,null,null,null,null,null,null,null,null,null,{"$f":"Beregn_trappe!C21","v":0},{"$f":"F6*X6*B6","v":0},null,3,"Aftagning og afrensning af belægning"]
["Repose(r)",null,null,null,null,{"$f":"C7*D7","v":0},null,null,null,null,null,null,null,null,null,null,null,null,null,null,null,null,null,{"$f":"Beregn_trappe!C41","v":0},{"$f":"F7*X7*B7","v":0},null,4,"Aftagning ekstra lag beklædning"]
["Repose(r)",null,null,null,null,{"$f":"C8*D8","v":0},null,null,null,null,null,null,null,null,null,null,null,null,null,null,null,null,null,{"$f":"Beregn_trappe!C61","v":0},{"$f":"F8*X8*B8","v":0},null,5,"Aftagning af masonit og afrensning af søm"]
["Repose(r)",null,null,null,null,{"$f":"C9*D9","v":0},null,null,null,null,null,null,null,null,null,null,null,null,null,null,null,null,null,{"$f":"Beregn_trappe!C81","v":0},{"$f":"F9*X9*B9","v":0},null,6,"Støvbinding, spartling, slibning og støvsugning"]
["Repose(r)",null,null,null,null,{"$f":"C10*D10","v":0},null,null,null,null,null,null,null,null,null,null,null,null,null,null,null,null,null,{"$f":"Beregn_trappe!C101","v":0},{"$f":"F10*X10*B10","v":0},null,7,"Korkment, lægning inkl. klæbning"]
[null,null,null,null,null,null,null,null,null,null,null,null,null,null,null,null,null,null,null,null,null,null,null,null,null,null,8,"Maskinsømning af træfiberplader"]
["Trin/Stød",null,null,null,null,null,null,null,null,null,null,null,null,null,null,null,null,null,null,null,null,null,null,{"$f":"Beregn_trappe!C121","v":0},{"$f":"X12*B12","v":0},null,9,"Limning af træfiberplader"]
["Trin/Stød",null,null,null,null,null,null,null,null,null,null,null,null,null,null,null,null,null,null,null,null,null,null,{"$f":"Beregn_trappe!C141","v":0},{"$f":"X13*B13","v":0},null,10,"Linoleum/vinyl/gummi, lægning, klæbning"]
[null,null,null,null,null,null,null,null,null,null,null,null,null,null,null,null,null,null,null,null,null,null,null,null,null,null,11,"Tæpper, lægning, klæbning, tæt tilskæring"]
[null,null,null,null,null,{"$f":"SUM(F6:F14)","v":0},null,null,null,null,null,null,null,null,null,null,null,null,null,null,null,null,null,null,{"$f":"SUM(Y6:Y14)","v":0},null,12,"Fliser, linoleum/vinyl/gummi, klæbning,"]
[null,null,null,null,null,null,null,"Tillægspriser (Pkt. 27-33)",null,null,null,null,null,null,null,null,null,null,null,null,null,null,null,null,null,null,13,"Tillæg til pkt. 10, for tæt tilskæring"]
[null,null,null,null,null,"Antal","Pkt.",null,null,null,null,null,null,null,null,null,null,null,null,null,null,null,null,null,null,null,14,"Montering af lister"]
[null,null,null,null,null,null,27,"Belægning i dørtrin",null,null,null,null,null,null,null,null,null,null,null,null,null,null,null,{"$f":"Beregn_trappe!I30","v":52.930608199999995},{"$f":"F18*X18","v":0},null,15,"Montering af udv. vaskekant (pr. 7-tal)"]
[null,null,null,null,null,null,28,"Etagetillæg 1. etage",null,null,null,null,null,null,null,null,null,null,null,null,null,null,null,{"$f":"X12*0.05","v":0},{"$f":"IF('Afsnit 20 gr. 3'!F18:F19=\"\",\"\",Y15*0.05)","v":""},null,16,"Montering af trappebånd"]
[null,null,null,null,null,null,29,"Etagetillæg 2. etage",null,null,null,null,null,null,null,null,null,null,null,null,null,null,null,{"$f":"X12*0.1","v":0},{"$f":"IF('Afsnit 20 gr. 3'!F20=\"\",\"\",Y15*0.15)","v":""},null,17,"Afdækning med papir, pap, folie."]
[null,null,null,null,null,null,30,"Uafspærret trappe tillæg",null,null,null,null,null,null,null,null,null,null,null,null,null,null,null,{"$f":"X12*0.35","v":0},{"$f":"X21*F21","v":0},null,18,"Afdækning med masonit"]
[null,null,null,null,null,null,31,"Skæve trin tillæg",null,null,null,null,null,null,null,null,null,null,null,null,null,null,null,{"$f":"X12*0.1535","v":0},{"$f":"IF('Afsnit 20 gr. 3'!F22=\"\",\"\",Y15*0.35)","v":""},null,19,"Aftagning af forkantskinner"]
[null,null,null,null,null,null,32,"Ved Kontaktklæbning tillægges",null,null,null,null,null,null,null,null,null,null,null,null,null,null,null,{"$f":"X12*0.35","v":0},{"$f":"F23*X23","v":0},null,20,"Indklinkning med maskine t.o.m. 25 mm."]
[null,null,null,null,null,null,33,"Klodstrin tillæg",null,null,null,null,null,null,null,null,null,null,null,null,null,null,null,{"$f":"X12","v":0},{"$f":"X24*F24*100","v":0},null,21,"Montering af opforingsliste"]
[null,null,null,null,null,null,null,null,null,null,null,null,null,null,null,null,null,null,null,null,null,null,null,null,null,null,22,"Montering af forkantskinne, uden falsning"]
[null,null,null,null,null,null,null,null,null,null,null,null,null,null,null,null,null,null,null,null,null,null,null,null,null,null,23,"Limning under skinner inden montering"]
[null,null,null,null,null,null,null,"Akkord beregning",null,null,null,null,null,null,null,null,null,null,null,null,null,null,null,null,{"$f":"SUM(Y15:Y25)","v":0},null,24,"Metalskinner"]
[null,null,null,null,null,null,null,"Overenskomst tillæg gældende fra 1.marts 2025",null,null,null,null,null,null,null,null,null,null,null,null,null,null,null,0,{"$f":"(Y27)*X28","v":0},null,25,"Metalskinner inkl. boring i hårdt gulv"]
[null,null,null,null,null,null,null,null,null,null,null,null,null,null,null,null,null,null,null,null,null,null,null,null,null,null,26,"Montering af plastforkant"]
[null,null,null,null,null,null,null,"Total Beregning",null,null,null,null,null,null,null,null,null,null,null,null,null,null,null,null,{"$f":"SUM(Y27:Y29)","v":0},null,27,"Belægning i dørtrin, betales med mindst 1 meter pr. meter"]
[null,null,null,null,null,null,null,null,null,null,null,null,null,null,null,null,null,null,null,null,null,null,null,null,null,null,28,"Etagetillæg 1. etage"]
[null,null,null,null,null,null,null,null,null,null,null,null,null,null,null,null,null,null,null,null,null,null,null,null,null,null,29,"Etagetillæg 2. etage"]
[null,null,null,null,null,null,null,null,null,null,null,null,null,null,null,null,null,null,null,null,null,null,null,null,null,null,30,"Tillæg for uafspærret trappe"]
[null,null,null,null,null,null,null,null,null,null,null,null,null,null,null,null,null,null,null,null,null,null,null,null,null,null,31,"Tillæg for skæve trin"]
[null,null,null,null,null,null,null,null,null,null,null,null,null,null,null,null,null,null,null,null,null,null,null,null,null,null,32,"Ved kontaktklæbning tillægges"]
[null,null,null,null,null,null,null,null,null,null,null,null,null,null,null,null,null,null,null,null,null,null,null,null,null,null,33,"Tillæg for klodstrin"]

{"sheet":"Hvidbog","index":7,"n_rows":0,"n_cols":0,"rows_kept":0,"cut":false,"hidden":true,"merged":[]}

{"sheet":"Ark2","index":8,"n_rows":36,"n_cols":6,"rows_kept":36,"cut":false,"hidden":true,"merged":[]}
[null,null,"antal"]
[null,"Pkt.","m²/cm/m/stk","Tekst","Pr, m²/m/stk","total"]
[null,2,9,{"$f":"IFERROR(VLOOKUP(B3,'Afsnit 20 gr. 2'!AD14:AE96,2,FALSE),\"\")","v":""},{"$f":"IF(B3=\"\",\"\",HLOOKUP($C$3,'Ark1'!F1:M50,B3+1))","v":5.13},{"$f":"IFERROR(C3*E3,\"\")","v":46.17}]
[null,7,9,{"$f":"IFERROR(VLOOKUP(B4,'Afsnit 20 gr. 2'!AD14:AE96,2,FALSE),\"\")","v":""},{"$f":"IF(B4=\"\",\"\",HLOOKUP($C$4,'Ark1'!F1:M50,B4+1))","v":19.96},{"$f":"IFERROR(C4*E4,\"\")","v":179.64000000000001}]
[null,13,9,{"$f":"IFERROR(VLOOKUP(B5,'Afsnit 20 gr. 2'!AD14:AE96,2,FALSE),\"\")","v":""},{"$f":"IF(B5=\"\",\"\",HLOOKUP($C$5,'Ark1'!F1:M50,B5+1))","v":28.97},260.73]
[null,14,9,{"$f":"IFERROR(VLOOKUP(B6,'Afsnit 20 gr. 2'!AD14:AE96,2,FALSE),\"\")","v":""},{"$f":"IF(B6=\"\",\"\",HLOOKUP($C$6,'Ark1'!E1:M50,B6+1))","v":3.44},30.96]
[null,19,9,{"$f":"IFERROR(VLOOKUP(B7,'Afsnit 20 gr. 2'!AD14:AE96,2,FALSE),\"\")","v":""},{"$f":"IF(B7=\"\",\"\",HLOOKUP($C$7,'Ark1'!E1:M50,B7+1))","v":8.49},76.41]
[null,23,9,{"$f":"IFERROR(VLOOKUP(B8,'Afsnit 20 gr. 2'!AD14:AE96,2,FALSE),\"\")","v":""},{"$f":"IF(B8=\"\",\"\",HLOOKUP($C$8,'Ark1'!E1:M50,B8+1))","v":3.77},33.93]
[null,15,12,{"$f":"IFERROR(VLOOKUP(B9,'Afsnit 20 gr. 2'!AD14:AE96,2,FALSE),\"\")","v":""},{"$f":"IF(B9=\"\",\"\",HLOOKUP($C$9,'Ark1'!E1:M50,B9+1))","v":50.04},600.48]
[null,16,4,{"$f":"IFERROR(VLOOKUP(B10,'Afsnit 20 gr. 2'!AD14:AE96,2,FALSE),\"\")","v":""},{"$f":"IF(B10=\"\",\"\",HLOOKUP($C$10,'Ark1'!E1:M50,B10+1))","v":37.299999999999997},149.19999999999999]
[null,17,1,{"$f":"IFERROR(VLOOKUP(B11,'Afsnit 20 gr. 2'!AD14:AE96,2,FALSE),\"\")","v":""},{"$f":"IF(B11=\"\",\"\",HLOOKUP($C$11,'Ark1'!E1:M50,B11+1))","v":99.55},99.55]
[null,18,2,{"$f":"IFERROR(VLOOKUP(B12,'Afsnit 20 gr. 2'!AD14:AE96,2,FALSE),\"\")","v":""},{"$f":"IF(B12=\"\",\"\",HLOOKUP($C$12,'Ark1'!E1:M50,B12+1))","v":49.83},99.66]
[null,28,5,{"$f":"IFERROR(VLOOKUP(B13,'Afsnit 20 gr. 2'!AD14:AE96,2,FALSE),\"\")","v":""},{"$f":"IF(B13=\"\",\"\",HLOOKUP($C$13,'Ark1'!E1:M50,B13+1))","v":7.0000000000000007E-2},0.35000000000000003]
[null,32,1,{"$f":"IFERROR(VLOOKUP(B14,'Afsnit 20 gr. 2'!AD14:AE96,2,FALSE),\"\")","v":""},{"$f":"IF(B14=\"\",\"\",HLOOKUP($C$14,'Ark1'!E1:M50,B14+1))","v":352.87},352.87]
[null,33,12,{"$f":"IFERROR(VLOOKUP(B15,'Afsnit 20 gr. 2'!AD14:AE96,2,FALSE),\"\")","v":""},{"$f":"IF(B15=\"\",\"\",HLOOKUP($C$15,'Ark1'!E1:M50,B15+1))","v":7.56},90.72]
[null,35,1,{"$f":"IFERROR(VLOOKUP(B16,'Afsnit 20 gr. 2'!AD14:AE96,2,FALSE),\"\")","v":""},{"$f":"IF(B16=\"\",\"\",HLOOKUP($C$16,'Ark1'!E1:M50,B16+1))","v":96.95},96.95]
[null,36,100,{"$f":"IFERROR(VLOOKUP(B17,'Afsnit 20 gr. 2'!AD14:AE96,2,FALSE),\"\")","v":""},{"$f":"IF(B17=\"\",\"\",HLOOKUP($C$17,'Ark1'!E1:M50,B17+1))","v":1.04},104]
[null,37,1,{"$f":"IFERROR(VLOOKUP(B18,'Afsnit 20 gr. 2'!AD14:AE96,2,FALSE),\"\")","v":""},{"$f":"IF(B18=\"\",\"\",HLOOKUP($C$18,'Ark1'!E1:M50,B18+1))","v":46.39},46.39]
[null,29,12,{"$f":"IFERROR(VLOOKUP(B19,'Afsnit 20 gr. 2'!AD14:AE96,2,FALSE),\"\")","v":""},{"$f":"IF(B19=\"\",\"\",HLOOKUP($C$19,'Ark1'!E1:M50,B19+1))","v":7.04},84.48]
[null,30,12,{"$f":"IFERROR(VLOOKUP(B20,'Afsnit 20 gr. 2'!AD14:AE96,2,FALSE),\"\")","v":""},{"$f":"IF(B20=\"\",\"\",HLOOKUP($C$20,'Ark1'!E1:M50,B20+1))","v":5.47},65.64]
[null,38,1,{"$f":"IFERROR(VLOOKUP(B21,'Afsnit 20 gr. 2'!AD14:AE96,2,FALSE),\"\")","v":""},{"$f":"IF(B21=\"\",\"\",HLOOKUP($C$21,'Ark1'!E1:M50,B21+1))","v":46.39},46.39]
[null,39,1,{"$f":"IFERROR(VLOOKUP(B22,'Afsnit 20 gr. 2'!AD14:AE96,2,FALSE),\"\")","v":""},{"$f":"IF(B22=\"\",\"\",HLOOKUP($C$22,'Ark1'!E1:M50,B22+1))","v":22.15},{"$f":"IFERROR(C22*E22,\"\")","v":22.15}]
[]
[null,null,null,"Tillæg i %"]
[]
[]
[null,42,1,null,{"$f":"IF(B3=\"\",\"\",HLOOKUP($C$27,'Ark1'!F1:M50,B27+1))","v":0.35},{"$f":"IFERROR(C27*E27,\"\")","v":0.35}]
[]
[]
[]
[]
[]
[]
[]
[]
[null,null,null,null,null,{"$f":"SUM(F3:F35)","v":2487.0199999999995}]

{"sheet":"Beregn_trappe","index":9,"n_rows":161,"n_cols":12,"rows_kept":161,"cut":false,"hidden":true,"merged":[]}
["Trappe",null,null,null,null,0.1,2.1,6.1,null,null,null,0]
[null,null,null,null,"Pkt.","A","B","C","D",null,"Pkt.","D"]
[null,null,null,null,null,"U. 2","2 til 6","6 til 8","trin/stød",null,null,"trin/stød"]
[null,null,null,null,1,3.7712445051259635,2.8345955430685339,2.5018386749691852,2.3416224051435717,null,1,2.3416224051435717]
[null,null,null,null,2,5.0036773499383704,3.7589201766778388,3.3275686809934975,3.0687577835828921,null,2,3.0687577835828921]
["Linie 1",null,{"$f":"IF('Afsnit 20 gr. 3'!I6=\"\",\"\",HLOOKUP('Afsnit 20 gr. 3'!$F$6,E1:I29,'Afsnit 20 gr. 3'!I6+3))","v":""},null,3,40.547040594328166,30.428766938418317,26.977954972943575,22.923250913510756,null,3,22.923250913510756]
[null,null,{"$f":"IF('Afsnit 20 gr. 3'!J6=\"\",\"\",HLOOKUP('Afsnit 20 gr. 3'!$F$6,E1:I29,'Afsnit 20 gr. 3'!J6+3))","v":""},null,4,23.859899875568189,17.882600578228018,15.861410712735667,13.470490993799602,null,4,13.470490993799602]
[null,null,{"$f":"IF('Afsnit 20 gr. 3'!K6=\"\",\"\",HLOOKUP('Afsnit 20 gr. 3'!$F$6,E1:I29,'Afsnit 20 gr. 3'!K6+3))","v":""},null,5,65.232670475920671,48.927583939052539,43.381636137396704,36.837417731442834,null,5,36.837417731442834]
[null,null,{"$f":"IF('Afsnit 20 gr. 3'!L6=\"\",\"\",HLOOKUP('Afsnit 20 gr. 3'!$F$6,E1:I29,'Afsnit 20 gr. 3'!L6+3))","v":""},null,6,50.320233053690558,33.152443525453734,29.39352334877589,14.136004729998303,null,6,14.136004729998303]
[null,null,{"$f":"IF('Afsnit 20 gr. 3'!M6=\"\",\"\",HLOOKUP('Afsnit 20 gr. 3'!$F$6,E1:I29,'Afsnit 20 gr. 3'!M6+3))","v":""},null,7,51.404773957125478,32.758065015113758,24.858170479866246,16.058599967905653,null,7,16.058599967905653]
[null,null,{"$f":"IF('Afsnit 20 gr. 3'!N6=\"\",\"\",HLOOKUP('Afsnit 20 gr. 3'!$F$6,E1:I29,'Afsnit 20 gr. 3'!N6+3))","v":""},null,8,85.185758233433532,58.059911319112473,47.288448255452025,14.900113093781997,null,8,14.900113093781997]
[null,null,{"$f":"IF('Afsnit 20 gr. 3'!O6=\"\",\"\",HLOOKUP('Afsnit 20 gr. 3'!$F$6,E1:I29,'Afsnit 20 gr. 3'!O6+3))","v":""},null,9,106.6177654047213,72.553321574106391,59.156776550995517,18.609735956667333,null,9,18.609735956667333]
[null,null,{"$f":"IF('Afsnit 20 gr. 3'!P6=\"\",\"\",HLOOKUP('Afsnit 20 gr. 3'!$F$6,E1:I29,'Afsnit 20 gr. 3'!P6+3))","v":""},null,10,78.062296390417828,52.748125757970989,42.568230459820512,26.817738703117964,null,10,26.817738703117964]
[null,null,{"$f":"IF('Afsnit 20 gr. 3'!Q6=\"\",\"\",HLOOKUP('Afsnit 20 gr. 3'!$F$6,E1:I29,'Afsnit 20 gr. 3'!Q6+3))","v":""},null,11,78.062296390417828,52.748125757970989,42.568230459820512,26.817738703117964,null,11,26.817738703117964]
[null,null,{"$f":"IF('Afsnit 20 gr. 3'!R6=\"\",\"\",HLOOKUP('Afsnit 20 gr. 3'!$F$6,E1:I29,'Afsnit 20 gr. 3'!R6+3))","v":""},null,12,98.150951760860067,66.945752130209911,53.795693676061546,31.722821425471334,null,12,31.722821425471334]
[null,null,{"$f":"IF('Afsnit 20 gr. 3'!S6=\"\",\"\",HLOOKUP('Afsnit 20 gr. 3'!$F$6,E1:I29,'Afsnit 20 gr. 3'!S6+3))","v":""},null,13,9.1323273800599338,7.9491918490400213,6.9755699016382202,12.299679791227817,null,13,12.299679791227817]
[null,null,{"$f":"IF('Afsnit 20 gr. 3'!T6=\"\",\"\",HLOOKUP('Afsnit 20 gr. 3'!$F$6,E1:I29,'Afsnit 20 gr. 3'!T6+3))","v":""},null,14,51.996341722635421,30.946388733239534,20.556979851470942,36.99763400126843,null,14,36.99763400126843]
[null,null,{"$f":"IF('Afsnit 20 gr. 3'!U6=\"\",\"\",HLOOKUP('Afsnit 20 gr. 3'!$F$6,E1:I29,'Afsnit 20 gr. 3'!U6+3))","v":""},null,15,88.895381096318857,44.478501369279748,25.375792274687452,71.320888729293955,null,15,71.320888729293955]
[null,null,{"$f":"IF('Afsnit 20 gr. 3'!V6=\"\",\"\",HLOOKUP('Afsnit 20 gr. 3'!$F$6,E1:I29,'Afsnit 20 gr. 3'!V6+3))","v":""},null,16,61.079371788902861,34.877849508191112,22.516548074722664,47.029637358041427,null,16,47.029637358041427]
[null,null,{"$f":"IF('Afsnit 20 gr. 3'!W6=\"\",\"\",HLOOKUP('Afsnit 20 gr. 3'!$F$6,E1:I29,'Afsnit 20 gr. 3'!W6+3))","v":""},null,17,4.8434610801127551,3.6356768921965994,3.2289740534085056,2.7360009154835421,null,17,2.7360009154835421]
[null,null,{"$f":"SUM(C6:C20)","v":0},null,18,24.020116145393803,18.030492519605509,15.984653997216913,13.581409949832716,null,18,13.581409949832716]
[null,null,null,null,19,9.4157869343667837,9.4157869343667837,9.4157869343667837,9.4157869343667837,null,19,9.4157869343667837]
[null,null,null,null,20,65.257319132816917,65.257319132816917,65.257319132816917,65.257319132816917,null,20,65.257319132816917]
[null,null,null,null,21,7.9491918490400213,7.9491918490400213,7.9491918490400213,7.9491918490400213,null,21,7.9491918490400213]
[null,null,null,null,22,20.643250150607805,20.643250150607805,20.643250150607805,20.643250150607805,null,22,20.643250150607805]
["Linie 2",null,{"$f":"IF('Afsnit 20 gr. 3'!I7=\"\",\"\",HLOOKUP('Afsnit 20 gr. 3'!$F$7,E1:I29,'Afsnit 20 gr. 3'!I7+3))","v":""},null,23,5.0036773499383704,5.0036773499383704,5.0036773499383704,5.0036773499383704,null,23,5.0036773499383704]
[null,null,{"$f":"IF('Afsnit 20 gr. 3'!J7=\"\",\"\",HLOOKUP('Afsnit 20 gr. 3'!$F$7,E1:I29,'Afsnit 20 gr. 3'!J7+3))","v":""},null,24,30.99568604703202,30.99568604703202,30.99568604703202,30.99568604703202,null,23,30.99568604703202]
[null,null,{"$f":"IF('Afsnit 20 gr. 3'!K7=\"\",\"\",HLOOKUP('Afsnit 20 gr. 3'!$F$7,E1:I21,'Afsnit 20 gr. 3'!K7+3))","v":""},null,25,41.841095081381191,41.841095081381191,41.841095081381191,41.841095081381191,null,24,41.841095081381191]
[null,null,{"$f":"IF('Afsnit 20 gr. 3'!L7=\"\",\"\",HLOOKUP('Afsnit 20 gr. 3'!$F$7,E1:I29,'Afsnit 20 gr. 3'!L7+3))","v":""},null,26,20.643250150607805,20.643250150607805,20.643250150607805,20.643250150607805,null,25,20.643250150607805]
[null,null,{"$f":"IF('Afsnit 20 gr. 3'!M7=\"\",\"\",HLOOKUP('Afsnit 20 gr. 3'!$F$7,E1:I29,'Afsnit 20 gr. 3'!M7+3))","v":""},null,null,52.930608199999995,52.930608199999995,52.930608199999995,52.930608199999995,null,null,52.930608199999995]
[null,null,{"$f":"IF('Afsnit 20 gr. 3'!N7=\"\",\"\",HLOOKUP('Afsnit 20 gr. 3'!$F$7,E1:I29,'Afsnit 20 gr. 3'!N7+3))","v":""},null,null,0.1,0.1,0.1,0.1,null,null,0.1]
[null,null,{"$f":"IF('Afsnit 20 gr. 3'!O7=\"\",\"\",HLOOKUP('Afsnit 20 gr. 3'!$F$7,E1:I29,'Afsnit 20 gr. 3'!O7+3))","v":""},null,null,0.05,0.05,0.05,0.05,null,null,0.05]
[null,null,{"$f":"IF('Afsnit 20 gr. 3'!P7=\"\",\"\",HLOOKUP('Afsnit 20 gr. 3'!$F$7,E1:I29,'Afsnit 20 gr. 3'!P7+3))","v":""},null,null,0.15,0.15,0.15,0.15,null,null,0.15]
[null,null,{"$f":"IF('Afsnit 20 gr. 3'!Q7=\"\",\"\",HLOOKUP('Afsnit 20 gr. 3'!$F$76,E2:I29,'Afsnit 20 gr. 3'!Q7+3))","v":""},null,null,0.3,0.3,0.3,0.3,null,null,0.3]
[null,null,{"$f":"IF('Afsnit 20 gr. 3'!R7=\"\",\"\",HLOOKUP('Afsnit 20 gr. 3'!$F$7,E1:I29,'Afsnit 20 gr. 3'!R7+3))","v":""},null,null,0.35,0.35,0.35,0.35,null,null,0.35]
[null,null,{"$f":"IF('Afsnit 20 gr. 3'!S7=\"\",\"\",HLOOKUP('Afsnit 20 gr. 3'!$F$7,E1:I29,'Afsnit 20 gr. 3'!S7+3))","v":""},null,null,1,1,1,1,null,null,1]
[null,null,{"$f":"IF('Afsnit 20 gr. 3'!T7=\"\",\"\",HLOOKUP('Afsnit 20 gr. 3'!$F$7,E1:I29,'Afsnit 20 gr. 3'!T7+3))","v":""}]
[null,null,{"$f":"IF('Afsnit 20 gr. 3'!U7=\"\",\"\",HLOOKUP('Afsnit 20 gr. 3'!$F$7,E1:I29,'Afsnit 20 gr. 3'!U7+3))","v":""}]
[null,null,{"$f":"IF('Afsnit 20 gr. 3'!V7=\"\",\"\",HLOOKUP('Afsnit 20 gr. 3'!$F$7,E1:I29,'Afsnit 20 gr. 3'!V7+3))","v":""}]
[null,null,{"$f":"IF('Afsnit 20 gr. 3'!W7=\"\",\"\",HLOOKUP('Afsnit 20 gr. 3'!$F$7,E1:I21,'Afsnit 20 gr. 3'!W7+3))","v":""}]
[null,null,{"$f":"SUM(C26:C40)","v":0}]
[]
[]
[]
[]
["Linie 3",null,{"$f":"IF('Afsnit 20 gr. 3'!I8=\"\",\"\",HLOOKUP('Afsnit 20 gr. 3'!$F$8,E1:I29,'Afsnit 20 gr. 3'!I8+3))","v":""}]
[null,null,{"$f":"IF('Afsnit 20 gr. 3'!J8=\"\",\"\",HLOOKUP('Afsnit 20 gr. 3'!$F$8,E1:I29,'Afsnit 20 gr. 3'!J8+3))","v":""}]
[null,null,{"$f":"IF('Afsnit 20 gr. 3'!K8=\"\",\"\",HLOOKUP('Afsnit 20 gr. 3'!$F$8,E1:I29,'Afsnit 20 gr. 3'!K8+3))","v":""}]
[null,null,{"$f":"IF('Afsnit 20 gr. 3'!L8=\"\",\"\",HLOOKUP('Afsnit 20 gr. 3'!$F$8,E1:I29,'Afsnit 20 gr. 3'!L8+3))","v":""}]
[null,null,{"$f":"IF('Afsnit 20 gr. 3'!M8=\"\",\"\",HLOOKUP('Afsnit 20 gr. 3'!$F$8,E1:I29,'Afsnit 20 gr. 3'!M8+3))","v":""}]
[null,null,{"$f":"IF('Afsnit 20 gr. 3'!N8=\"\",\"\",HLOOKUP('Afsnit 20 gr. 3'!$F$8,E1:I29,'Afsnit 20 gr. 3'!N8+3))","v":""}]
[null,null,{"$f":"IF('Afsnit 20 gr. 3'!O8=\"\",\"\",HLOOKUP('Afsnit 20 gr. 3'!$F$8,E1:I29,'Afsnit 20 gr. 3'!O8+3))","v":""}]
[null,null,{"$f":"IF('Afsnit 20 gr. 3'!P8=\"\",\"\",HLOOKUP('Afsnit 20 gr. 3'!$F$8,E1:I29,'Afsnit 20 gr. 3'!P8+3))","v":""}]
[null,null,{"$f":"IF('Afsnit 20 gr. 3'!Q8=\"\",\"\",HLOOKUP('Afsnit 20 gr. 3'!$F$8,E2:I29,'Afsnit 20 gr. 3'!Q8+3))","v":""}]
[null,null,{"$f":"IF('Afsnit 20 gr. 3'!R8=\"\",\"\",HLOOKUP('Afsnit 20 gr. 3'!$F$8,E1:I29,'Afsnit 20 gr. 3'!R8+3))","v":""}]
[null,null,{"$f":"IF('Afsnit 20 gr. 3'!S8=\"\",\"\",HLOOKUP('Afsnit 20 gr. 3'!$F$8,E1:I29,'Afsnit 20 gr. 3'!S8+3))","v":""}]
[null,null,{"$f":"IF('Afsnit 20 gr. 3'!T8=\"\",\"\",HLOOKUP('Afsnit 20 gr. 3'!$F$8,E1:I29,'Afsnit 20 gr. 3'!T8+3))","v":""}]
[null,null,{"$f":"IF('Afsnit 20 gr. 3'!U8=\"\",\"\",HLOOKUP('Afsnit 20 gr. 3'!$F$8,E1:I29,'Afsnit 20 gr. 3'!U8+3))","v":""}]
[null,null,{"$f":"IF('Afsnit 20 gr. 3'!V8=\"\",\"\",HLOOKUP('Afsnit 20 gr. 3'!$F$8,E1:I29,'Afsnit 20 gr. 3'!V8+3))","v":""}]
[null,null,{"$f":"IF('Afsnit 20 gr. 3'!W8=\"\",\"\",HLOOKUP('Afsnit 20 gr. 3'!$F$8,E1:I29,'Afsnit 20 gr. 3'!W8+3))","v":""}]
[null,null,{"$f":"SUM(C46:C60)","v":0}]
[]
[]
[]
[]
["Linie 4",null,{"$f":"IF('Afsnit 20 gr. 3'!I9=\"\",\"\",HLOOKUP('Afsnit 20 gr. 3'!$F$9,E1:I29,'Afsnit 20 gr. 3'!I9+3))","v":""}]
[null,null,{"$f":"IF('Afsnit 20 gr. 3'!J9=\"\",\"\",HLOOKUP('Afsnit 20 gr. 3'!$F$9,E1:I29,'Afsnit 20 gr. 3'!J9+3))","v":""}]
[null,null,{"$f":"IF('Afsnit 20 gr. 3'!K9=\"\",\"\",HLOOKUP('Afsnit 20 gr. 3'!$F$9,E1:I29,'Afsnit 20 gr. 3'!K9+3))","v":""}]
[null,null,{"$f":"IF('Afsnit 20 gr. 3'!L9=\"\",\"\",HLOOKUP('Afsnit 20 gr. 3'!$F$9,E1:I29,'Afsnit 20 gr. 3'!L9+3))","v":""}]
[null,null,{"$f":"IF('Afsnit 20 gr. 3'!M9=\"\",\"\",HLOOKUP('Afsnit 20 gr. 3'!$F$9,E1:I29,'Afsnit 20 gr. 3'!M9+3))","v":""}]
[null,null,{"$f":"IF('Afsnit 20 gr. 3'!N9=\"\",\"\",HLOOKUP('Afsnit 20 gr. 3'!$F$9,E1:I29,'Afsnit 20 gr. 3'!N9+3))","v":""}]
[null,null,{"$f":"IF('Afsnit 20 gr. 3'!O9=\"\",\"\",HLOOKUP('Afsnit 20 gr. 3'!$F$9,E1:I29,'Afsnit 20 gr. 3'!O9+3))","v":""}]
[null,null,{"$f":"IF('Afsnit 20 gr. 3'!P9=\"\",\"\",HLOOKUP('Afsnit 20 gr. 3'!$F$9,E1:I29,'Afsnit 20 gr. 3'!P9+3))","v":""}]
[null,null,{"$f":"IF('Afsnit 20 gr. 3'!Q9=\"\",\"\",HLOOKUP('Afsnit 20 gr. 3'!$F$9,E1:I29,'Afsnit 20 gr. 3'!Q9+3))","v":""}]
[null,null,{"$f":"IF('Afsnit 20 gr. 3'!R9=\"\",\"\",HLOOKUP('Afsnit 20 gr. 3'!$F$9,E1:I29,'Afsnit 20 gr. 3'!R9+3))","v":""}]
[null,null,{"$f":"IF('Afsnit 20 gr. 3'!S9=\"\",\"\",HLOOKUP('Afsnit 20 gr. 3'!$F$9,E1:I29,'Afsnit 20 gr. 3'!S9+3))","v":""}]
[null,null,{"$f":"IF('Afsnit 20 gr. 3'!T9=\"\",\"\",HLOOKUP('Afsnit 20 gr. 3'!$F$9,E1:I29,'Afsnit 20 gr. 3'!T9+3))","v":""}]
[null,null,{"$f":"IF('Afsnit 20 gr. 3'!U9=\"\",\"\",HLOOKUP('Afsnit 20 gr. 3'!$F$9,E1:I29,'Afsnit 20 gr. 3'!U9+3))","v":""}]
[null,null,{"$f":"IF('Afsnit 20 gr. 3'!V9=\"\",\"\",HLOOKUP('Afsnit 20 gr. 3'!$F$9,E1:I29,'Afsnit 20 gr. 3'!V9+3))","v":""}]
[null,null,{"$f":"IF('Afsnit 20 gr. 3'!W9=\"\",\"\",HLOOKUP('Afsnit 20 gr. 3'!$F$9,E1:I21,'Afsnit 20 gr. 3'!W9+3))","v":""}]
[null,null,{"$f":"SUM(C66:C80)","v":0}]
[]
[]
[]
[]
["Linie 5",null,{"$f":"IF('Afsnit 20 gr. 3'!I10=\"\",\"\",HLOOKUP('Afsnit 20 gr. 3'!$F$10,E1:I29,'Afsnit 20 gr. 3'!I10+3))","v":""}]
[null,null,{"$f":"IF('Afsnit 20 gr. 3'!J10=\"\",\"\",HLOOKUP('Afsnit 20 gr. 3'!$F$10,E1:I29,'Afsnit 20 gr. 3'!J10+3))","v":""}]
[null,null,{"$f":"IF('Afsnit 20 gr. 3'!K10=\"\",\"\",HLOOKUP('Afsnit 20 gr. 3'!$F$10,E1:I29,'Afsnit 20 gr. 3'!K10+3))","v":""}]
[null,null,{"$f":"IF('Afsnit 20 gr. 3'!L10=\"\",\"\",HLOOKUP('Afsnit 20 gr. 3'!$F$10,E1:I29,'Afsnit 20 gr. 3'!L10+3))","v":""}]
[null,null,{"$f":"IF('Afsnit 20 gr. 3'!M10=\"\",\"\",HLOOKUP('Afsnit 20 gr. 3'!$F$10,E1:I29,'Afsnit 20 gr. 3'!M10+3))","v":""}]
[null,null,{"$f":"IF('Afsnit 20 gr. 3'!N10=\"\",\"\",HLOOKUP('Afsnit 20 gr. 3'!$F$10,E1:I29,'Afsnit 20 gr. 3'!N10+3))","v":""}]
[null,null,{"$f":"IF('Afsnit 20 gr. 3'!O10=\"\",\"\",HLOOKUP('Afsnit 20 gr. 3'!$F$10,E1:I29,'Afsnit 20 gr. 3'!O10+3))","v":""}]
[null,null,{"$f":"IF('Afsnit 20 gr. 3'!P10=\"\",\"\",HLOOKUP('Afsnit 20 gr. 3'!$F$10,E1:I29,'Afsnit 20 gr. 3'!P10+3))","v":""}]
[null,null,{"$f":"IF('Afsnit 20 gr. 3'!Q10=\"\",\"\",HLOOKUP('Afsnit 20 gr. 3'!$F$10,E1:I29,'Afsnit 20 gr. 3'!Q10+3))","v":""}]
[null,null,{"$f":"IF('Afsnit 20 gr. 3'!R10=\"\",\"\",HLOOKUP('Afsnit 20 gr. 3'!$F$10,E1:I29,'Afsnit 20 gr. 3'!R10+3))","v":""}]
[null,null,{"$f":"IF('Afsnit 20 gr. 3'!S10=\"\",\"\",HLOOKUP('Afsnit 20 gr. 3'!$F$10,E1:I29,'Afsnit 20 gr. 3'!S10+3))","v":""}]
[null,null,{"$f":"IF('Afsnit 20 gr. 3'!T10=\"\",\"\",HLOOKUP('Afsnit 20 gr. 3'!$F$10,E1:I29,'Afsnit 20 gr. 3'!T10+3))","v":""}]
[null,null,{"$f":"IF('Afsnit 20 gr. 3'!U10=\"\",\"\",HLOOKUP('Afsnit 20 gr. 3'!$F$10,E1:I29,'Afsnit 20 gr. 3'!U10+3))","v":""}]
[null,null,{"$f":"IF('Afsnit 20 gr. 3'!V10=\"\",\"\",HLOOKUP('Afsnit 20 gr. 3'!$F$10,E1:I29,'Afsnit 20 gr. 3'!V10+3))","v":""}]
[null,null,{"$f":"IF('Afsnit 20 gr. 3'!W10=\"\",\"\",HLOOKUP('Afsnit 20 gr. 3'!$F$10,E1:I29,'Afsnit 20 gr. 3'!W10+3))","v":""}]
[null,null,{"$f":"SUM(C86:C100)","v":0}]
[]
[]
[]
[]
["Linie 7",null,{"$f":"IF('Afsnit 20 gr. 3'!I12=\"\",\"\",HLOOKUP('Afsnit 20 gr. 3'!$F$12,K1:L29,'Afsnit 20 gr. 3'!I12+3))","v":""}]
[null,null,{"$f":"IF('Afsnit 20 gr. 3'!J12=\"\",\"\",HLOOKUP('Afsnit 20 gr. 3'!$F$12,K1:L29,'Afsnit 20 gr. 3'!J12+3))","v":""}]
[null,null,{"$f":"IF('Afsnit 20 gr. 3'!K12=\"\",\"\",HLOOKUP('Afsnit 20 gr. 3'!$F$12,K1:L29,'Afsnit 20 gr. 3'!K12+3))","v":""}]
[null,null,{"$f":"IF('Afsnit 20 gr. 3'!L12=\"\",\"\",HLOOKUP('Afsnit 20 gr. 3'!$F$12,K1:L29,'Afsnit 20 gr. 3'!L12+3))","v":""}]
[null,null,{"$f":"IF('Afsnit 20 gr. 3'!M12=\"\",\"\",HLOOKUP('Afsnit 20 gr. 3'!$F$12,K1:L29,'Afsnit 20 gr. 3'!M12+3))","v":""}]
[null,null,{"$f":"IF('Afsnit 20 gr. 3'!N12=\"\",\"\",HLOOKUP('Afsnit 20 gr. 3'!$F$12,K1:L29,'Afsnit 20 gr. 3'!N12+3))","v":""}]
[null,null,{"$f":"IF('Afsnit 20 gr. 3'!O12=\"\",\"\",HLOOKUP('Afsnit 20 gr. 3'!$F$12,K1:L29,'Afsnit 20 gr. 3'!O12+3))","v":""}]
[null,null,{"$f":"IF('Afsnit 20 gr. 3'!P12=\"\",\"\",HLOOKUP('Afsnit 20 gr. 3'!$F$12,K1:L29,'Afsnit 20 gr. 3'!P12+3))","v":""}]
[null,null,{"$f":"IF('Afsnit 20 gr. 3'!Q12=\"\",\"\",HLOOKUP('Afsnit 20 gr. 3'!$F$12,K1:L29,'Afsnit 20 gr. 3'!Q12+3))","v":""}]
[null,null,{"$f":"IF('Afsnit 20 gr. 3'!R12=\"\",\"\",HLOOKUP('Afsnit 20 gr. 3'!$F$12,K1:L29,'Afsnit 20 gr. 3'!R12+3))","v":""}]
[null,null,{"$f":"IF('Afsnit 20 gr. 3'!S12=\"\",\"\",HLOOKUP('Afsnit 20 gr. 3'!$F$12,K1:L29,'Afsnit 20 gr. 3'!S12+3))","v":""}]
[null,null,{"$f":"IF('Afsnit 20 gr. 3'!T12=\"\",\"\",HLOOKUP('Afsnit 20 gr. 3'!$F$12,K1:L29,'Afsnit 20 gr. 3'!T12+3))","v":""}]
[null,null,{"$f":"IF('Afsnit 20 gr. 3'!U12=\"\",\"\",HLOOKUP('Afsnit 20 gr. 3'!$F$12,K1:L29,'Afsnit 20 gr. 3'!U12+3))","v":""}]
[null,null,{"$f":"IF('Afsnit 20 gr. 3'!V12=\"\",\"\",HLOOKUP('Afsnit 20 gr. 3'!$F$12,K1:L29,'Afsnit 20 gr. 3'!V12+3))","v":""}]
[null,null,{"$f":"IF('Afsnit 20 gr. 3'!W12=\"\",\"\",HLOOKUP('Afsnit 20 gr. 3'!$F$12,K1:L29,'Afsnit 20 gr. 3'!W12+3))","v":""}]
[null,null,{"$f":"SUM(C106:C120)","v":0}]
[]
[]
[]
[]
["Linie 8",null,{"$f":"IF('Afsnit 20 gr. 3'!I13=\"\",\"\",HLOOKUP('Afsnit 20 gr. 3'!$F$13,K1:L29,'Afsnit 20 gr. 3'!I13+3))","v":""}]
[null,null,{"$f":"IF('Afsnit 20 gr. 3'!J13=\"\",\"\",HLOOKUP('Afsnit 20 gr. 3'!$F$13,K1:L29,'Afsnit 20 gr. 3'!J13+3))","v":""}]
[null,null,{"$f":"IF('Afsnit 20 gr. 3'!K13=\"\",\"\",HLOOKUP('Afsnit 20 gr. 3'!$F$13,K1:L29,'Afsnit 20 gr. 3'!K13+3))","v":""}]
[null,null,{"$f":"IF('Afsnit 20 gr. 3'!L13=\"\",\"\",HLOOKUP('Afsnit 20 gr. 3'!$F$13,K1:L29,'Afsnit 20 gr. 3'!L13+3))","v":""}]
[null,null,{"$f":"IF('Afsnit 20 gr. 3'!M13=\"\",\"\",HLOOKUP('Afsnit 20 gr. 3'!$F$13,K1:L29,'Afsnit 20 gr. 3'!M13+3))","v":""}]
[null,null,{"$f":"IF('Afsnit 20 gr. 3'!N13=\"\",\"\",HLOOKUP('Afsnit 20 gr. 3'!$F$13,K1:L29,'Afsnit 20 gr. 3'!N13+3))","v":""}]
[null,null,{"$f":"IF('Afsnit 20 gr. 3'!O13=\"\",\"\",HLOOKUP('Afsnit 20 gr. 3'!$F$13,K1:L29,'Afsnit 20 gr. 3'!O13+3))","v":""}]
[null,null,{"$f":"IF('Afsnit 20 gr. 3'!P13=\"\",\"\",HLOOKUP('Afsnit 20 gr. 3'!$F$13,K1:L29,'Afsnit 20 gr. 3'!P13+3))","v":""}]
[null,null,{"$f":"IF('Afsnit 20 gr. 3'!Q13=\"\",\"\",HLOOKUP('Afsnit 20 gr. 3'!$F$13,K1:L29,'Afsnit 20 gr. 3'!Q13+3))","v":""}]
[null,null,{"$f":"IF('Afsnit 20 gr. 3'!R13=\"\",\"\",HLOOKUP('Afsnit 20 gr. 3'!$F$13,K1:L29,'Afsnit 20 gr. 3'!R13+3))","v":""}]
[null,null,{"$f":"IF('Afsnit 20 gr. 3'!S13=\"\",\"\",HLOOKUP('Afsnit 20 gr. 3'!$F$13,K1:L29,'Afsnit 20 gr. 3'!S13+3))","v":""}]
[null,null,{"$f":"IF('Afsnit 20 gr. 3'!T13=\"\",\"\",HLOOKUP('Afsnit 20 gr. 3'!$F$13,K1:L29,'Afsnit 20 gr. 3'!T13+3))","v":""}]
[null,null,{"$f":"IF('Afsnit 20 gr. 3'!U13=\"\",\"\",HLOOKUP('Afsnit 20 gr. 3'!$F$13,K1:L29,'Afsnit 20 gr. 3'!U13+3))","v":""}]
[null,null,{"$f":"IF('Afsnit 20 gr. 3'!V13=\"\",\"\",HLOOKUP('Afsnit 20 gr. 3'!$F$13,K1:L29,'Afsnit 20 gr. 3'!V13+3))","v":""}]
[null,null,{"$f":"IF('Afsnit 20 gr. 3'!W13=\"\",\"\",HLOOKUP('Afsnit 20 gr. 3'!$F$13,K1:L29,'Afsnit 20 gr. 3'!W13+3))","v":""}]
[null,null,{"$f":"SUM(C126:C140)","v":0}]
[]
[]
[]
[]
["Linie 9",null,{"$f":"IF('Afsnit 20 gr. 3'!I14=\"\",\"\",HLOOKUP('Afsnit 20 gr. 3'!$F$14,K1:L29,'Afsnit 20 gr. 3'!I14+3))","v":""}]
[null,null,{"$f":"IF('Afsnit 20 gr. 3'!J14=\"\",\"\",HLOOKUP('Afsnit 20 gr. 3'!$F$14,K1:L29,'Afsnit 20 gr. 3'!J14+3))","v":""}]
[null,null,{"$f":"IF('Afsnit 20 gr. 3'!K14=\"\",\"\",HLOOKUP('Afsnit 20 gr. 3'!$F$14,K1:L29,'Afsnit 20 gr. 3'!K14+3))","v":""}]
[null,null,{"$f":"IF('Afsnit 20 gr. 3'!L14=\"\",\"\",HLOOKUP('Afsnit 20 gr. 3'!$F$14,K1:L29,'Afsnit 20 gr. 3'!L14+3))","v":""}]
[null,null,{"$f":"IF('Afsnit 20 gr. 3'!M14=\"\",\"\",HLOOKUP('Afsnit 20 gr. 3'!$F$14,K1:L29,'Afsnit 20 gr. 3'!M14+3))","v":""}]
[null,null,{"$f":"IF('Afsnit 20 gr. 3'!N14=\"\",\"\",HLOOKUP('Afsnit 20 gr. 3'!$F$14,K1:L29,'Afsnit 20 gr. 3'!N14+3))","v":""}]
[null,null,{"$f":"IF('Afsnit 20 gr. 3'!O14=\"\",\"\",HLOOKUP('Afsnit 20 gr. 3'!$F$14,K1:L29,'Afsnit 20 gr. 3'!O14+3))","v":""}]
[null,null,{"$f":"IF('Afsnit 20 gr. 3'!P14=\"\",\"\",HLOOKUP('Afsnit 20 gr. 3'!$F$14,K1:L29,'Afsnit 20 gr. 3'!P14+3))","v":""}]
[null,null,{"$f":"IF('Afsnit 20 gr. 3'!Q14=\"\",\"\",HLOOKUP('Afsnit 20 gr. 3'!$F$14,K1:L29,'Afsnit 20 gr. 3'!Q14+3))","v":""}]
[null,null,{"$f":"IF('Afsnit 20 gr. 3'!R14=\"\",\"\",HLOOKUP('Afsnit 20 gr. 3'!$F$14,K1:L29,'Afsnit 20 gr. 3'!R14+3))","v":""}]
[null,null,{"$f":"IF('Afsnit 20 gr. 3'!S14=\"\",\"\",HLOOKUP('Afsnit 20 gr. 3'!$F$14,K1:L29,'Afsnit 20 gr. 3'!S14+3))","v":""}]
[null,null,{"$f":"IF('Afsnit 20 gr. 3'!T14=\"\",\"\",HLOOKUP('Afsnit 20 gr. 3'!$F$14,K1:L29,'Afsnit 20 gr. 3'!T14+3))","v":""}]
[null,null,{"$f":"IF('Afsnit 20 gr. 3'!U14=\"\",\"\",HLOOKUP('Afsnit 20 gr. 3'!$F$14,K1:L29,'Afsnit 20 gr. 3'!U14+3))","v":""}]
[null,null,{"$f":"IF('Afsnit 20 gr. 3'!V14=\"\",\"\",HLOOKUP('Afsnit 20 gr. 3'!$F$14,K1:L29,'Afsnit 20 gr. 3'!V14+3))","v":""}]
[null,null,{"$f":"IF('Afsnit 20 gr. 3'!W14=\"\",\"\",HLOOKUP('Afsnit 20 gr. 3'!$F$14,K1:L29,'Afsnit 20 gr. 3'!W14+3))","v":""}]
[null,null,{"$f":"SUM(C146:C160)","v":0}]

{"sheet":"Skurbog","index":10,"n_rows":83,"n_cols":13,"rows_kept":83,"cut":false,"hidden":false,"merged":[[6,1,6,10],[64,8,64,11],[66,1,66,8],[67,1,67,2],[67,3,67,4],[54,3,54,8],[55,3,55,8],[57,7,57,9],[58,7,58,9],[13,1,13,10],[14,1,14,10],[7,1,7,10],[8,1,8,10],[10,1,10,10],[11,1,11,10],[22,1,22,10],[68,11,68,12],[69,11,69,12],[70,11,70,12],[71,11,71,12],[0,0,0,1],[1,0,1,1],[2,0,2,1],[3,0,3,1],[0,2,0,3],[4,1,4,8],[9,1,9,10],[15,1,15,10],[16,1,16,10],[17,1,17,10],[5,1,5,10],[12,1,12,10],[23,1,23,10],[24,1,24,10],[54,9,54,10],[55,9,55,10],[27,9,27,10],[50,9,50,10],[51,9,51,10],[53,9,53,10],[26,1,26,12],[50,3,50,8],[52,3,52,8],[53,3,53,8],[52,9,52,10],[80,0,80,2],[56,9,56,10],[56,3,56,8],[75,6,75,7],[76,1,76,12],[72,11,72,12],[75,11,75,12],[67,6,67,7],[68,6,68,7],[69,6,69,7],[70,6,70,7],[74,6,74,7],[74,11,74,12],[71,6,71,7],[72,6,72,7],[67,11,67,12],[18,1,18,10],[1,9,1,11],[2,9,2,11],[73,11,73,12],[59,7,59,9],[61,7,61,9],[62,7,62,9],[27,1,27,2],[27,3,27,4],[27,5,27,6],[27,7,27,8],[19,1,19,10],[20,1,20,10],[21,1,21,10],[27,11,27,12],[51,3,51,8]]}
["Sag nr:"]
["Adresse"]
["Projektleder",null,null,null,null,null,null,null,null,"Dato og underskrift for modtagelse"]
[]
["Dato:","Timelønsspecifikation: (kun en linje pr. dag)",null,null,null,null,null,null,null,null,null,"Akk. timer","T. timer"]
[{"$f":"A30","v":"00:00:00"},null,null,null,null,null,null,null,null,null,null,{"$f":"SUM(B30,D30,F30,H30)","v":0},{"$f":"SUM(C30,K30,M30,E30,G30,I30)","v":0}]
["00:00:00",null,null,null,null,null,null,null,null,null,null,{"$f":"SUM(B31,D31,F31,H31)","v":0},{"$f":"SUM(C31,K31,M31,E31,G31,I31)","v":0}]
["00:00:00",null,null,null,null,null,null,null,null,null,null,{"$f":"SUM(B32,D32,F32,H32)","v":0},0]
["00:00:00",null,null,null,null,null,null,null,null,null,null,0,0]
["00:00:00",null,null,null,null,null,null,null,null,null,null,0,0]
["00:00:00",null,null,null,null,null,null,null,null,null,null,0,0]
["00:00:00",null,null,null,null,null,null,null,null,null,null,0,0]
["00:00:00",null,null,null,null,null,null,null,null,null,null,0,0]
["00:00:00",null,null,null,null,null,null,null,null,null,null,0,0]
[{"$f":"A39","v":"00:00:00"},null,null,null,null,null,null,null,null,null,null,0,0]
["00:00:00",null,null,null,null,null,null,null,null,null,null,0,0]
["00:00:00",null,null,null,null,null,null,null,null,null,null,0,0]
["00:00:00",null,null,null,null,null,null,null,null,null,null,0,0]
["00:00:00",null,null,null,null,null,null,null,null,null,null,0,0]
["00:00:00",null,null,null,null,null,null,null,null,null,null,0,0]
["00:00:00",null,null,null,null,null,null,null,null,null,null,0,0]
["00:00:00",null,null,null,null,null,null,null,null,null,null,0,0]
["00:00:00",null,null,null,null,null,null,null,null,null,null,0,0]
["00:00:00",null,null,null,null,null,null,null,null,null,null,0,0]
["00:00:00",null,null,null,null,null,null,null,null,null,null,0,0]
[null,null,null,null,null,null,null,null,null,null,null,{"$f":"SUM(L6:L25)","v":0},{"$f":"SUM(M6:M25)","v":0}]
["Startdato:","Erstat selv \"montør #\" med navn på deltagere i akkord"]
[null,"Montør 1",null,"Montør 2",null,"Montør 3",null,"Montør 4",null,"Lærling 1",null,"Lærling 2"]
["Dato:","Akkord","Timeløn","Akkord","Timeløn","Akkord","Timeløn","Akkord","Timeløn","Akkord","Timeløn","Akkord","Timeløn"]
[]
[]
[]
[]
[]
[]
[]
[]
[]
[]
[]
[]
[]
[]
[]
[]
[]
[]
[]
[]
["total",{"$f":"SUM(B30:B49)","v":0},0,0,0,0,0,{"$f":"SUM(H30:H49)","v":0},{"$f":"SUM(I30:I49)","v":0},0,0,0,0]
[null,{"$f":"SUM(B50,D50,F50,H50,J50,L50)","v":0},null,"Fra \"vådrums\" listen: (husk at printe beregning separat)",null,null,null,null,null,null,null,null,{"$f":"'Gl. forenklet vådrum'!X31","v":0}]
[null,{"$f":"SUM(M51,M52,M53,M54,M55,M56,M57)","v":0},null,"Fra \"Afsnit 20 gr. 1 \"Forenklet\" listen: (husk at printe beregning separat)",null,null,null,null,null,null,null,null,{"$f":"'Afsnit 20 gr. 1'!Z41","v":0}]
[null,null,null,"Fra \"Afsnit 20 gr. 2 \"Vådrum\" (husk at printe beregning separat)",null,null,null,null,null,null,null,null,{"$f":"'Afsnit 20 gr. 2'!AB84","v":0}]
[null,null,null,"Fra Afsnit 20 gr. 3, \"Trappe\" listen: (husk at printe beregning separat)",null,null,null,null,null,null,null,null,{"$f":"'Afsnit 20 gr. 3'!Y30","v":0}]
[null,null,null,"Beløb fra andre bilagsark  Husk at vedlægge beregning (Tast selv beløb)",null,null,null,null,null,null,null,null,{"$f":"L55","v":0}]
[null,null,null,"Beløb fra andre bilagsark  Husk at vedlægge beregning (Tast selv beløb)",null,null,null,null,null,null,null,null,{"$f":"L56","v":0}]
[null,null,null,"Beløb fra andre bilagsark  Husk at vedlægge beregning (Tast selv beløb)",null,null,null,null,null,null,null,null,{"$f":"L57","v":0}]
[null,null,null,"Akkorderings sats for ikke prissat arbejde, pr. time",null,null,null,"Akkordering sats",null,null,null,null,{"$f":"SUM(C50,E50,G50,I50,K50,M50)*K58","v":0}]
[null,null,{"$f":"J28","v":"Lærling 1"},"Fratræk lærling deltagelse i akkord",null,null,null,"Tast lærlingesatsen",null,null,null,null,{"$f":"SUM(J50,K50)*L59","v":0}]
[null,null,{"$f":"J28","v":"Lærling 1"},"Fratræk evt. Bonus til lærling fra Akkord ",null,null,null,"Tast bonus pr. time",null,null,null,null,{"$f":"L60*(J50+K50)","v":0}]
[]
[null,null,{"$f":"L28","v":"Lærling 2"},"Fratræk lærling deltagelse i akkord",null,null,null,"Tast lærlingesatsen",null,null,null,null,{"$f":"SUM(L50,M50)*L62","v":0}]
[null,null,{"$f":"L28","v":"Lærling 2"},"Fratræk evt. Bonus til lærling fra Akkord ",null,null,null,"Tast bonus pr. time",null,null,null,null,{"$f":"L63*(L50+M50)","v":0}]
[]
[null,null,null,null,null,null,null,null,"Total akkord:",null,null,null,{"$f":"SUM(M51:M58)-SUM(M59:M64)","v":0}]
[]
[null,"Fordeling af akkordsum:"]
["Montør:",null,null,"Akk. forskud:",null,"Overskud:","Total akkord",null,"aconto",null,null,"Til Udbetaling"]
[null,null,null,"Timer:","Beløb:","Beløb:","Beløb:",null,"Udbet."]
[{"$f":"B28","v":"Montør 1"},null,null,{"$f":"B50+C50","v":0},{"$f":"SUM(B50,C50)*K58","v":0},{"$f":"D81*(D70)-(E70)","v":{"$error":"#DIV/0!"}},{"$f":"D81*(D70)","v":{"$error":"#DIV/0!"}},null,null,null,null,{"$f":"IFERROR(G70-I70,0)","v":0}]
[{"$f":"D28","v":"Montør 2"},null,null,{"$f":"D50+E50","v":0},{"$f":"SUM(D50,E50)*K58","v":0},{"$f":"D81*(D71)-(E71)","v":{"$error":"#DIV/0!"}},{"$f":"D81*(B71+D71)","v":{"$error":"#DIV/0!"}},null,null,null,null,{"$f":"IFERROR(G71-I71,0)","v":0}]
[{"$f":"F28","v":"Montør 3"},null,null,{"$f":"F50+G50","v":0},{"$f":"SUM(F50,G50)*K58","v":0},{"$f":"D81*(D72)-(E72)","v":{"$error":"#DIV/0!"}},{"$f":"D81*(B72+D72)","v":{"$error":"#DIV/0!"}},null,null,null,null,0]
[{"$f":"H28","v":"Montør 4"},null,null,{"$f":"H50+I50","v":0},{"$f":"SUM(H50,I50)*K58","v":0},{"$f":"D81*(D73)-(E73)","v":{"$error":"#DIV/0!"}},{"$f":"D81*(B73+D73)","v":{"$error":"#DIV/0!"}},null,null,null,null,0]
["Lærling:",null,null,null,null,"Bonus"]
[{"$f":"J28","v":"Lærling 1"},null,null,{"$f":"J50+K50","v":0},{"$f":"L59*J50","v":0},{"$f":"M60","v":0},{"$f":"C75+E75+F75","v":0},null,null,null,null,{"$f":"IFERROR(G75-I75,0)","v":0}]
[{"$f":"L28","v":"Lærling 2"},null,null,{"$f":"L50+M50","v":0},{"$f":"L62*L50","v":0},{"$f":"M63","v":0},{"$f":"C76+E76+F76","v":0},null,null,null,null,0]
[]
["Til Akkordholderens orientering:"]
["Gns. Akk  (Før lærlingetræk)",null,null,{"$f":"SUM(M51:M58)/SUM(B50,C50,E50,G50,I50,D50,F50,H50)","v":{"$error":"#DIV/0!"}}]
[]
["Gns. Akk. inkl. Timeløn efter lærlingetræk",null,null,{"$f":"(M65)/SUM(B50:I50)","v":{"$error":"#DIV/0!"}}]
["Akk. Timer",{"$f":"SUM(B50,D50,F50,H50,J50,L50)","v":0}]
["Timelønstimer",{"$f":"SUM(C50,E50,G50,I50,K50,M50)","v":0}]

{"sheet":"Montør 1","index":11,"n_rows":71,"n_cols":11,"rows_kept":71,"cut":false,"hidden":false,"merged":[[1,10,1,11],[0,9,0,11],[3,2,3,7]]}
[null,null,null,null,null,null,null,null,null,"ARBEJDSSEDDEL "]
[null,null,null,null,null,null,null,null,null,"NR.",{"$f":"Skurbog!C1","v":0}]
[]
[null,"Arbejdssted:",{"$f":"Skurbog!C2","v":0},null,null,null,null,null,"Udføres:"]
[]
[]
[null,"Kontaktperson:",null,null,null,"Tlf:"]
[null,"Fakturaadr:"]
[null,null,null,null,null,null,null,null,"Udstedt dato:",null,{"$f":"TODAY()","v":"2025-07-14"}]
[]
[null,"Att:",null,null,null,"Mærke/Rekv.",null,null,"Sagsansvarlig",null,{"$f":"Skurbog!C3","v":0}]
[null,"Udleveret","Enhed","Art",null,"Retur","Brugt","Arbejdets beskrivelse:"]
[null,null,null,"Primer"]
[]
[]
[]
[null,null,null,"Spartelmasse"]
[]
[]
[]
[]
[null,null,null,"Underlag"]
[]
[]
[]
[]
[null,null,null,"Lim"]
[]
[]
[]
[]
[null,null,null,"Lister"]
[]
[]
[]
[]
[null,null,null,"Vinylprofiler"]
[]
[]
[]
[]
[null,null,null,"Belægning"]
[]
[]
[]
[null,null,null,null,null,null,null,"Affald",null,null,"Stribber"]
[null,null,null,null,null,null,null,"Bortkørsel",null,null,"Special"]
[]
[null,"Dato","Montør","Løn nr.","Akkord","Timeløn","sats","Overtid","Km","bemærkning."]
[null,{"$f":"Skurbog!A30","v":"00:00:00"},{"$f":"Skurbog!A70","v":"Montør 1"},null,{"$f":"Skurbog!B30","v":0},{"$f":"Skurbog!C30","v":0}]
[null,{"$f":"Skurbog!A31","v":"00:00:00"},null,null,{"$f":"Skurbog!B31","v":0},{"$f":"Skurbog!C31","v":0}]
[null,{"$f":"Skurbog!A32","v":"00:00:00"},null,null,{"$f":"Skurbog!B32","v":0},{"$f":"Skurbog!C32","v":0}]
[null,{"$f":"Skurbog!A33","v":"00:00:00"},null,null,{"$f":"Skurbog!B33","v":0},{"$f":"Skurbog!C33","v":0}]
[null,{"$f":"Skurbog!A34","v":"00:00:00"},null,null,{"$f":"Skurbog!B34","v":0},{"$f":"Skurbog!C34","v":0}]
[null,{"$f":"Skurbog!A35","v":"00:00:00"},null,null,{"$f":"Skurbog!B35","v":0},{"$f":"Skurbog!C35","v":0}]
[null,{"$f":"Skurbog!A36","v":"00:00:00"},null,null,{"$f":"Skurbog!B36","v":0},{"$f":"Skurbog!C36","v":0}]
[null,{"$f":"Skurbog!A37","v":"00:00:00"},null,null,{"$f":"Skurbog!B37","v":0},{"$f":"Skurbog!C37","v":0}]
[null,{"$f":"Skurbog!A38","v":"00:00:00"},null,null,{"$f":"Skurbog!B38","v":0},{"$f":"Skurbog!C38","v":0}]
[null,{"$f":"Skurbog!A39","v":"00:00:00"},null,null,{"$f":"Skurbog!B39","v":0},{"$f":"Skurbog!C39","v":0}]
[null,{"$f":"Skurbog!A40","v":"00:00:00"},null,null,{"$f":"Skurbog!B40","v":0},{"$f":"Skurbog!C40","v":0}]
[null,{"$f":"Skurbog!A41","v":"00:00:00"},null,null,{"$f":"Skurbog!B41","v":0},{"$f":"Skurbog!C41","v":0}]
[null,{"$f":"Skurbog!A42","v":"00:00:00"},null,null,{"$f":"Skurbog!B42","v":0},{"$f":"Skurbog!C42","v":0}]
[null,{"$f":"Skurbog!A43","v":"00:00:00"},null,null,{"$f":"Skurbog!B43","v":0},{"$f":"Skurbog!C43","v":0}]
[null,{"$f":"Skurbog!A44","v":"00:00:00"},null,null,{"$f":"Skurbog!B44","v":0},{"$f":"Skurbog!C44","v":0}]
[null,{"$f":"Skurbog!A45","v":"00:00:00"},null,null,{"$f":"Skurbog!B45","v":0},{"$f":"Skurbog!C45","v":0}]
[null,{"$f":"Skurbog!A46","v":"00:00:00"},null,null,{"$f":"Skurbog!B46","v":0},{"$f":"Skurbog!C46","v":0}]
[null,{"$f":"Skurbog!A47","v":"00:00:00"},null,null,{"$f":"Skurbog!B47","v":0},{"$f":"Skurbog!C47","v":0}]
[null,{"$f":"Skurbog!A48","v":"00:00:00"},null,null,{"$f":"Skurbog!B48","v":0},{"$f":"Skurbog!C48","v":0}]
[null,{"$f":"Skurbog!A49","v":"00:00:00"},null,null,{"$f":"Skurbog!B49","v":0},{"$f":"Skurbog!C49","v":0}]
[null,null,null,null,{"$f":"SUM(E50:E69)","v":0},{"$f":"SUM(F50:F69)","v":0},null,{"$f":"SUM(H50:H69)","v":0},{"$f":"SUM(I50:I69)","v":0}]
[null,null,null,null,null,null,null,null,null,null,"Se akkord vedlagt"]

{"sheet":"Gl. forenklet vådrum","index":12,"n_rows":49,"n_cols":25,"rows_kept":49,"cut":false,"hidden":true,"merged":[[29,4,29,8],[24,4,24,8],[25,4,25,8],[16,1,16,2],[17,1,17,2],[18,1,18,2],[19,1,19,2],[20,1,20,2],[22,1,22,2],[23,1,23,2],[28,1,28,2],[29,1,29,2],[24,1,24,2],[25,1,25,2],[26,1,26,2],[27,1,27,2],[34,11,34,24],[35,11,35,24],[36,11,36,24],[37,11,37,24],[21,1,21,2],[27,12,27,22],[28,12,28,22],[34,2,34,9],[22,13,22,22],[29,12,29,22],[30,12,30,22],[32,1,32,24],[30,23,30,24],[23,4,23,8],[22,4,22,8],[28,4,28,8],[36,2,36,9],[37,2,37,9],[38,2,38,9],[35,2,35,9],[48,11,48,24],[41,11,41,25],[42,11,42,24],[43,11,43,24],[44,11,44,24],[45,11,45,24],[39,11,39,24],[40,11,40,24],[46,11,46,24],[47,11,47,24],[38,11,38,24],[0,8,0,23],[16,12,16,22],[25,13,25,23],[24,13,24,23],[23,13,23,23],[17,13,17,23],[18,13,18,23],[19,13,19,23],[21,13,21,23],[3,8,3,10],[16,4,16,8],[17,4,17,8],[18,4,18,8],[19,4,19,8],[20,4,20,8],[21,4,21,8],[26,4,26,8],[27,4,27,8],[1,8,1,23],[15,12,15,22],[3,12,3,16],[3,18,3,22],[4,12,4,16],[4,18,4,22],[20,13,20,22],[3,4,3,6]]}
[null,null,null,null,null,null,null,null,"Byggesag (AS)"]
[null,"VÅDRUM",null,null,null,null,null,null,{"$f":"Skurbog!C1","v":0}]
[]
[null,"Rum nr",null,"Antal","Vægbeklædning",null,null,null,"Gulvbelægning",null,null,null,"Sats gulv",null,null,null,null,null,"Sats væg"]
[null,"(Valgfrit)",null,"rum","Højde","Bredde","Væg M²",null,"Længde","Bredde","Gulv M²",null,"1-5",null,null,null,null,null,"6-10",null,null,null,null,"Pr. M²","Total"]
[null,null,null,null,null,null,{"$f":"E6*F6","v":0},null,null,null,{"$f":"I6*J6","v":0},null,null,null,null,null,null,null,null,null,null,null,null,{"$f":"beregn_vådrum!C24","v":0},{"$f":"D6*SUM(beregn_vådrum!C8:C12)*K6+D6*SUM(beregn_vådrum!C13:C17)*G6","v":0}]
[null,null,null,null,null,null,0,null,null,null,0,null,null,null,null,null,null,null,null,null,null,null,null,{"$f":"beregn_vådrum!C44","v":0},{"$f":"D7*SUM(beregn_vådrum!C28:C32)*K7+D7*SUM(beregn_vådrum!C33:C38)*G7","v":0}]
[null,null,null,null,null,null,0,null,null,null,0,null,null,null,null,null,null,null,null,null,null,null,null,{"$f":"beregn_vådrum!C64","v":0},{"$f":"D8*SUM(beregn_vådrum!C48:C52)*K8+D8*SUM(beregn_vådrum!C53:C57)*G8","v":0}]
[null,null,null,null,null,null,0,null,null,null,0,null,null,null,null,null,null,null,null,null,null,null,null,{"$f":"beregn_vådrum!C84","v":0},{"$f":"D9*SUM(beregn_vådrum!C68:C72)*K9+D9*SUM(beregn_vådrum!C73:C77)*G9","v":0}]
[null,null,null,null,null,null,0,null,null,null,0,null,null,null,null,null,null,null,null,null,null,null,null,{"$f":"beregn_vådrum!C104","v":0},{"$f":"D10*SUM(beregn_vådrum!C88:C92)*K10+D10*SUM(beregn_vådrum!C93:C97)*G10","v":0}]
[null,null,null,null,null,null,0,null,null,null,0,null,null,null,null,null,null,null,null,null,null,null,null,{"$f":"beregn_vådrum!C124","v":0},{"$f":"D11*SUM(beregn_vådrum!C108:C112)*K11+D11*SUM(beregn_vådrum!C113:C117)*G11","v":0}]
[null,null,null,null,null,null,0,null,null,null,0,null,null,null,null,null,null,null,null,null,null,null,null,{"$f":"beregn_vådrum!C144","v":0},{"$f":"D12*SUM(beregn_vådrum!C128:C132)*K12+D12*SUM(beregn_vådrum!C133:C137)*G12","v":0}]
[null,null,null,null,null,null,0,null,null,null,0,null,null,null,null,null,null,null,null,null,null,null,null,{"$f":"beregn_vådrum!C164","v":0},{"$f":"D13*SUM(beregn_vådrum!C148:C152)*K13+D13*SUM(beregn_vådrum!C153:C157)*G13","v":0}]
[null,null,null,null,null,null,0,null,null,null,0,null,null,null,null,null,null,null,null,null,null,null,null,{"$f":"beregn_vådrum!C184","v":0},{"$f":"D14*SUM(beregn_vådrum!C168:C172)*K14+D14*SUM(beregn_vådrum!C173:C177)*G14","v":0}]
[null,null,null,null,null,null,0,null,null,null,0,null,null,null,null,null,null,null,null,null,null,null,null,{"$f":"beregn_vådrum!C204","v":0},{"$f":"D15*SUM(beregn_vådrum!C188:C192)*K15+D15*SUM(beregn_vådrum!C193:C197)*G15","v":0}]
[null,null,null,null,null,null,null,null,null,null,null,null,null,null,null,null,null,null,null,null,null,null,null,null,{"$f":"SUM(Y6:Y15)","v":0}]
[null,null,null,null,null,null,null,null,null,null,"antal",null,"Tillægspriser (sats 11-20)"]
[null,null,null,null,null,null,null,null,null,null,null,null,11,"Ved 2 rum 10%",null,null,null,null,null,null,null,null,null,null,{"$f":"SUMIF(K18,1,Y16)*0.1","v":0}]
[null,null,null,null,null,null,null,null,null,null,null,null,12,"Ved 1 rum 15%",null,null,null,null,null,null,null,null,null,null,{"$f":"SUMIF(K19,1,Y16)*0.15","v":0}]
[null,null,null,null,null,null,null,null,null,null,null,null,13,"Skridsikker vinyl 10%",null,null,null,null,null,null,null,null,null,null,{"$f":"SUMIF(K20,\"<>\",Y16)*0.1","v":0}]
[null,null,null,null,null,null,null,null,null,null,null,null,14,"montering af opkant pr. m.",null,null,null,null,null,null,null,null,null,122.68,{"$f":"K21*X21","v":0}]
[null,null,null,null,null,null,null,null,null,null,null,null,15,"Opkant over 1m =2% pr. 10 cm",null,null,null,null,null,null,null,null,null,null,{"$f":"K21*X21/100*2","v":0}]
[null,null,null,null,null,null,null,null,null,null,null,null,16,"Opkant ved udvendigt hjørne",null,null,null,null,null,null,null,null,null,71.22,{"$f":"K23*X23","v":0}]
[null,null,null,null,null,null,null,null,null,null,null,null,17,"Alle priser er baseret på 3 rum"]
[null,null,null,null,null,null,null,null,null,null,null,null,18,"pkt. 11 og 12 betales kun u. 15m2"]
[null,null,null,null,null,null,null,null,null,null,null,null,19,"Opkant over 2 m akkorderes"]
[null,null,null,null,null,null,null,null,null,null,null,null,20,"spartling for fald o. 10m2 akkorderes"]
[null,null,null,null,null,null,null,null,null,null,null,null,"Total Akkord",null,null,null,null,null,null,null,null,null,null,null,{"$f":"SUM(Y16:Y27)*1","v":0}]
[null,null,null,null,null,null,null,null,null,null,null,null,"Dyrtidsregulering fra 2006 til 1/3 2020",null,null,null,null,null,null,null,null,null,null,33.76,{"$f":"(Y28/100)*X29","v":0}]
[]
[null,null,null,null,null,null,null,null,null,null,null,null,"TOTAL AKKORD",null,null,null,null,null,null,null,null,null,null,{"$f":"SUM(Y28:Y30)","v":0}]
[]
[null,"Forklaring af satser:"]
[null,null,"Gulve:",null,null,null,null,null,null,null,null,"Vægge:"]
[null,1,"Klargøring pr. M²",null,null,null,null,null,null,null,6,"Klargøring pr. M² "]
[null,2,"Spartling pr.M²",null,null,null,null,null,null,null,7,"Fuldspartling pr.M²"]
[null,3,"Spartling for fald pr.M²",null,null,null,null,null,null,null,8,"Klæbning af vægvinyl incl. svejsning pr.M²"]
[null,4,"Træfiberplader pr.M²",null,null,null,null,null,null,null,9,"Klæbning af vægvinyl med overlapning på hulkel pr.M²"]
[null,5,"Vinylbeklædning incl. Hulkel og svejsning pr.M²",null,null,null,null,null,null,null,10,"Tillæg 0ver 2,25 m fra overkant hulkel pr. påbegyndt 10 cm tillæges pr.M²"]
[null,null,null,null,null,null,null,null,null,null,11,"Ved 2 rum tillægges pkt. 1 t.o.m 10 10%"]
[null,null,null,null,null,null,null,null,null,null,12,"Ved 1 rum tillægges pkt. 1 t.o.m 10 15%"]
[null,null,null,null,null,null,null,null,null,null,13,"Tillæg for skridsikker vinyl med karborundumsten, tillægget beregnet af pkt.5 10%"]
[null,null,null,null,null,null,null,null,null,null,14,"Tillæg for montering af opkant,pr. påbegyndt m. Kr. 115,42"]
[null,null,null,null,null,null,null,null,null,null,15,"Tillæg for opkant over 1,00m pr. påbegyndt cd, t.o.m 2 m. 2%"]
[null,null,null,null,null,null,null,null,null,null,16,"Tillæg for opkant ved uadgående hjørne Kr. 71,22"]
[null,null,null,null,null,null,null,null,null,null,17,"Alle priser er baseret på serier af 3 rum"]
[null,null,null,null,null,null,null,null,null,null,18,"Tillægget i pkt. 11 og 12 betales kun for rum under 15 M² gulv areal"]
[null,null,null,null,null,null,null,null,null,null,19,"opkant over 2 m. akkorderes"]
[null,null,null,null,null,null,null,null,null,null,20,"Spartling for fald i rum over 10 M² akkorderes"]

{"sheet":"NY vådrum","index":13,"n_rows":58,"n_cols":5,"rows_kept":58,"cut":false,"hidden":true,"merged":[[5,0,5,4],[15,0,15,4],[0,0,0,4],[36,0,36,4]]}
["Vægspartling. Afsnit 20"]
["Pkt.","Antal","Udført med færdigrørte spartelmasser"]
[1,null,"Til og med 50 m2., pr. m2.",8.32,{"$f":"B3*D3","v":0}]
[2,null,"Over 50 m2., pr. m2.",6.04,{"$f":"B4*D4","v":0}]
[3,null,"Afpudsning med sandpapir",0.3,{"$f":"B5*(D3*0.3)","v":0}]
["Pålægning af vinyl på badeværelsesgulve. Afsnit 20"]
["Pkt.","Antal","Vinyl på gulv","Pr. enhed","Pris"]
[4,null,"Grundpris enkelklæbning pr. m2",23.88,{"$f":"B8*D8","v":0}]
[5,null,"Ved kontaktklæbning tillægges grundprisen",0.35,{"$f":"(D8*0.35)*B9","v":0}]
[28,null,"for rum under 4 m2 gulvareal tillægges 50%",0.5,{"$f":"(D8*0.5)*B10","v":0}]
[6,null,"Omkredstillæg pr. m.",2.56,{"$f":"B11*D11","v":0}]
[7,null,"Hulkehl, enkelklæbning pr. m. og pr. hjørne",5.13,{"$f":"B12*D12","v":0}]
[8,null,"Hulkehl, Kontaktklæbning pr. m. og pr. hjørne",0.35,{"$f":"(D12*0.35)*B13","v":0}]
[9,null,"Hjørner at svejse med tråd eller lignende pr. stk.",10.17,{"$f":"B14*D14","v":0}]
[10,null,"Udvendigt hjørne med 2 svejsninger",20.38,{"$f":"B15*D15","v":0}]
["Opsætning af vægbeklædning i badeværelser. Afsnit 20"]
["Pkt.","Antal","Vinyl på væg"]
[11,null,"Opsætning med enkeltklæbning, pr. m2.",18.55,{"$f":"B18*D18","v":0}]
[12,null,"Opsætning med kontaktklæbning, pr. m2.",25.04]
[13,null,"Omkredstillæg pr. m.",2.56,{"$f":"B20*D20","v":0}]
[14,null,"Samlinger på væg, pr. l. m.",3.22,{"$f":"B21*D21","v":0}]
[15,null,"Hjørner ud over 4 pr. væg pr. stk.",2.56,{"$f":"B22*D22","v":0}]
[null,"Antal","Tillægspriser til vinyl på gulv og væg"]
[16,null,"Tæt tilskæring, pr. m.",2.56,{"$f":"B24*D24","v":0}]
[17,null,"Rør uden tæt tilskæring indtil 30 mm i diameter, pr. stk.",1.84,0]
[18,null,"Rør med tæt tilskæring indtil 30 mm i diameter, pr. stk.",3.06,0]
[19,null,"Rør uden tæt tilskæring indtil 30 - 100 mm i diameter, pr. stk.",3.56,0]
[20,null,"Rør med tæt tilskæring indtil 30 - 100 mm i diameter, pr. stk.",5.6,0]
[21,null,"Udskæringer for lem, pr. stk.",22.93,0]
[22,null,"Gene for vandrette og lodrette rør i grupper"]
[null,null,"Indtil 3 stk. og placeret mindst 5 cm fra væg, pr. m.",10.17,{"$f":"B31*D31","v":0}]
[23,null,"Færdigbehandlet overkant pr. m.",3.06,0]
[24,null,"Tilskæring, opvarmning og bøjning i afløb pr. stk.",15.29,0]
[25,null,"Rør, når matrialet danner krave, pr. stk.",15.29,0]
[26,null,"Manchet svejset omkring rør, pr. stk.",25.44,0]
[27,null,"Påsætning af skilleliste af plast v/bruser, pr. stk.",25.44,0]
["Trådsvejsning på gulve og vægge. Afsnit 20"]
["Pkt.","Antal","Trådsvejsning på gulv og vægge."]
[30,null,"2 t.o.m. 5 m, pr. m.",13.14,{"$f":"B39*D39","v":0}]
[31,null,"5 t.o.m. 10 m, pr. m.",10.83,{"$f":"B40*D40","v":0}]
[32,null,"10 t.o.m. 25 m, pr. m.",8.11,0]
[33,null,"25 t.o.m. 50 m, pr. m.",7.68,0]
[34,null,"50 t.o.m. 75 m, pr. m.",7.25,0]
[35,null,"75 t.o.m. 100 m, pr. m.",6.81,0]
[36,null,"Over 100 m, pr. m.",6.13,0]
[null,null,"Tillægspriser til trådsvejsning"]
[37,null,"Endeafslutning ved svejsning af hver tråd, pr. stk.",1.79,{"$f":"B47*D47","v":0}]
[38,null,"Endeafslutning ved fræsning af hver tråd, pr. stk.",0.93,{"$f":"B48*D48","v":0}]
[39,null,"Begyndelse ved fræsning af hver række, pr. stk.",0.93,0]
[40,null,"Fodfrit fremspring svejsning, pr. m.",5.45,0]
[41,null,"Fodfrit fremspring fræsning, pr. m.",2.71,0]
[42,null,"Begyndelse og afslutning v/hulkehl, svejsning, pr. stk.",4.53,0]
[43,null,"Begyndelse og afslutning v/hulkehl, fræsning, pr. stk.",4.53,0]
[44,null,"Hvor fræsning er foretaget,fradrages grundprisen pr. m.",2.71,0]
[45,null,"Fræsning og svejsning på vægge betales med gulvpris, tillægges",0.25,{"$f":"B55*(D39*0.25)","v":0}]
[29,null," % Serietillæg for antal badeværelser 5, 10 eller 20%",null,{"$f":"SUM(E2:E55)/100*B56","v":0}]
[null,null,"Dyrtidstillæg","3%",{"$f":"SUM(E3:E56)*0.03","v":0}]
[null,null,"Sammentælling",null,{"$f":"SUM(E2:E57)","v":0}]

{"sheet":"beregn_vådrum","index":14,"n_rows":204,"n_cols":68,"rows_kept":204,"cut":false,"hidden":true,"merged":[]}
[null,null,null,null,null,1,2,3,4,5,6,7,8,9,10,11,12,13,14,15,16,17,18,19,20,21,22,23,24,25,26,27,28,29,30,31]
[null,null,null,null,null,0.01,2.1,2.6,3.1,3.6,4.0999999999999996,4.5999999999999996,5.0999999999999996,5.6,6.1,6.6,7.1,7.6,8.1,8.6,9.1,9.6,10.1,10.6,11.1,11.6,12.1,12.6,13.1,13.6,14.1,14.6,15.1,30.1,50.1,100.1]
[null,null,null,null,"pkt."]
[null,null,null,null,1,19.34,17.09,14.82,14.82,13.06,12.17,11.29,10.84,10.38,9.93,9.48,9.0299999999999994,8.57,8.48,8.39,8.3000000000000007,8.1999999999999993,8.11,8.02,7.93,7.83,7.74,7.74,7.74,7.74,7.74,7.74,7.09,6.45,6.12,5.81]
[null,null,"Værdi","(findes ved opslag i skemaet)",2,35.49,31.47,27.45,25.82,24.2,22.59,20.96,20.16,19.37,18.57,17.77,16.98,16.18,15.99,15.78,15.57,15.38,15.17,14.98,14.77,14.57,14.37,14.37,14.37,14.37,14.37,14.37,12.77,11.32,10.45,9.82]
["m2",null,null,null,3,185.15,157.44999999999999,129.72999999999999,121.77,113.79,105.81,97.84,92.96,88.08,83.2,78.31,73.430000000000007,68.55,68.55,68.55,68.55,68.55,68.55,68.55,68.55,68.55,68.55,68.55,68.55,68.55,68.55,68.55,68.55,68.55,68.55,68.55]
[null,null,null,null,4,66.930000000000007,59.56,52.19,48.64,45.1,41.55,38.01,36.47,34.94,33.4,31.87,30.34,28.8,28.34,27.88,27.42,26.55,26.49,26.03,25.57,25.1,24.64,24.64,24.64,24.64,24.64,24.64,21.97,18.579999999999998,16.68,15.57]
["sats",null,{"$f":"IF('Gl. forenklet vådrum'!M6=\"\",\"\",HLOOKUP('Gl. forenklet vådrum'!$K$6,E2:BP8,'Gl. forenklet vådrum'!M6+2))","v":""},null,5,364.04,324.32,284.61,259.83,235.04,210.26,185.48,176.62,167.77,158.91999999999999,150.06,141.21,132.34,128.59,124.83,121.08,117.32,113.56,109.8,106.05,102.29,98.53,98.53,98.53,98.53,98.53,98.53,77.099999999999994,56.18,46.1,43.42]
[null,null,{"$f":"IF('Gl. forenklet vådrum'!N6=\"\",\"\",HLOOKUP('Gl. forenklet vådrum'!$K$6,E2:BP8,'Gl. forenklet vådrum'!N6+2))","v":""}]
[null,null,{"$f":"IF('Gl. forenklet vådrum'!O6=\"\",\"\",HLOOKUP('Gl. forenklet vådrum'!$K$6,E2:BP8,'Gl. forenklet vådrum'!O6+2))","v":""},null,null,0.1,7.5,8,8.5,9,9.5,10,10.5,11,11.5,12,12.6,13.1,13.6,14.1,14.6,15.1,15.6,16,16.5,17,17.5,18,18.5,19,19.5,20,20.5,21,21.5,22,22.5,23,23.5,24,24.5,25,25.5,26,26.5,27,27.5,28,28.5,29,29.5,30,30.5,31,31.5,32,32.5,33,33.5,34,34.5,35,35.5,36,36.5,37,37.5,38]
[null,null,{"$f":"IF('Gl. forenklet vådrum'!P6=\"\",\"\",HLOOKUP('Gl. forenklet vådrum'!$K$6,E2:BP8,'Gl. forenklet vådrum'!P6+2))","v":""},null,"pkt."]
[null,null,{"$f":"IF('Gl. forenklet vådrum'!Q6=\"\",\"\",HLOOKUP('Gl. forenklet vådrum'!$K$6,E2:BP8,'Gl. forenklet vådrum'!Q6+2))","v":""},null,6,12.11,12.11,12.11,12.11,12.11,12.11,12.11,12.11,11.7,11.3,10.9,10.49,10.08,9.68,9.27,8.8699999999999992,8.4700000000000006,8.06,7.62,7.39,7.18,6.95,6.72,6.5,6.28,6.05,6,5.95,5.89,5.84,5.79,5.74,5.68,5.63,5.58,5.52,5.47,5.42,5.37,5.34,5.3,5.26,5.23,5.2,5.17,5.14,5.0999999999999996,5.07,5.04,5.01,4.9800000000000004,4.93,4.9000000000000004,4.87,4.84,4.84,4.84,4.84,4.84,4.84,4.84,4.84,4.84]
[null,null,{"$f":"IF('Gl. forenklet vådrum'!S6=\"\",\"\",HLOOKUP('Gl. forenklet vådrum'!$G$6,E10:BQ16,'Gl. forenklet vådrum'!S6-3))","v":""},null,7,34.36,34.36,34.36,34.36,34.36,34.36,34.36,34.36,33.21,32.06,30.92,29.77,28.63,27.49,26.34,25.2,24.04,22.9,21.63,20.99,20.350000000000001,19.73,19.09,18.45,17.82,17.18,17.02,16.88,16.73,16.579999999999998,16.43,16.28,16.13,15.99,15.83,15.68,15.53,15.38,15.24,15.14,15.05,14.96,14.86,14.77,14.68,14.59,14.48,14.39,14.3,14.21,14.11,14.02,13.93,13.84,13.74,13.74,13.74,13.74,13.74,13.74,13.74,13.74,13.74]
[null,null,{"$f":"IF('Gl. forenklet vådrum'!T6=\"\",\"\",HLOOKUP('Gl. forenklet vådrum'!$G$6,E10:BQ16,'Gl. forenklet vådrum'!T6-3))","v":""},null,8,114.38,113.04,111.7,110.37,109.03,107.69,106.36,105.02,102.4,99.77,97.15,94.52,91.89,89.27,86.65,84.02,81.400000000000006,78.78,75.180000000000007,73.38,71.58,69.78,67.98,66.180000000000007,64.39,62.59,61.92,61.24,60.56,59.88,59.2,58.52,57.85,57.17,56.49,55.81,55.13,54.45,53.77,53.46,53.14,52.82,52.5,52.19,51.87,51.55,51.24,50.92,50.61,50.29,49.97,49.65,49.33,49.02,48.71,48.71,48.71,48.71,48.71,48.71,48.71,48.71,48.71]
[null,null,{"$f":"IF('Gl. forenklet vådrum'!U6=\"\",\"\",HLOOKUP('Gl. forenklet vådrum'!$G$6,E10:BQ16,'Gl. forenklet vådrum'!U6-3))","v":""},null,9,114.38,113.04,111.7,110.37,109.03,107.69,106.36,105.02,102.4,99.77,97.15,94.52,91.89,89.27,86.65,84.02,81.400000000000006,78.78,75.180000000000007,73.38,71.58,69.78,67.98,66.180000000000007,64.39,62.59,61.92,61.24,60.56,59.88,59.2,58.52,57.85,57.17,56.49,55.81,55.13,54.45,53.77,53.46,53.14,52.82,52.5,52.19,51.87,51.55,51.24,50.92,50.61,50.29,49.97,49.65,49.33,49.02,48.71,48.71,48.71,48.71,48.71,48.71,48.71,48.71,48.71]
[null,null,{"$f":"IF('Gl. forenklet vådrum'!V6=\"\",\"\",HLOOKUP('Gl. forenklet vådrum'!$G$6,E10:BQ16,'Gl. forenklet vådrum'!V6-3))","v":""},null,10,3.9,3.92,3.93,3.95,3.96,3.97,3.99,4,3.89,3.77,3.66,3.55,3.43,3.32,3.12,3.09,2.99,2.88,2.72,2.65,2.58,2.5099999999999998,2.4300000000000002,2.35,2.2799999999999998,2.21,2.1800000000000002,2.16,2.14,2.12,2.09,2.0699999999999998,2.0499999999999998,2.0099999999999998,1.99,1.97,1.95,1.92,1.9,1.89,1.88,1.86,1.85,1.84,1.83,1.82,1.8,1.79,1.78,1.77,1.76,1.74,1.74,1.73,1.71,1.71,1.71,1.71,1.71,1.71,1.71,1.71,1.71]
[null,null,{"$f":"IF('Gl. forenklet vådrum'!W6=\"\",\"\",HLOOKUP('Gl. forenklet vådrum'!$G$6,E10:BQ16,'Gl. forenklet vådrum'!W6-3))","v":""}]
[]
[]
[]
[]
[]
[]
["Sum af punkter",null,{"$f":"SUM(C8:C23)","v":0}]
[]
[]
[]
["linie2",null,{"$f":"IF('Gl. forenklet vådrum'!M7=\"\",\"\",HLOOKUP('Gl. forenklet vådrum'!$K$7,E2:BP8,'Gl. forenklet vådrum'!M7+2))","v":""}]
[null,null,{"$f":"IF('Gl. forenklet vådrum'!N7=\"\",\"\",HLOOKUP('Gl. forenklet vådrum'!$K$7,E2:BP8,'Gl. forenklet vådrum'!N7+2))","v":""}]
[null,null,{"$f":"IF('Gl. forenklet vådrum'!O7=\"\",\"\",HLOOKUP('Gl. forenklet vådrum'!$K$7,E2:BP8,'Gl. forenklet vådrum'!O7+2))","v":""}]
[null,null,{"$f":"IF('Gl. forenklet vådrum'!P7=\"\",\"\",HLOOKUP('Gl. forenklet vådrum'!$K$7,E2:BP8,'Gl. forenklet vådrum'!P7+2))","v":""}]
[null,null,{"$f":"IF('Gl. forenklet vådrum'!Q7=\"\",\"\",HLOOKUP('Gl. forenklet vådrum'!$K$7,E2:BP8,'Gl. forenklet vådrum'!Q7+2))","v":""}]
[null,null,{"$f":"IF('Gl. forenklet vådrum'!S7=\"\",\"\",HLOOKUP('Gl. forenklet vådrum'!$G$7,E10:BQ16,'Gl. forenklet vådrum'!S7-3))","v":""}]
[null,null,{"$f":"IF('Gl. forenklet vådrum'!T7=\"\",\"\",HLOOKUP('Gl. forenklet vådrum'!$G$7,E10:BQ16,'Gl. forenklet vådrum'!T7-3))","v":""}]
[null,null,{"$f":"IF('Gl. forenklet vådrum'!U7=\"\",\"\",HLOOKUP('Gl. forenklet vådrum'!$G$7,E10:BQ16,'Gl. forenklet vådrum'!U7-3))","v":""}]
[null,null,{"$f":"IF('Gl. forenklet vådrum'!V7=\"\",\"\",HLOOKUP('Gl. forenklet vådrum'!$G$7,E10:BQ16,'Gl. forenklet vådrum'!V7-3))","v":""}]
[null,null,{"$f":"IF('Gl. forenklet vådrum'!W7=\"\",\"\",HLOOKUP('Gl. forenklet vådrum'!$G$7,E10:BQ16,'Gl. forenklet vådrum'!W7-3))","v":""}]
[]
[]
[]
[]
[]
[]
[null,null,{"$f":"SUM(C28:C43)","v":0}]
[]
[]
[]
["linie3",null,{"$f":"IF('Gl. forenklet vådrum'!M8=\"\",\"\",HLOOKUP('Gl. forenklet vådrum'!$K$8,E2:BP8,'Gl. forenklet vådrum'!M8+2))","v":""}]
[null,null,{"$f":"IF('Gl. forenklet vådrum'!N8=\"\",\"\",HLOOKUP('Gl. forenklet vådrum'!$K$8,E2:BP8,'Gl. forenklet vådrum'!N8+2))","v":""}]
[null,null,{"$f":"IF('Gl. forenklet vådrum'!O8=\"\",\"\",HLOOKUP('Gl. forenklet vådrum'!$K$8,E2:BP8,'Gl. forenklet vådrum'!O8+2))","v":""}]
[null,null,{"$f":"IF('Gl. forenklet vådrum'!P8=\"\",\"\",HLOOKUP('Gl. forenklet vådrum'!$K$8,E2:BP8,'Gl. forenklet vådrum'!P8+2))","v":""}]
[null,null,{"$f":"IF('Gl. forenklet vådrum'!Q8=\"\",\"\",HLOOKUP('Gl. forenklet vådrum'!$K$8,E2:BP8,'Gl. forenklet vådrum'!Q8+2))","v":""}]
[null,null,{"$f":"IF('Gl. forenklet vådrum'!S8=\"\",\"\",HLOOKUP('Gl. forenklet vådrum'!$G$8,E10:BQ16,'Gl. forenklet vådrum'!S8-3))","v":""}]
[null,null,{"$f":"IF('Gl. forenklet vådrum'!T8=\"\",\"\",HLOOKUP('Gl. forenklet vådrum'!$G$8,E10:BQ16,'Gl. forenklet vådrum'!T8-3))","v":""}]
[null,null,{"$f":"IF('Gl. forenklet vådrum'!U8=\"\",\"\",HLOOKUP('Gl. forenklet vådrum'!$G$8,E10:BQ16,'Gl. forenklet vådrum'!U8-3))","v":""}]
[null,null,{"$f":"IF('Gl. forenklet vådrum'!V8=\"\",\"\",HLOOKUP('Gl. forenklet vådrum'!$G$8,E10:BQ16,'Gl. forenklet vådrum'!V8-3))","v":""}]
[null,null,{"$f":"IF('Gl. forenklet vådrum'!W8=\"\",\"\",HLOOKUP('Gl. forenklet vådrum'!$G$8,E10:BQ16,'Gl. forenklet vådrum'!W8-3))","v":""}]
[]
[]
[]
[]
[]
[]
[null,null,{"$f":"SUM(C48:C63)","v":0}]
[]
[]
[]
["linie4",null,{"$f":"IF('Gl. forenklet vådrum'!M9=\"\",\"\",HLOOKUP('Gl. forenklet vådrum'!$K$9,E2:BP8,'Gl. forenklet vådrum'!M9+2))","v":""}]
[null,null,{"$f":"IF('Gl. forenklet vådrum'!N9=\"\",\"\",HLOOKUP('Gl. forenklet vådrum'!$K$9,E2:BP8,'Gl. forenklet vådrum'!N9+2))","v":""}]
[null,null,{"$f":"IF('Gl. forenklet vådrum'!O9=\"\",\"\",HLOOKUP('Gl. forenklet vådrum'!$K$9,E2:BP8,'Gl. forenklet vådrum'!O9+2))","v":""}]
[null,null,{"$f":"IF('Gl. forenklet vådrum'!P9=\"\",\"\",HLOOKUP('Gl. forenklet vådrum'!$K$9,E2:BP8,'Gl. forenklet vådrum'!P9+2))","v":""}]
[null,null,{"$f":"IF('Gl. forenklet vådrum'!Q9=\"\",\"\",HLOOKUP('Gl. forenklet vådrum'!$K$9,E2:BP8,'Gl. forenklet vådrum'!Q9+2))","v":""}]
[null,null,{"$f":"IF('Gl. forenklet vådrum'!S9=\"\",\"\",HLOOKUP('Gl. forenklet vådrum'!$G$9,E10:BQ16,'Gl. forenklet vådrum'!S9-3))","v":""}]
[null,null,{"$f":"IF('Gl. forenklet vådrum'!T9=\"\",\"\",HLOOKUP('Gl. forenklet vådrum'!$G$9,E10:BQ16,'Gl. forenklet vådrum'!T9-3))","v":""}]
[null,null,{"$f":"IF('Gl. forenklet vådrum'!U9=\"\",\"\",HLOOKUP('Gl. forenklet vådrum'!$G$9,E10:BQ16,'Gl. forenklet vådrum'!U9-3))","v":""}]
[null,null,{"$f":"IF('Gl. forenklet vådrum'!V9=\"\",\"\",HLOOKUP('Gl. forenklet vådrum'!$G$9,E10:BQ16,'Gl. forenklet vådrum'!V9-3))","v":""}]
[null,null,{"$f":"IF('Gl. forenklet vådrum'!W9=\"\",\"\",HLOOKUP('Gl. forenklet vådrum'!$G$9,E10:BQ16,'Gl. forenklet vådrum'!W9-3))","v":""}]
[]
[]
[]
[]
[]
[]
[null,null,{"$f":"SUM(C68:C83)","v":0}]
[]
[]
[]
["linie5",null,{"$f":"IF('Gl. forenklet vådrum'!M10=\"\",\"\",HLOOKUP('Gl. forenklet vådrum'!$K$10,E2:BP8,'Gl. forenklet vådrum'!M10+2))","v":""}]
[null,null,{"$f":"IF('Gl. forenklet vådrum'!N10=\"\",\"\",HLOOKUP('Gl. forenklet vådrum'!$K$10,E2:BP8,'Gl. forenklet vådrum'!N10+2))","v":""}]
[null,null,{"$f":"IF('Gl. forenklet vådrum'!O10=\"\",\"\",HLOOKUP('Gl. forenklet vådrum'!$K$10,E2:BP8,'Gl. forenklet vådrum'!O10+2))","v":""}]
[null,null,{"$f":"IF('Gl. forenklet vådrum'!P10=\"\",\"\",HLOOKUP('Gl. forenklet vådrum'!$K$10,E2:BP8,'Gl. forenklet vådrum'!P10+2))","v":""}]
[null,null,{"$f":"IF('Gl. forenklet vådrum'!Q10=\"\",\"\",HLOOKUP('Gl. forenklet vådrum'!$K$10,E2:BP8,'Gl. forenklet vådrum'!Q10+2))","v":""}]
[null,null,{"$f":"IF('Gl. forenklet vådrum'!S10=\"\",\"\",HLOOKUP('Gl. forenklet vådrum'!$G$10,E10:BQ16,'Gl. forenklet vådrum'!S10-3))","v":""}]
[null,null,{"$f":"IF('Gl. forenklet vådrum'!T10=\"\",\"\",HLOOKUP('Gl. forenklet vådrum'!$G$10,E10:BQ16,'Gl. forenklet vådrum'!T10-3))","v":""}]
[null,null,{"$f":"IF('Gl. forenklet vådrum'!U10=\"\",\"\",HLOOKUP('Gl. forenklet vådrum'!$G$10,E10:BQ16,'Gl. forenklet vådrum'!U10-3))","v":""}]
[null,null,{"$f":"IF('Gl. forenklet vådrum'!V10=\"\",\"\",HLOOKUP('Gl. forenklet vådrum'!$G$10,E10:BQ16,'Gl. forenklet vådrum'!V10-3))","v":""}]
[null,null,{"$f":"IF('Gl. forenklet vådrum'!W10=\"\",\"\",HLOOKUP('Gl. forenklet vådrum'!$G$10,E10:BQ16,'Gl. forenklet vådrum'!W10-3))","v":""}]
[]
[]
[]
[]
[]
[]
[null,null,{"$f":"SUM(C88:C103)","v":0}]
[]
[]
[]
["linie6",null,{"$f":"IF('Gl. forenklet vådrum'!M11=\"\",\"\",HLOOKUP('Gl. forenklet vådrum'!$K$11,E2:BP8,'Gl. forenklet vådrum'!M11+2))","v":""}]
[null,null,{"$f":"IF('Gl. forenklet vådrum'!N11=\"\",\"\",HLOOKUP('Gl. forenklet vådrum'!$K$11,E2:BP8,'Gl. forenklet vådrum'!N11+2))","v":""}]
[null,null,{"$f":"IF('Gl. forenklet vådrum'!O11=\"\",\"\",HLOOKUP('Gl. forenklet vådrum'!$K$11,E2:BP8,'Gl. forenklet vådrum'!O11+2))","v":""}]
[null,null,{"$f":"IF('Gl. forenklet vådrum'!P11=\"\",\"\",HLOOKUP('Gl. forenklet vådrum'!$K$11,E2:BP8,'Gl. forenklet vådrum'!P11+2))","v":""}]
[null,null,{"$f":"IF('Gl. forenklet vådrum'!Q11=\"\",\"\",HLOOKUP('Gl. forenklet vådrum'!$K$11,E2:BP8,'Gl. forenklet vådrum'!Q11+2))","v":""}]
[null,null,{"$f":"IF('Gl. forenklet vådrum'!S11=\"\",\"\",HLOOKUP('Gl. forenklet vådrum'!$G$11,E10:BQ16,'Gl. forenklet vådrum'!S11-3))","v":""}]
[null,null,{"$f":"IF('Gl. forenklet vådrum'!T11=\"\",\"\",HLOOKUP('Gl. forenklet vådrum'!$G$11,E10:BQ16,'Gl. forenklet vådrum'!T11-3))","v":""}]
[null,null,{"$f":"IF('Gl. forenklet vådrum'!U11=\"\",\"\",HLOOKUP('Gl. forenklet vådrum'!$G$11,E10:BQ16,'Gl. forenklet vådrum'!U11-3))","v":""}]
[null,null,{"$f":"IF('Gl. forenklet vådrum'!V11=\"\",\"\",HLOOKUP('Gl. forenklet vådrum'!$G$11,E10:BQ16,'Gl. forenklet vådrum'!V11-3))","v":""}]
[null,null,{"$f":"IF('Gl. forenklet vådrum'!W11=\"\",\"\",HLOOKUP('Gl. forenklet vådrum'!$G$11,E10:BQ16,'Gl. forenklet vådrum'!W11-3))","v":""}]
[]
[]
[]
[]
[]
[]
[null,null,{"$f":"SUM(C108:C123)","v":0}]
[]
[]
[]
["linie7",null,{"$f":"IF('Gl. forenklet vådrum'!M12=\"\",\"\",HLOOKUP('Gl. forenklet vådrum'!$K$12,E2:BP8,'Gl. forenklet vådrum'!M12+2))","v":""}]
[null,null,{"$f":"IF('Gl. forenklet vådrum'!N12=\"\",\"\",HLOOKUP('Gl. forenklet vådrum'!$K$12,E2:BP8,'Gl. forenklet vådrum'!N12+2))","v":""}]
[null,null,{"$f":"IF('Gl. forenklet vådrum'!O12=\"\",\"\",HLOOKUP('Gl. forenklet vådrum'!$K$12,E2:BP8,'Gl. forenklet vådrum'!O12+2))","v":""}]
[null,null,{"$f":"IF('Gl. forenklet vådrum'!P12=\"\",\"\",HLOOKUP('Gl. forenklet vådrum'!$K$12,E2:BP8,'Gl. forenklet vådrum'!P12+2))","v":""}]
[null,null,{"$f":"IF('Gl. forenklet vådrum'!Q12=\"\",\"\",HLOOKUP('Gl. forenklet vådrum'!$K$12,E2:BP8,'Gl. forenklet vådrum'!Q12+2))","v":""}]
[null,null,{"$f":"IF('Gl. forenklet vådrum'!S12=\"\",\"\",HLOOKUP('Gl. forenklet vådrum'!$G$12,E10:BQ16,'Gl. forenklet vådrum'!S12-3))","v":""}]
[null,null,{"$f":"IF('Gl. forenklet vådrum'!T12=\"\",\"\",HLOOKUP('Gl. forenklet vådrum'!$G$12,E10:BQ16,'Gl. forenklet vådrum'!T12-3))","v":""}]
[null,null,{"$f":"IF('Gl. forenklet vådrum'!U12=\"\",\"\",HLOOKUP('Gl. forenklet vådrum'!$G$12,E10:BQ16,'Gl. forenklet vådrum'!U12-3))","v":""}]
[null,null,{"$f":"IF('Gl. forenklet vådrum'!V12=\"\",\"\",HLOOKUP('Gl. forenklet vådrum'!$G$12,E10:BQ16,'Gl. forenklet vådrum'!V12-3))","v":""}]
[null,null,{"$f":"IF('Gl. forenklet vådrum'!W12=\"\",\"\",HLOOKUP('Gl. forenklet vådrum'!$G$12,E10:BQ16,'Gl. forenklet vådrum'!W12-3))","v":""}]
[]
[]
[]
[]
[]
[]
[null,null,{"$f":"SUM(C128:C143)","v":0}]
[]
[]
[]
["linie8",null,{"$f":"IF('Gl. forenklet vådrum'!M13=\"\",\"\",HLOOKUP('Gl. forenklet vådrum'!$K$13,E2:BP8,'Gl. forenklet vådrum'!M13+2))","v":""}]
[null,null,{"$f":"IF('Gl. forenklet vådrum'!N13=\"\",\"\",HLOOKUP('Gl. forenklet vådrum'!$K$13,E2:BP8,'Gl. forenklet vådrum'!N13+2))","v":""}]
[null,null,{"$f":"IF('Gl. forenklet vådrum'!O13=\"\",\"\",HLOOKUP('Gl. forenklet vådrum'!$K$13,E2:BP8,'Gl. forenklet vådrum'!O13+2))","v":""}]
[null,null,{"$f":"IF('Gl. forenklet vådrum'!P13=\"\",\"\",HLOOKUP('Gl. forenklet vådrum'!$K$13,E2:BP8,'Gl. forenklet vådrum'!P13+2))","v":""}]
[null,null,{"$f":"IF('Gl. forenklet vådrum'!Q13=\"\",\"\",HLOOKUP('Gl. forenklet vådrum'!$K$13,E2:BP8,'Gl. forenklet vådrum'!Q13+2))","v":""}]
[null,null,{"$f":"IF('Gl. forenklet vådrum'!S13=\"\",\"\",HLOOKUP('Gl. forenklet vådrum'!$G$13,E10:BQ16,'Gl. forenklet vådrum'!S13-3))","v":""}]
[null,null,{"$f":"IF('Gl. forenklet vådrum'!T13=\"\",\"\",HLOOKUP('Gl. forenklet vådrum'!$G$13,E10:BQ16,'Gl. forenklet vådrum'!T13-3))","v":""}]
[null,null,{"$f":"IF('Gl. forenklet vådrum'!U13=\"\",\"\",HLOOKUP('Gl. forenklet vådrum'!$G$13,E10:BQ16,'Gl. forenklet vådrum'!U13-3))","v":""}]
[null,null,{"$f":"IF('Gl. forenklet vådrum'!V13=\"\",\"\",HLOOKUP('Gl. forenklet vådrum'!$G$13,E10:BQ16,'Gl. forenklet vådrum'!V13-3))","v":""}]
[null,null,{"$f":"IF('Gl. forenklet vådrum'!W13=\"\",\"\",HLOOKUP('Gl. forenklet vådrum'!$G$13,E10:BQ16,'Gl. forenklet vådrum'!W13-3))","v":""}]
[]
[]
[]
[]
[]
[]
[null,null,{"$f":"SUM(C148:C163)","v":0}]
[]
[]
[]
["linie9",null,{"$f":"IF('Gl. forenklet vådrum'!M14=\"\",\"\",HLOOKUP('Gl. forenklet vådrum'!$K$14,E2:BP8,'Gl. forenklet vådrum'!M14+2))","v":""}]
[null,null,{"$f":"IF('Gl. forenklet vådrum'!N14=\"\",\"\",HLOOKUP('Gl. forenklet vådrum'!$K$14,E2:BP8,'Gl. forenklet vådrum'!N14+2))","v":""}]
[null,null,{"$f":"IF('Gl. forenklet vådrum'!O14=\"\",\"\",HLOOKUP('Gl. forenklet vådrum'!$K$14,E2:BP8,'Gl. forenklet vådrum'!O14+2))","v":""}]
[null,null,{"$f":"IF('Gl. forenklet vådrum'!P14=\"\",\"\",HLOOKUP('Gl. forenklet vådrum'!$K$14,E2:BP8,'Gl. forenklet vådrum'!P14+2))","v":""}]
[null,null,{"$f":"IF('Gl. forenklet vådrum'!Q14=\"\",\"\",HLOOKUP('Gl. forenklet vådrum'!$K$14,E2:BP8,'Gl. forenklet vådrum'!Q14+2))","v":""}]
[null,null,{"$f":"IF('Gl. forenklet vådrum'!S14=\"\",\"\",HLOOKUP('Gl. forenklet vådrum'!$G$14,E10:BQ16,'Gl. forenklet vådrum'!S14-3))","v":""}]
[null,null,{"$f":"IF('Gl. forenklet vådrum'!T14=\"\",\"\",HLOOKUP('Gl. forenklet vådrum'!$G$14,E10:BQ16,'Gl. forenklet vådrum'!T14-3))","v":""}]
[null,null,{"$f":"IF('Gl. forenklet vådrum'!U14=\"\",\"\",HLOOKUP('Gl. forenklet vådrum'!$G$14,E10:BQ16,'Gl. forenklet vådrum'!U14-3))","v":""}]
[null,null,{"$f":"IF('Gl. forenklet vådrum'!V14=\"\",\"\",HLOOKUP('Gl. forenklet vådrum'!$G$14,E10:BQ16,'Gl. forenklet vådrum'!V14-3))","v":""}]
[null,null,{"$f":"IF('Gl. forenklet vådrum'!W14=\"\",\"\",HLOOKUP('Gl. forenklet vådrum'!$G$14,E10:BQ16,'Gl. forenklet vådrum'!W14-3))","v":""}]
[]
[]
[]
[]
[]
[]
[null,null,{"$f":"SUM(C168:C183)","v":0}]
[]
[]
[]
["linie10",null,{"$f":"IF('Gl. forenklet vådrum'!M15=\"\",\"\",HLOOKUP('Gl. forenklet vådrum'!$K$15,E2:BP8,'Gl. forenklet vådrum'!M15+2))","v":""}]
[null,null,{"$f":"IF('Gl. forenklet vådrum'!N15=\"\",\"\",HLOOKUP('Gl. forenklet vådrum'!$K$15,E2:BP8,'Gl. forenklet vådrum'!N15+2))","v":""}]
[null,null,{"$f":"IF('Gl. forenklet vådrum'!O15=\"\",\"\",HLOOKUP('Gl. forenklet vådrum'!$K$15,E2:BP8,'Gl. forenklet vådrum'!O15+2))","v":""}]
[null,null,{"$f":"IF('Gl. forenklet vådrum'!P15=\"\",\"\",HLOOKUP('Gl. forenklet vådrum'!$K$15,E2:BP8,'Gl. forenklet vådrum'!P15+2))","v":""}]
[null,null,{"$f":"IF('Gl. forenklet vådrum'!Q15=\"\",\"\",HLOOKUP('Gl. forenklet vådrum'!$K$15,E2:BP8,'Gl. forenklet vådrum'!Q15+2))","v":""}]
[null,null,{"$f":"IF('Gl. forenklet vådrum'!S15=\"\",\"\",HLOOKUP('Gl. forenklet vådrum'!$G$15,E10:BQ16,'Gl. forenklet vådrum'!S15-3))","v":""}]
[null,null,{"$f":"IF('Gl. forenklet vådrum'!T15=\"\",\"\",HLOOKUP('Gl. forenklet vådrum'!$G$15,E10:BQ16,'Gl. forenklet vådrum'!T15-3))","v":""}]
[null,null,{"$f":"IF('Gl. forenklet vådrum'!U15=\"\",\"\",HLOOKUP('Gl. forenklet vådrum'!$G$15,E10:BQ16,'Gl. forenklet vådrum'!U15-3))","v":""}]
[null,null,{"$f":"IF('Gl. forenklet vådrum'!V15=\"\",\"\",HLOOKUP('Gl. forenklet vådrum'!$G$15,E10:BQ16,'Gl. forenklet vådrum'!V15-3))","v":""}]
[null,null,{"$f":"IF('Gl. forenklet vådrum'!W15=\"\",\"\",HLOOKUP('Gl. forenklet vådrum'!$G$15,E10:BQ16,'Gl. forenklet vådrum'!W15-3))","v":""}]
[]
[]
[]
[]
[]
[]
[null,null,{"$f":"SUM(C188:C203)","v":0}]

{"sheet":"Ark1","index":15,"n_rows":84,"n_cols":16,"rows_kept":84,"cut":false,"hidden":true,"merged":[]}
[null,"stk","stk/m²","%","m²",0.1,2.1,6.1,10.1,15.1,30.1,50.1,100.1]
[1,null,null,null,1,3,2.2200000000000002,1.96,1.82,1.76,1.67,1.56,1.52,"m²","Støvsugning"]
[2,null,null,null,2,7.69,5.79,5.13,4.63,4.41,4.21,4.03,3.86,"m²","Svabning, inkl. støvsugning"]
[3,null,null,null,3,4,3,2.67,2.4300000000000002,2.31,2.1800000000000002,2.1,1.95,"m²","Maskinslibning, beton, asfalt og træ"]
[4,null,null,null,4,7.06,5.31,4.6900000000000004,4.21,4.05,3.89,3.71,3.49,"m²","Maskinslibning, Anhydrit"]
[5,null,null,null,5,2.56,1.9,1.71,1.55,1.41,1.28,1.21,1.1399999999999999,"m²","Primning"]
[6,null,null,null,6,20.02,15.01,13.32,12.04,11.02,9.99,9.5299999999999994,8.98,"m²","Primn..+spartl..+slibn..+støvsug..."]
[7,null,null,null,7,30.01,22.53,19.96,17.989999999999998,16.510000000000002,15.01,14.24,13.5,"m²","Primn..+spartl.. m/rive+slibn..+støvsug…"]
[8,null,null,null,8,32.450000000000003,24.34,21.56,19.48,17.86,16.21,15.4,14.61,"m²","Aftagning og afrensning af belægning"]
[9,null,null,null,9,19.079999999999998,14.32,12.69,11.46,10.51,9.5399999999999991,9.0299999999999994,8.61,"m²","Aftagning af ekstra lag belægning"]
[10,null,null,null,10,52.18,39.14,34.72,31.31,28.68,26.06,24.78,23.47,"m²","Aftagning af masonit, afrensning af søm"]
[11,null,null,null,11,30.04,22.54,19.98,18.02,16.52,15.02,14.27,13.52,"m²","Aftagning af hulkehl t.o.m. 15 cm"]
[12,null,null,null,12,35.590000000000003,26.7,23.66,21.35,19.579999999999998,17.79,16.91,16.010000000000002,"m²","Aftagning af hulkehl t.o.m. 30 cm"]
[13,null,null,null,13,55.91,37.49,28.97,22.65,19.899999999999999,17.14,15.22,13.94,"m²","Lægning af vinyl","Kontaktklæbning"]
[14,null,null,null,14,7.24,4.5,3.44,2.83,2.62,2.38,2.31,2.14,"m²","Opskæring af vinyl"]
[19,null,15,null,null,83.4,62.55,55.46,50.04,45.87,41.7,39.61,37.53,"m","Hulkehl t.o.m. 15 cm pr. m."]
[20,null,16,null,null,49.72,37.299999999999997,33.07,29.83,27.35,24.86,23.62,22.38,"stk","Indvendige hulkehlhjørne t.o.m. 15 cm"]
[21,null,17,null,null,99.55,74.67,66.209999999999994,59.73,54.76,49.78,47.29,44.8,"stk","Udvendige hulkehlhjørner t.o.m. 15 cm"]
[22,null,18,null,null,49.83,37.369999999999997,33.14,29.9,27.41,24.91,23.67,22.42,"stk","Lige samling i hulkehl t.o.m. 15 cm"]
[23,null,null,null,19,19.440000000000001,9.75,8.49,7.22,6.53,5.83,5.28,4.63,"m²","Trådsvejsning/trådfugning, 200 cm"]
[24,null,null,null,20,21.54,10.79,9.44,8.0299999999999994,7.24,6.49,5.85,5.0999999999999996,"m²","Trådsvejsning/trådfugning, 180 cm"]
[25,null,null,null,21,25.83,12.94,11.28,9.61,8.7200000000000006,7.79,7.03,6.15,"m²","Trådsvejsning/trådfugning, 150 cm"]
[26,null,null,null,22,31.04,15.59,13.57,11.55,10.46,9.33,8.43,7.37,"m²","Trådsvejsning/trådfugning, 125 cm"]
[null,null,null,null,23,5.67,4.26,3.77,3.42,3.12,2.83,2.7,2.56,"m²","Afdækning af gulv, minimums bredde 90 cm"]
[42,null,null,null,24,6.38,4.78,4.2300000000000004,3.84,3.49,3.19,3.03,2.87,"m²","Aftagning af gulvafdækning"]
[43,null,null,null,25,19.239999999999998,14.44,12.79,11.53,10.6,9.6199999999999992,9.1199999999999992,8.68,"m²","Afdækning med masonit"]
[null,null,null,null,26,12.94,9.73,8.64,7.79,7.13,6.49,6.17,5.82,"m²","Aftagning af masonitafdækning"]
[15,27,null,null,null,2.08,2.08,2.08,2.08,2.08,2.08,2.08,2.08,"m","Primning for hulkehl"]
[16,null,null,28,null,7.0000000000000007E-2,7.0000000000000007E-2,7.0000000000000007E-2,7.0000000000000007E-2,7.0000000000000007E-2,7.0000000000000007E-2,7.0000000000000007E-2,7.0000000000000007E-2,"%","Tillæg pr. påbegyndt cm over 15 cm"]
[17,29,null,null,null,7.04,7.04,7.04,7.04,7.04,7.04,7.04,7.04,"m","Skæring af overkant på hulkehl"]
[18,30,null,null,null,5.47,5.47,5.47,5.47,5.47,5.47,5.47,5.47,"m","Tillæg for hulkehl på færdigbehandlet væg"]
[28,31,null,null,null,302.31,302.31,302.31,302.31,302.31,302.31,302.31,302.31,"stk","Spartling af lokalfald"]
[null,32,null,null,null,352.87,352.87,352.87,352.87,352.87,352.87,352.87,352.87,"stk","Spartling af lokalfald, afgrænset af 3 vægge"]
[27,33,null,null,null,7.56,7.56,7.56,7.56,7.56,7.56,7.56,7.56,"m","Spartling af gipsvæg"]
[29,34,null,null,null,15.12,15.12,15.12,15.12,15.12,15.12,15.12,15.12,"m","Spartling af murstensvæg"]
[30,35,null,null,null,96.95,96.95,96.95,96.95,96.95,96.95,96.95,96.95,"stk","Afløb T.o.m. Ø160 mm"]
[31,36,null,null,null,1.04,1.04,1.04,1.04,1.04,1.04,1.04,1.04,"cm","Firkantede gulvafløb omkreds, kr. pr. cm"]
[32,37,null,null,null,46.39,46.39,46.39,46.39,46.39,46.39,46.39,46.39,"stk","Rørkraver/manchet"]
[33,38,null,null,null,46.39,46.39,46.39,46.39,46.39,46.39,46.39,46.39,"stk","Opkant t.o.m. 10 cm"]
[34,39,null,null,null,22.15,22.15,22.15,22.15,22.15,22.15,22.15,22.15,"m","Skæring af hjørne ved opkant"]
[35,40,null,null,null,83.4,83.4,83.4,83.4,83.4,83.4,83.4,83.4,"stk","Nedsænkning med trekantliste"]
[36,41,null,null,null,78.180000000000007,78.180000000000007,78.180000000000007,78.180000000000007,78.180000000000007,78.180000000000007,78.180000000000007,78.180000000000007,"stk","Tillæg for hjørner ved nedsænkning"]
[37,null,null,42,null,0.35,0.35,0.35,0.35,0.35,0.35,0.35,0.35,"%","Tillæg for montering med kontaktlim"]
[38,null,null,43,null,0.1,0.1,0.1,0.1,0.1,0.1,0.1,0.1,"%","Tillæg for skridsikkert"]
[39,44,null,null,null,53.09,53.09,53.09,53.09,53.09,53.09,53.09,53.09,"m","Gulvskinne m/forboring, plugs, skrue, klæbning"]
[40,45,null,null,null,53.09,53.09,53.09,53.09,53.09,53.09,53.09,53.09,"stk","Pr. samling/gering m/forboring, plugs, skrue, klæbning"]
[41,46,null,null,null,35.409999999999997,35.409999999999997,35.409999999999997,35.409999999999997,35.409999999999997,35.409999999999997,35.409999999999997,35.409999999999997,"m","Gulvskinne i underlag af træ, inkl. klæbning"]
[44,47,null,null,null,35.409999999999997,35.409999999999997,35.409999999999997,35.409999999999997,35.409999999999997,35.409999999999997,35.409999999999997,35.409999999999997,"stk","Pr. samling/gering i underlag af træ, inkl. klæbning"]
[45,48,null,null,null,31.85,31.85,31.85,31.85,31.85,31.85,31.85,31.85,"m","Gulvskinne med dobbeltklæbende tape"]
[46,49,null,null,null,31.85,31.85,31.85,31.85,31.85,31.85,31.85,31.85,"stk","Samling/gering med dobbeltklæbende tape"]
[47,null,null,null,null,7.24,4.5,3.44,2.83,2.6179999999999999,2.38,2.31,2.14,"M³","opskæring af vinyl pr. m²"]
[48,null,null,null,null,67.091999999999999,44.988,34.763999999999996,27.179999999999996,23.88,20.568000000000001,18.263999999999999,16.727999999999998,"M²","Opsætning af vinyl på væg med enkeltklæbning pr. M²"]
[49,null,null,null,null,100.08,75.06,66.553200000000004,60.047999999999995,55.044000000000004,50.04,47.538000000000004,45.036000000000001,"m.","Indvendigt/udvendigt lodret hjørne på væg med enkeltklæbning pr. m."]
[50,null,null,null,null,135.108,101.331,89.846820000000008,81.064800000000005,74.309400000000011,67.554000000000002,64.176300000000012,60.798600000000008,"m","Udvendigt lodret hjørne på væg med kontaktklæbning pr. m."]
[51,null,null,null,null,153.63255600000002,76.816278000000011,51.21085200000001,38.504400000000004,32.087000000000003,29.17,27.711500000000001,24.940350000000002,"stk","Udskæring for lem pr. stk."]
[52,null,null,null,null,38.381805,19.1909025,12.793934999999999,9.6194999999999986,8.0162499999999994,7.2874999999999996,6.9231249999999998,6.2308124999999999,"m","Lodrette svejsninger inkl. Fræsning pr. M."]
[53,20,31,null,27,47.977256250000011,23.988628125000005,15.992418750000002,12.024375000000001,10.020312500000001,9.109375,8.6539062500000004,7.7885156250000005,"m","Vandrette svejsninger inkl. Fræsning pr. M."]
[54,21,32,null,29,7.04,7.04,7.04,7.04,7.04,7.04,7.04,7.04,"m","Skæring af underkant på vægvinyl, ned til senere overkant hulkehl eller skæring der skal stå synlig uden på hulkehl, vandret eller fast højde fra gulv pr. meter .......... kr."]
[55,22,33,null,30,7.04,7.04,7.04,7.04,7.04,7.04,7.04,7.04,"m","Tillæg for afskæring af vinyl på væg i fast højde på færdigbehandlet væg pr. meter."]
[56,23,34,null,37,4.76,4.76,4.76,4.76,4.76,4.76,4.76,4.76,"m","Tillæg for tæt tilskæring af vinyl på væg mod færdigbehandlet loft pr. meter. (2021)"]
[57,24,35,null,38,45.43,45.43,45.43,45.43,45.43,45.43,45.43,45.43,"stk","Rørkraver/manchet t.o.m. Ø 120 mm svejset omkring røret, pr. stk."]
[58,25,36,null,39,22.75,22.75,22.75,22.75,22.75,22.75,22.75,22.75,"stk","Tillæg for tæt tilskæring for el-udtag t.o.m. 90 kvcm pr. stk."]
[59,26,null,null,40,22.75,22.75,22.75,22.75,22.75,22.75,22.75,22.75,"stk","Tillæg for udskæring for koblingsdåse til rør t.o.m Ø 65 mm pr. stk."]
[60,27,null,null,41,0.35,0.35,0.35,0.35,0.35,0.35,0.35,0.35,"%","Ved kontaktlim tillægges pkt. 6, 10"]
[61,28,null,null,44,0.1,0.1,0.1,0.1,0.1,0.1,0.1,0.1,"%","Ved skridsikkert vinyl tillægges "]
[null,29,null,null,45]
[null,30,null,null,46]
[null,31,null,null,47]
[null,38,null,null,48]
[null,39,null,null,49]
[null,41]
[null,42]
[null,43]
[]
[36]
[37]
[40]
[]
[]
[32]
[]
[37]
[]
[13]

{"sheet":"Montør 2","index":16,"n_rows":71,"n_cols":11,"rows_kept":71,"cut":false,"hidden":false,"merged":[[0,9,0,11],[1,10,1,11]]}
[null,null,null,null,null,null,null,null,null,"ARBEJDSSEDDEL "]
[null,null,null,null,null,null,null,null,null,"NR.",{"$f":"Skurbog!C1","v":0}]
[]
[null,"Arbejdssted:",{"$f":"Skurbog!C2","v":0},null,null,null,null,null,"Udføres:"]
[]
[]
[null,"Kontaktperson:",null,null,null,"Tlf:"]
[null,"Fakturaadr:"]
[null,null,null,null,null,null,null,null,"Udstedt dato:",null,{"$f":"TODAY()","v":"2025-07-14"}]
[]
[null,"Att:",null,null,null,"Mærke/Rekv.",null,null,"Sagsansvarlig",null,{"$f":"Skurbog!C3","v":0}]
[null,"Udleveret","Enhed","Art",null,"Retur","Brugt","Arbejdets beskrivelse:"]
[null,null,null,"Primer"]
[]
[]
[]
[null,null,null,"Spartelmasse"]
[]
[]
[]
[]
[null,null,null,"Underlag"]
[]
[]
[]
[]
[null,null,null,"Lim"]
[]
[]
[]
[]
[null,null,null,"Lister"]
[]
[]
[]
[]
[null,null,null,"Vinylprofiler"]
[]
[]
[]
[]
[null,null,null,"Belægning"]
[]
[]
[]
[null,null,null,null,null,null,null,"Affald",null,null,"Stribber"]
[null,null,null,null,null,null,null,"Bortkørsel",null,null,"Special"]
[]
[null,"Dato","Montør","Løn nr.","Akkord","Timeløn","sats","Overtid","Km","bemærkning."]
[null,{"$f":"Skurbog!A30","v":"00:00:00"},{"$f":"Skurbog!A71","v":"Montør 2"},null,{"$f":"Skurbog!D30","v":0},{"$f":"Skurbog!E30","v":0}]
[null,{"$f":"Skurbog!A31","v":"00:00:00"},null,null,{"$f":"Skurbog!D31","v":0},{"$f":"Skurbog!E31","v":0}]
[null,{"$f":"Skurbog!A32","v":"00:00:00"},null,null,{"$f":"Skurbog!D32","v":0},{"$f":"Skurbog!E32","v":0}]
[null,{"$f":"Skurbog!A33","v":"00:00:00"},null,null,{"$f":"Skurbog!D33","v":0},{"$f":"Skurbog!E33","v":0}]
[null,{"$f":"Skurbog!A34","v":"00:00:00"},null,null,{"$f":"Skurbog!D34","v":0},{"$f":"Skurbog!E34","v":0}]
[null,{"$f":"Skurbog!A35","v":"00:00:00"},null,null,{"$f":"Skurbog!D35","v":0},{"$f":"Skurbog!E35","v":0}]
[null,{"$f":"Skurbog!A36","v":"00:00:00"},null,null,{"$f":"Skurbog!D36","v":0},{"$f":"Skurbog!E36","v":0}]
[null,{"$f":"Skurbog!A37","v":"00:00:00"},null,null,{"$f":"Skurbog!D37","v":0},{"$f":"Skurbog!E37","v":0}]
[null,{"$f":"Skurbog!A38","v":"00:00:00"},null,null,{"$f":"Skurbog!D38","v":0},{"$f":"Skurbog!E38","v":0}]
[null,{"$f":"Skurbog!A39","v":"00:00:00"},null,null,{"$f":"Skurbog!D39","v":0},{"$f":"Skurbog!E39","v":0}]
[null,{"$f":"Skurbog!A40","v":"00:00:00"},null,null,{"$f":"Skurbog!D40","v":0},{"$f":"Skurbog!E40","v":0}]
[null,{"$f":"Skurbog!A41","v":"00:00:00"},null,null,{"$f":"Skurbog!D41","v":0},{"$f":"Skurbog!E41","v":0}]
[null,{"$f":"Skurbog!A42","v":"00:00:00"},null,null,{"$f":"Skurbog!D42","v":0},{"$f":"Skurbog!E42","v":0}]
[null,{"$f":"Skurbog!A43","v":"00:00:00"},null,null,{"$f":"Skurbog!D43","v":0},{"$f":"Skurbog!E43","v":0}]
[null,{"$f":"Skurbog!A44","v":"00:00:00"},null,null,{"$f":"Skurbog!D44","v":0},{"$f":"Skurbog!E44","v":0}]
[null,{"$f":"Skurbog!A45","v":"00:00:00"},null,null,{"$f":"Skurbog!D45","v":0},{"$f":"Skurbog!E45","v":0}]
[null,{"$f":"Skurbog!A46","v":"00:00:00"},null,null,{"$f":"Skurbog!D46","v":0},{"$f":"Skurbog!E46","v":0}]
[null,{"$f":"Skurbog!A47","v":"00:00:00"},null,null,{"$f":"Skurbog!D47","v":0},{"$f":"Skurbog!E47","v":0}]
[null,{"$f":"Skurbog!A48","v":"00:00:00"},null,null,{"$f":"Skurbog!D48","v":0},{"$f":"Skurbog!E48","v":0}]
[null,{"$f":"Skurbog!A49","v":"00:00:00"},null,null,{"$f":"Skurbog!D49","v":0},{"$f":"Skurbog!E49","v":0}]
[null,null,null,null,{"$f":"SUM(E50:E69)","v":0},{"$f":"SUM(F50:F69)","v":0},null,{"$f":"SUM(H50:H69)","v":0},{"$f":"SUM(I50:I69)","v":0}]
[null,null,null,null,null,null,null,null,null,null,"Se akkord vedlagt"]

{"sheet":"ROB","index":17,"n_rows":749,"n_cols":25,"rows_kept":749,"cut":false,"hidden":true,"merged":[]}
[null,null,null,null,2027,2026,2025,2024,2023,2022,2021,2020,2019,2018,2017]
[null,null,null,null,0,0,0,3.9E-2,0.04,2.1000000000000001E-2,2.1000000000000001E-2,2.1000000000000001E-2,2.1000000000000001E-2,1.9E-2]
["Afsnits overskrift i priskuranten","Key","Post","Enhed",null,null,null,null,null,null,null,null,null,"Pris","Pris2","DatoPris1","DatoPris2","Tekst","LangTekst","FraPost","Tilpost","Funktion","Type","SidstRoert","Memo"]
["Forberedende",0,"S200101A","kvm",{"$f":"SUM(F4*$E$2+F4)","v":3.3144067768255976},{"$f":"SUM(G4*$F$2+G4)","v":3.3144067768255976},{"$f":"SUM(H4*$G$2+H4)","v":3.3144067768255976},{"$f":"SUM(I4*$H$2+I4)","v":3.3144067768255976},{"$f":"SUM(J4*$I$2+J4)","v":3.1899968978109698},{"$f":"SUM(K4*$J$2+K4)","v":3.0673047094336248},{"$f":"SUM(L4*$K$2+L4)","v":3.0042161698664298},{"$f":"SUM(M4*$L$2+M4)","v":2.9424252398299999},{"$f":"SUM(N4*$M$2+N4)","v":2.8819052300000001},{"$f":"SUM(O4*$N$2+O4)","v":2.8226300000000002},2.77,"2018-03-01","2017-03-01","Støvsugning","Rum under 2 kvm.","","",null,0,null,""]
["Forberedende",0,"S200101B","kvm",{"$f":"SUM(F5*$E$2+F5)","v":2.4529003221994494},{"$f":"SUM(G5*$F$2+G5)","v":2.4529003221994494},{"$f":"SUM(H5*$G$2+H5)","v":2.4529003221994494},{"$f":"SUM(I5*$H$2+I5)","v":2.4529003221994494},{"$f":"SUM(J5*$I$2+J5)","v":2.3608280290658801},{"$f":"SUM(K5*$J$2+K5)","v":2.2700269510248847},2.2233368766159498,2.1776071269499999,2.1328179499999997,{"$f":"SUM(O5*$N$2+O5)","v":2.0889499999999996},2.0499999999999998,"2018-03-01","2017-03-01","Støvsugning","Rum 2 - 6 kvm.","","",null,0,null,""]
["Forberedende",0,"S200101C","kvm",2.1657315039907337,2.1657315039907337,2.1657315039907337,2.1657315039907337,2.0844384061508503,2.0042676982219714,1.9630437788657897,1.9226677559899998,1.8831221899999999,1.84439,1.81,"2018-03-01","2017-03-01","Støvsugning","Rum 6 - 10 kvm.","","",null,0,null,""]
["Forberedende",0,"S200101D","kvm",2.0101817274610121,2.0101817274610121,2.0101817274610121,2.0101817274610121,1.9347273604052091,1.8603147696203934,1.8220516842511199,1.7845755967199999,1.7478703199999999,1.7119199999999999,1.68,"2018-03-01","2017-03-01","Støvsugning","Rum 10 - 15 kvm.","","",null,0,null,""]
["Forberedende",0,"S200101E","kvm",1.9383895229088335,1.9383895229088335,1.9383895229088335,1.9383895229088335,1.8656299546764519,1.7938749564196652,1.7569784098135801,1.7208407539800001,1.6854463800000001,1.6507800000000001,1.62,"2018-03-01","2017-03-01","Støvsugning","Rum 15 - 30 kvm.","","",null,0,null,""]
["Forberedende",0,"S200101F","kvm",1.8426665835059279,1.8426665835059279,1.8426665835059279,1.8426665835059279,1.7735000803714418,1.705288538818694,1.67021404389686,1.6358609636600001,1.6022144600000001,1.5692600000000001,1.54,"2018-03-01","2017-03-01","Støvsugning","Rum 30 - 50 kvm.","","",null,0,null,""]
["Forberedende",0,"S200101G","kvm",1.7230129092522963,1.7230129092522963,1.7230129092522963,1.7230129092522963,1.6583377374901793,1.5945555168174801,1.56175858650096,1.52963622576,1.49817456,1.46736,1.44,"2018-03-01","2017-03-01","Støvsugning","Rum 50 - 100 kvm.","","",null,0,null,""]
["Forberedende",0,"S200101H","kvm",1.6751514395508436,1.6751514395508436,1.6751514395508436,1.6751514395508436,1.6122728003376743,1.5502623080169946,1.5183764035426,1.4871463305999999,1.4565585999999999,1.4265999999999999,1.4,"2018-03-01","2017-03-01","Støvsugning","Rum over 100 kvm.","","",null,0,null,""]
["Forberedende",0,"S200102A","kvm",8.4834455045824857,8.4834455045824857,8.4834455045824857,{"$f":"SUM(I12*$H$2+I12)","v":8.4834455045824857},8.1650101102815071,7.850971259886065,7.6894919293693098,7.5313339171099996,7.3764289099999996,7.22471,7.09,"2018-03-01","2017-03-01","Svabning, inkl. støvsugning","Rum under 2 kvm.","","",null,0,null,""]
["Forberedende",0,"S200102B","kvm",6.389506205143932,6.389506205143932,6.389506205143932,6.389506205143932,6.1496691098594152,5.9131433748648226,5.7915214249410605,5.6724010038600001,5.55573066,5.4414600000000002,5.34,"2018-03-01","2017-03-01","Svabning, inkl. støvsugning","Rum 2 - 6 kvm.","","",null,0,null,""]
["Forberedende",0,"S200102C","kvm",5.6596187921967802,5.6596187921967802,5.6596187921967802,5.6596187921967802,5.4471788182837155,5.2376719406574184,5.1299431348260711,5.0244301026700011,4.921087270000001,4.8198700000000008,4.7300000000000004,"2018-03-01","2017-03-01","Svabning, inkl. støvsugning","Rum 6 - 10 kvm.","","",null,0,null,""]
["Forberedende",0,"S200102D","kvm",5.109211890630073,5.109211890630073,5.109211890630073,5.109211890630073,4.9174320410299064,4.7283000394518329,4.6310480308049291,4.5357963083299992,4.4425037299999994,4.3511299999999995,4.2699999999999996,"2018-03-01","2017-03-01","Svabning, inkl. støvsugning","Rum 10 - 15 kvm.","","",null,0,null,""]
["Forberedende",0,"S200102E","kvm",4.8699045421228098,4.8699045421228098,4.8699045421228098,4.8699045421228098,4.6871073552673819,4.5068339954494059,4.41413711601313,4.3233468325300004,4.2344239300000002,4.1473300000000002,4.07,"2018-03-01","2017-03-01","Svabning, inkl. støvsugning","Rum 15 - 30 kvm.","","",null,0,null,""]
["Forberedende",0,"S200102F","kvm",4.6425625610409087,4.6425625610409087,4.6425625610409087,4.6425625610409087,4.4682989037929826,4.2964412536470986,4.2080717469609192,4.1215198305199996,4.0367481199999995,3.9537199999999997,3.88,"2018-03-01","2017-03-01","Svabning, inkl. Støvsugning","Rum 30 - 50 kvm.","","",null,0,null,""]
["Forberedende",0,"S200102G","kvm",4.4511166822350985,4.4511166822350985,4.4511166822350985,4.4511166822350985,4.2840391551829633,4.1192684184451567,4.0345430151274799,3.95156024988,3.8702842799999999,3.79068,3.72,"2018-03-01","2017-03-01","Svabning, inkl. støvsugning","Rum 50 - 100 kvm.","","",null,0,null,""]
["Forberedende",0,"S200102H","kvm",4.2596708034292883,4.2596708034292883,4.2596708034292883,4.2596708034292883,4.0997794065729432,3.9420955832432147,3.8610142832940397,3.7816006692399999,3.7038204399999999,3.62764,3.56,"2018-03-01","2017-03-01","Svabning, inkl. støvsugning","Rum over 100 kvm.","","",null,0,null,""]
["Forberedende",0,"S200103A","kvm",4.4152205799590103,4.4152205799590103,4.4152205799590103,4.4152205799590103,4.249490452318585,4.0860485118447931,4.0020063779087103,3.9196928285100001,3.8390723100000002,3.7601100000000001,3.69,"2018-03-01","2017-03-01","Maskinslibning, beton, asfalt og træ","Rum under 2 kvm.","","",null,0,null,""]
["Forberedende",0,"S200103B","kvm",3.3144067768255976,3.3144067768255976,3.3144067768255976,3.3144067768255976,3.1899968978109698,3.0673047094336248,3.0042161698664298,2.9424252398299999,2.8819052300000001,2.8226300000000002,2.77,"2018-03-01","2017-03-01","Maskinslibning, beton, asfalt og træ","Rum 2 - 6 kvm.","","",null,0,null,""]
["Forberedende",0,"S200103C","kvm",2.9434803866393398,2.9434803866393398,2.9434803866393398,2.9434803866393398,2.8329936348790565,2.7240323412298619,2.66800425193914,2.6131285523400001,2.55938154,2.5067399999999997,2.46,"2018-03-01","2017-03-01","Maskinslibning, beton, asfalt og træ","Rum 6 - 10 kvm.","","",null,0,null,""]
["Forberedende",0,"S200103D","kvm",2.68024230328135,2.68024230328135,2.68024230328135,2.68024230328135,2.5796364805402789,2.4804196928271911,2.4294022456681597,2.3794341289599998,2.33049376,2.2825600000000001,2.2400000000000002,"2018-03-01","2017-03-01","Maskinslibning, beton, asfalt og træ","Rum 10 - 15 kvm.","","",null,0,null,""]
["Forberedende",0,"S200103E","kvm",2.5486232616023559,2.5486232616023559,2.5486232616023559,2.5486232616023559,2.452957903370891,2.3586133686258566,2.3101012425326704,2.2625869172700002,2.21604987,2.1704699999999999,2.13,"2018-03-01","2017-03-01","Maskinslibning, beton, asfalt og træ","Rum 15 - 30 kvm.","","",null,0,null,""]
["Forberedende",0,"S200103F","kvm",2.4050388524979973,2.4050388524979973,2.4050388524979973,2.4050388524979973,2.3147630919133757,2.2257337422243997,2.1799546936575904,2.1351172317900002,2.0912019900000001,2.04819,2.0099999999999998,"2018-03-01","2017-03-01","Maskinslibning, beton, asfalt og træ","Rum 30 - 50 kvm.","","",null,0,null,""]
["Forberedende",0,"S200103G","kvm",2.3212812805204543,2.3212812805204543,2.3212812805204543,2.3212812805204543,2.2341494518964913,2.1482206268235493,2.1040358734804596,2.0607599152599998,2.0183740599999997,1.9768599999999998,1.94,"2018-03-01","2017-03-01","Maskinslibning, beton, asfalt og træ","Rum 50 - 100 kvm.","","",null,0,null,""]
["Forberedende",0,"S200103H","kvm",2.1537661365653706,2.1537661365653706,2.1537661365653706,2.1537661365653706,2.0729221718627242,1.9931943960218501,1.9521982331262,1.9120452822,1.8727182,1.8342000000000001,1.8,"2018-03-01","2017-03-01","Maskinslibning, beton, asfalt og træ","Rum over 100 kvm.","","",null,0,null,""]
["Forberedende",0,"S200104A","kvm",7.7894541939114239,7.7894541939114239,7.7894541939114239,7.7894541939114239,7.4970685215701867,7.2087197322790253,7.0604502764730901,6.91523043729,6.7729974899999998,6.6336899999999996,6.51,"2018-03-01","2017-03-01","Maskinslibning, Anhydrit","Rum under 2 kvm.","","",null,0,null,""]
["Forberedende",0,"S200104B","kvm",5.8630300384279526,5.8630300384279526,5.8630300384279526,5.8630300384279526,5.64295480118186,5.4259180780594809,5.3143174123990997,5.2050121570999996,5.0979551000000001,4.9931000000000001,4.9000000000000004,"2018-03-01","2017-03-01","Maskinslibning, Anhydrit","Rum 2 - 6 kvm.","","",null,0,null,""]
["Forberedende",0,"S200104C","kvm",5.169038727756889,5.169038727756889,5.169038727756889,5.169038727756889,4.9750132124705377,4.7836665504524403,4.68527575950288,4.5889086772800001,4.4945236800000004,4.4020800000000007,4.32,"2018-03-01","2017-03-01","Maskinslibning, Anhydrit","Rum 6 - 10 kvm.","","",null,0,null,""]
["Forberedende",0,"S200104D","kvm",4.6425625610409087,4.6425625610409087,4.6425625610409087,4.6425625610409087,4.4682989037929826,4.2964412536470986,4.2080717469609192,4.1215198305199996,4.0367481199999995,3.9537199999999997,3.88,"2018-03-01","2017-03-01","Maskinslibning, Anhydrit","Rum 10 - 15 kvm.","","",null,0,null,""]
["Forberedende",0,"S200104E","kvm",4.4630820496604615,4.4630820496604615,4.4630820496604615,4.4630820496604615,4.2955553894710894,4.1303417206452782,4.0453885608670701,3.9621827236700002,3.8806882700000003,3.8008700000000002,3.73,"2018-03-01","2017-03-01","Maskinslibning, Anhydrit","Rum 15 - 30 kvm.","","",null,0,null,""]
["Forberedende",0,"S200104F","kvm",4.2955669057053782,4.2955669057053782,4.2955669057053782,4.2955669057053782,4.1343281094373223,3.9753154898435792,3.8935509205128103,3.8134680906100002,3.7350324100000001,3.65821,3.59,"2018-03-01","2017-03-01","Maskinslibning, Anhydrit","Rum 30 - 50 kvm.","","",null,0,null,""]
["Forberedende",0,"S200104G","kvm",4.0921556594742032,4.0921556594742032,4.0921556594742032,4.0921556594742032,3.9385521265391756,3.7870693524415149,3.7091766429397794,3.6328860361799995,3.5581645799999997,3.4849799999999997,3.42,"2018-03-01","2017-03-01","Maskinslibning, Anhydrit","Rum 50 - 100 kvm.","","",null,0,null,""]
["Forberedende",0,"S200104H","kvm",3.8528483109669405,3.8528483109669405,3.8528483109669405,3.8528483109669405,3.7082274407766511,3.5656033084390875,3.4922657281479799,3.4204365603799998,3.35008478,3.28118,3.22,"2018-03-01","2017-03-01","Maskinslibning, Anhydrit","Rum over 100 kvm.","","",null,0,null,""]
["Forberedende",0,"S200105A","kvm",2.8238267123857073,2.8238267123857073,2.8238267123857073,2.8238267123857073,2.7178312919977934,2.6132993192286476,2.5595487945432396,2.5069038144399998,2.4553416399999999,2.4048400000000001,2.36,"2018-03-01","2017-03-01","Primning","Rum under 2 kvm.","","",null,0,null,""]
["Forberedende",0,"S200105B","kvm",2.0939392994385546,2.0939392994385546,2.0939392994385546,2.0939392994385546,2.0153410004220929,1.9378278850212429,1.8979705044282498,1.8589329132499999,1.82069825,1.78325,1.75,"2018-03-01","2017-03-01","Primning","Rum 2 - 6 kvm.","","",null,0,null,""]
["Forberedende",0,"S200105C","kvm",1.8905280532073807,1.8905280532073807,1.8905280532073807,1.8905280532073807,1.8195650175239468,1.7495817476191797,1.7135962268552201,1.67835085882,1.64383042,1.61002,1.58,"2018-03-01","2017-03-01","Primning","Rum 6 - 10 kvm.","","",null,0,null,""]
["Forberedende",0,"S200105D","kvm",1.7110475418269333,1.7110475418269333,1.7110475418269333,1.7110475418269333,1.6468215032020532,1.5834822146173588,1.55091304076137,1.51901375197,1.4877705699999999,1.4571699999999999,1.43,"2018-03-01","2017-03-01","Primning","Rum 10 - 15 kvm.","","",null,0,null,""]
["Forberedende",0,"S200105E","kvm",1.555497765297212,1.555497765297212,1.555497765297212,1.555497765297212,1.4971104574564118,1.4395292860157807,1.4099209461466999,1.3809215927,1.3525187000000001,1.3247,1.3,"2018-03-01","2017-03-01","Primning","Rum 15 - 30 kvm.","","",null,0,null,""]
["Forberedende",0,"S200105F","kvm",1.4119133561928536,1.4119133561928536,1.4119133561928536,1.4119133561928536,1.3589156459988967,1.3066496596143238,1.2797743972716198,1.2534519072199999,1.2276708199999999,1.20242,1.18,"2018-03-01","2017-03-01","Primning","Rum 30 - 50 kvm.","","",null,0,null,""]
["Forberedende",0,"S200105G","kvm",1.340121151640675,1.340121151640675,1.340121151640675,1.340121151640675,1.2898182402701395,1.2402098464135956,1.2147011228340798,1.1897170644799999,1.16524688,1.1412800000000001,1.1200000000000001,"2018-03-01","2017-03-01","Primning","Rum 50 - 100 kvm.","","",null,0,null,""]
["Forberedende",0,"S200105H","kvm",1.2563635796631327,1.2563635796631327,1.2563635796631327,1.2563635796631327,1.2092046002532557,1.1626967310127458,1.1387823026569499,1.1153597479499999,1.0924189499999999,1.06995,1.05,"2018-03-01","2017-03-01","Primning","Rum over 100 kvm.","","",null,0,null,""]
["Forberedende",0,"S200106A","kvm",22.088068267220407,22.088068267220407,22.088068267220407,22.088068267220407,21.258968495881046,20.441315861424084,20.020877435283136,19.609086616339997,19.205765539999998,18.810739999999999,18.46,"2018-03-01","2017-03-01","Primn..+spartl..+slibn..+støvsug...","Rum under 2 kvm, Primning, spartling, slibning, støvsugning","","",null,0,null,""]
["Forberedende",0,"S200106B","kvm",16.560068516702625,16.560068516702625,16.560068516702625,16.560068516702625,15.938468254766724,15.325450244968003,15.010235303592559,14.701503725359998,14.399122159999999,14.102959999999999,13.84,"2018-03-01","2017-03-01","Primn..+spartl..+slibn..+støvsug...","Rum 2 - 6 kvm, Primning, spartling, slibning, støvsugning","","",null,0,null,""]
["Forberedende",0,"S200106C","kvm",14.69347119834597,14.69347119834597,14.69347119834597,14.69347119834597,14.141935705819028,13.598015101749066,13.318330168216519,13.04439781412,12.776099719999999,12.51332,12.28,"2018-03-01","2017-03-01","Primn..+spartl..+slibn..+støvsug...","Rum 6 - 10 kvm, Primning, spartling, slibning, støvsugning","","",null,0,null,""]
["Forberedende",0,"S200106D","kvm",13.281557842153116,13.281557842153116,13.281557842153116,13.281557842153116,12.783020059820132,12.291365442134742,12.0385557709449,11.790945906899999,11.548428899999999,11.3109,11.1,"2018-03-01","2017-03-01","Primn..+spartl..+slibn..+støvsug...","Rum 10 - 15 kvm, Primning, spartling, slibning, støvsugning","","",null,0,null,""]
["Forberedende",0,"S200106E","kvm",12.156813304168981,12.156813304168981,12.156813304168981,12.156813304168981,11.700494036736266,11.250475035323333,11.019074471423441,10.792433370640001,10.570453840000001,10.35304,10.16,"2018-03-01","2017-03-01","Primn..+spartl..+slibn..+støvsug...","Rum 15 - 30 kvm, Primning, spartling, slibning, støvsugning","","",null,0,null,""]
["Forberedende",0,"S200106F","kvm",11.020103398759481,11.020103398759481,11.020103398759481,11.020103398759481,10.606451779364274,10.198511326311802,9.9887476261623913,9.7832983605900008,9.5820747900000001,9.3849900000000002,9.2100000000000009,"2018-03-01","2017-03-01","Primn..+spartl..+slibn..+støvsug...","Rum 30 - 50 kvm, Primning, spartling, slibning, støvsugning","","",null,0,null,""]
["Forberedende",0,"S200106G","kvm",10.517557966894222,10.517557966894222,10.517557966894222,10.517557966894222,10.122769939262966,9.7334326339066983,9.5332347050996074,9.3371544614099982,9.145107209999999,8.9570099999999986,8.7899999999999991,"2018-03-01","2017-03-01","Primn..+spartl..+slibn..+støvsug...","Rum 50 - 100 kvm, Primning, spartling, slibning, støvsugning","","",null,0,null,""]
["Forberedende",0,"S200106H","kvm",9.9073242282007037,9.9073242282007037,9.9073242282007037,9.9073242282007037,9.5354419905685308,9.1686942217005107,8.9801118723805207,8.7954082981199999,8.6145037200000001,8.4373199999999997,8.2799999999999994,"2018-03-01","2017-03-01","Primn..+spartl..+slibn..+støvsug...","Rum over 100 kvm, Primning, spartling, slibning, støvsugning","","",null,0,null,""]
["Forberedende",0,"S200107A","kvm",33.108171665979889,33.108171665979889,33.108171665979889,33.108171665979889,31.865420275245324,30.639827187735889,30.009625061445533,29.392384976930003,28.787840330000002,28.195730000000001,27.67,"2018-03-01","2017-03-01","Primn..+spartl.. m/rive+slibn..+støvsug…","Rum under 2 kvm, Primning, spartling m/rive, slibning, støvsugning","","",null,0,null,""]
["Forberedende",0,"S200107B","kvm",24.8520681424793,24.8520681424793,24.8520681424793,24.8520681424793,23.919218616438211,22.999248669652125,22.526198501128427,22.062878061829998,21.60908723,21.164629999999999,20.77,"2018-03-01","2017-03-01","Primn..+spartl.. m/rive+slibn..+støvsug…","Rum 2 - 6 kvm, Primning, spartling m/rive, slibning, støvsugning","","",null,0,null,""]
["Forberedende",0,"S200107C","kvm",22.016276062668226,22.016276062668226,22.016276062668226,22.016276062668226,21.189871090152288,20.374876048223353,19.955804160845595,19.545351773599997,19.143341599999996,18.749599999999997,18.399999999999999,"2018-03-01","2017-03-01","Primn..+spartl.. m/rive+slibn..+støvsug…","Rum 6 - 10 kvm, Primning, spartling m/rive, slibning, støvsugning","","",null,0,null,""]
["Forberedende",0,"S200107D","kvm",19.850544558677502,19.850544558677502,19.850544558677502,19.850544558677502,19.105432684001446,18.37060835000139,17.992760381979814,17.622684017610002,17.260219410000001,16.90521,16.59,"2018-03-01","2017-03-01","Primn..+spartl.. m/rive+slibn..+støvsug…","Rum 10 - 15 kvm, Primning, spartling m/rive, slibning, støvsugning","","",null,0,null,""]
["Forberedende",0,"S200107E","kvm",18.211289221402748,18.211289221402748,18.211289221402748,18.211289221402748,17.527708586528149,16.853565948584759,16.506920615655982,16.167405108380002,15.834872780000001,15.509180000000001,15.22,"2018-03-01","2017-03-01","Primn..+spartl.. m/rive+slibn..+støvsug…","Rum 15 - 30 kvm, Primning, spartling m/rive, slibning, støvsugning","","",null,0,null,""]
["Forberedende",0,"S200107F","kvm",16.560068516702625,16.560068516702625,16.560068516702625,16.560068516702625,15.938468254766724,15.325450244968003,15.010235303592559,14.701503725359998,14.399122159999999,14.102959999999999,13.84,"2018-03-01","2017-03-01","Primn..+spartl.. m/rive+slibn..+støvsug…","Rum 30 - 50 kvm, Primning, spartling m/rive, slibning, støvsugning","","",null,0,null,""]
["Forberedende",0,"S200107G","kvm",15.710527429501845,15.710527429501845,15.710527429501845,15.710527429501845,15.120815620309763,14.539245788759388,14.240201556081672,13.947308086270002,13.660438870000002,13.379470000000001,13.13,"2018-03-01","2017-03-01","Primn..+spartl.. m/rive+slibn..+støvsug…","Rum 50 - 100 kvm, Primning, spartling m/rive, slibning, støvsugning","","",null,0,null,""]
["Forberedende",0,"S200107H","kvm",14.896882444577145,14.896882444577145,14.896882444577145,14.896882444577145,14.337711688717174,13.786261239151129,13.502704445789549,13.224979868549999,12.952967549999999,12.686549999999999,12.45,"2018-03-01","2017-03-01","Primn..+spartl.. m/rive+slibn..+støvsug…","Rum over 100 kvm, Primning, spartling m/rive, slibning, støvsugning","","",null,0,null,""]
["Forberedende",0,"S200108A","kvm",35.800379336686603,35.800379336686603,35.800379336686603,35.800379336686603,34.456572990073731,33.131320182763204,32.449872852853282,31.78244157968,31.128738080000002,30.488480000000003,29.92,"2018-03-01","2017-03-01","Aftagning og afrensning af belægning","Rum under 2 kvm.","","",null,0,null,""]
["Forberedende",0,"S200108B","kvm",26.850284502514953,26.850284502514953,26.850284502514953,26.850284502514953,25.842429742555296,24.8484901370724,24.33740463963996,23.836831184760001,23.34655356,22.86636,22.44,"2018-03-01","2017-03-01","Aftagning og afrensning af belægning","Rum 2 - 6 kvm.","","",null,0,null,""]
["Forberedende",0,"S200108C","kvm",23.787150441621982,23.787150441621982,23.787150441621982,23.787150441621982,22.894273764794978,22.013724773841325,21.56094493030492,21.11747789452,20.68313212,20.257719999999999,19.88,"2018-03-01","2017-03-01","Aftagning og afrensning af belægning","Rum 6 - 10 kvm.","","",null,0,null,""]
["Forberedende",0,"S200108D","kvm",21.489799895952252,21.489799895952252,21.489799895952252,21.489799895952252,20.683156781474739,19.887650751418018,19.478600148303642,19.077962926840002,18.685566040000001,18.30124,17.96,"2018-03-01","2017-03-01","Aftagning og afrensning af belægning","Rum 10 - 15 kvm.","","",null,0,null,""]
["Forberedende",0,"S200108E","kvm",19.706960149573142,19.706960149573142,19.706960149573142,19.706960149573142,18.967237872543929,18.237728723599933,17.862613833104731,17.495214332130001,17.13537153,16.78293,16.47,"2018-03-01","2017-03-01","Aftagning og afrensning af belægning","Rum 15 - 30 kvm.","","",null,0,null,""]
["Forberedende",0,"S200108F","kvm",17.888224300917944,17.888224300917944,17.888224300917944,17.888224300917944,17.216770260748742,16.554586789181482,16.214090880687053,15.880598316050001,15.55396505,15.23405,14.95,"2018-03-01","2017-03-01","Aftagning og afrensning af belægning","Rum 30 - 50 kvm.","","",null,0,null,""]
["Forberedende",0,"S200108G","kvm",16.990821744015701,16.990821744015701,16.990821744015701,16.990821744015701,16.353052689139268,15.724089124172373,15.4006749502178,15.083912781800001,14.7736658,14.469799999999999,14.2,"2018-03-01","2017-03-01","Aftagning og afrensning af belægning","Rum 50 - 100 kvm.","","",null,0,null,""]
["Forberedende",0,"S200108H","kvm",16.117349921964188,16.117349921964188,16.117349921964188,16.117349921964188,15.512367586106052,14.915738063563511,14.608950111227729,14.308472195129999,14.01417453,13.72593,13.47,"2018-03-01","2017-03-01","Aftagning og afrensning af belægning","Rum over 100 kvm.","","",null,0,null,""]
["Forberedende",0,"S200109A","kvm",21.047081301213812,21.047081301213812,21.047081301213812,21.047081301213812,20.257056112814062,19.477938570013521,{"$f":"SUM(L68*$K$2+L68)","v":19.077314955938807},{"$f":"SUM(M68*$L$2+M68)","v":18.684931396609997},{"$f":"SUM(N68*$M$2+N68)","v":18.300618409999998},17.924209999999999,17.59,"2018-03-01","2017-03-01","Aftagning af ekstra lag belægning","Rum under 2 kvm.","","",null,0,null,""]
["Forberedende",0,"S200109B","kvm",{"$f":"SUM(F69*$E$2+F69)","v":15.794285001479382},{"$f":"SUM(G69*$F$2+G69)","v":15.794285001479382},{"$f":"SUM(H69*$G$2+H69)","v":15.794285001479382},{"$f":"SUM(I69*$H$2+I69)","v":15.794285001479382},{"$f":"SUM(J69*$I$2+J69)","v":15.201429260326643},{"$f":"SUM(K69*$J$2+K69)","v":14.616758904160234},14.316120376258798,14.021665402799998,13.733266799999999,{"$f":"SUM(O69*$N$2+O69)","v":13.450799999999999},13.2,"2018-03-01","2017-03-01","Aftagning af ekstra lag belægning","Rum 2 - 6 kvm.","","",null,0,null,""]
["Forberedende",0,"S200109C","kvm",13.999479887674907,13.999479887674907,13.999479887674907,13.999479887674907,13.473994117107706,12.955763574142026,12.6892885153203,12.4282943343,12.1726683,11.9223,11.7,"2018-03-01","2017-03-01","Aftagning af ekstra lag belægning","Rum 6 - 10 kvm.","","",null,0,null,""]
["Forberedende",0,"S200109D","kvm",12.647393368608869,12.647393368608869,12.647393368608869,12.647393368608869,12.172659642549441,11.704480425528308,11.463741846746629,11.22795479603,10.99701743,10.77083,10.57,"2018-03-01","2017-03-01","Aftagning af ekstra lag belægning","Rum 10 - 15 kvm.","","",null,0,null,""]
["Forberedende",0,"S200109E","kvm",11.594441035176914,11.594441035176914,11.594441035176914,11.594441035176914,11.159231025194334,10.730029831917628,10.509333821662711,10.293177102510001,10.08146631,9.8741099999999999,9.69,"2018-03-01","2017-03-01","Aftagning af ekstra lag belægning","Rum 15 - 30 kvm.","","",null,0,null,""]
["Forberedende",0,"S200109F","kvm",10.529523334319588,10.529523334319588,10.529523334319588,10.529523334319588,10.134286173551095,9.7445059361068225,9.5440802508391993,9.3477769351999989,9.1555111999999994,8.9672000000000001,8.8000000000000007,"2018-03-01","2017-03-01","Aftagning af ekstra lag belægning","Rum 30 - 50 kvm.","","",null,0,null,""]
["Forberedende",0,"S200109G","kvm",9.9671510653275188,9.9671510653275188,9.9671510653275188,9.9671510653275188,9.5930231620091622,9.2240607327011173,9.0343396010784698,8.8485206670699998,8.6665236700000001,8.48827,8.33,"2018-03-01","2017-03-01","Aftagning af ekstra lag belægning","Rum 50 - 100 kvm.","","",null,0,null,""]
["Forberedende",0,"S200109H","kvm",9.500501735738359,9.500501735738359,9.500501735738359,9.500501735738359,9.1438900247722419,8.7922019468963857,8.6113633172344617,8.4342441892600011,8.2607680600000002,8.0908600000000011,7.94,"2018-03-01","2017-03-01","Aftagning af ekstra lag belægning","Rum over 100 kvm.","","",null,0,null,""]
["Forberedende",0,"S200110A","kvm",57.565382683422207,57.565382683422207,57.565382683422207,57.565382683422207,55.40460316017537,53.27365688478401,52.177920553167496,51.104721403690007,50.053595890000004,49.024090000000001,48.11,"2018-03-01","2017-03-01","Aftagning af masonit, afrensning af søm","Rum under 2 kvm.","","",null,0,null,""]
["Forberedende",0,"S200110B","kvm",43.183011038135675,43.183011038135675,43.183011038135675,43.183011038135675,41.56208954584762,39.963547640238097,39.141574574180311,38.336507908110001,37.547999910000001,36.775710000000004,36.090000000000003,"2018-03-01","2017-03-01","Aftagning af masonit, afrensning af søm","Rum 2 - 6 kvm.","","",null,0,null,""]
["Forberedende",0,"S200110C","kvm",38.301141128587496,38.301141128587496,38.301141128587496,38.301141128587496,36.863465956292103,35.445640342588561,34.716591912427582,34.002538601789993,33.303171989999996,32.618189999999998,32.01,"2018-03-01","2017-03-01","Aftagning af masonit, afrensning af søm","Rum 6 - 10 kvm.","","",null,0,null,""]
["Forberedende",0,"S200110D","kvm",34.544015757023473,34.544015757023473,34.544015757023473,34.544015757023473,33.247368389820473,31.968623451750453,31.311090550196329,30.667081831729998,30.036319129999999,29.418530000000001,28.87,"2018-03-01","2017-03-01","Aftagning af masonit, afrensning af søm","Rum 10 - 15 kvm.","","",null,0,null,""]
["Forberedende",0,"S200110E","kvm",31.63643147266022,31.63643147266022,31.63643147266022,31.63643147266022,30.448923457805794,29.277811017120957,28.67562293547596,28.085820700759999,27.50814956,26.942360000000001,26.44,"2018-03-01","2017-03-01","Aftagning af masonit, afrensning af søm","Rum 15 - 30 kvm.","","",null,0,null,""]
["Forberedende",0,"S200110F","kvm",28.752777923147697,28.752777923147697,28.752777923147697,28.752777923147697,27.673510994367369,26.609145186891702,26.061846412234772,25.525804517370002,25.000787970000001,24.48657,24.03,"2018-03-01","2017-03-01","Aftagning af masonit, afrensning af søm","Rum 30 - 50 kvm.","","",null,0,null,""]
["Forberedende",0,"S200110G","kvm",27.340864566954846,27.340864566954846,27.340864566954846,27.340864566954846,26.314595348368474,25.302495527277379,24.782072014963152,24.272352610150001,23.773117150000001,23.28415,22.85,"2018-03-01","2017-03-01","Aftagning af masonit, afrensning af søm","Rum 50 - 100 kvm.","","",null,0,null,""]
["Forberedende",0,"S200110H","kvm",25.893055108485896,25.893055108485896,25.893055108485896,25.893055108485896,24.921130999505195,23.962625961062688,23.46976098047276,22.987033281559999,22.51423436,22.051159999999999,21.64,"2018-03-01","2017-03-01","Aftagning af masonit, afrensning af søm","Rum over 100 kvm.","","",null,0,null,""]
["Underlag",0,"S200111A","kvm",23.607669930241535,23.607669930241535,23.607669930241535,23.607669930241535,22.721530250473084,21.847625240839502,21.398261744211069,20.958140787670001,20.527072270000001,20.104870000000002,19.73,"2018-03-01","2017-03-01","Korkment, lægni..+klæbn..+ inkl. div. Udskær..","Rum under 2 kvm.","","",null,0,null,""]
["Underlag",0,"S200111B","kvm",17.469436441030229,17.469436441030229,17.469436441030229,17.469436441030229,16.813702060664319,16.167021212177229,15.8344967798014,15.5088117334,15.1898254,14.8774,14.6,"2018-03-01","2017-03-01","Korkment, lægni..+klæbn..+ inkl. div. Udskær..","Rum 2 - 6 kvm.","","",null,0,null,""]
["Underlag",0,"S200111C","kvm",14.53792142181625,14.53792142181625,14.53792142181625,14.53792142181625,13.992224660073388,13.454062173147488,13.177338073601849,12.90630565485,12.64084785,12.380850000000001,12.15,"2018-03-01","2017-03-01","Korkment, lægni..+klæbn..+ inkl. div. Udskær..","Rum 6 - 10 kvm.","","",null,0,null,""]
["Underlag",0,"S200111D","kvm",12.874735349690768,12.874735349690768,12.874735349690768,12.874735349690768,12.391468094023839,11.914873167330615,11.669807215798839,11.429781798039999,11.194693239999999,10.96444,10.76,"2018-03-01","2017-03-01","Korkment, lægni..+klæbn..+ inkl. div. Udskær..","Rum 10 - 15 kvm.","","",null,0,null,""]
["Underlag",0,"S200111E","kvm",11.486752728348639,11.486752728348639,11.486752728348639,11.486752728348639,11.055584916601193,10.630370112116532,10.411723910006398,10.197574838399998,9.9878303999999982,9.7823999999999991,9.6,"2018-03-01","2017-03-01","Korkment, lægni..+klæbn..+ inkl. div. Udskær..","Rum 15 - 30 kvm.","","",null,0,null,""]
["Underlag",0,"S200111F","kvm",10.122700841857244,10.122700841857244,10.122700841857244,10.122700841857244,9.7427342077548058,9.3680136613026974,9.1753316956931421,8.9866128263400018,8.8017755400000013,8.6207400000000014,8.4600000000000009,"2018-03-01","2017-03-01","Korkment, lægni..+klæbn..+ inkl. div. Udskær..","Rum 30 - 50 kvm.","","",null,0,null,""]
["Underlag",0,"S200111G","kvm",9.6201554099919893,9.6201554099919893,9.6201554099919893,9.6201554099919893,9.2590523676535028,8.9029349688975987,8.7198187746303617,8.5404689271600009,8.3648079600000003,8.1927599999999998,8.0399999999999991,"2018-03-01","2017-03-01","Korkment, lægni..+klæbn..+ inkl. div. Udskær..","Rum 50 - 100 kvm.","","",null,0,null,""]
["Underlag",0,"S200111H","kvm",8.5313069742839396,8.5313069742839396,8.5313069742839396,8.5313069742839396,8.2110750474340133,7.895264468686551,7.7328741123276696,7.5738238122699997,7.4180448699999992,7.2654699999999997,7.13,"2018-03-01","2017-03-01","Korkment, lægni..+klæbn..+ inkl. div. Udskær..","Rum over 100 kvm.","","",null,0,null,""]
["Underlag",0,"S200112A","kvm",2.1657315039907337,2.1657315039907337,2.1657315039907337,2.1657315039907337,2.0844384061508503,2.0042676982219714,1.9630437788657897,1.9226677559899998,1.8831221899999999,1.84439,1.81,"2018-03-01","2017-03-01","Opskæring af Korkment","Rum under 2 kvm (20% tillæg)","","",null,0,null,""]
["Underlag",0,"S200112B","kvm",1.687116806976207,1.687116806976207,1.687116806976207,1.687116806976207,1.6237890346258008,1.5613356102171161,1.5292219492821901,1.4977688043900002,1.4669625900000001,1.43679,1.41,"2018-03-01","2017-03-01","Opskæring af Korkment","Rum 2 - 6 kvm (20% tillæg)","","",null,0,null,""]
["Underlag",0,"S200112C","kvm",1.4956709281703964,1.4956709281703964,1.4956709281703964,1.4956709281703964,1.4395292860157809,1.3841627750151739,1.3556932174487502,1.3278092237500001,1.30049875,1.2737499999999999,1.25,"2018-03-01","2017-03-01","Opskæring af Korkment","Rum 6 - 10 kvm (20% tillæg)","","",null,0,null,""]
["Underlag",0,"S200112D","kvm",1.340121151640675,1.340121151640675,1.340121151640675,1.340121151640675,1.2898182402701395,1.2402098464135956,1.2147011228340798,1.1897170644799999,1.16524688,1.1412800000000001,1.1200000000000001,"2018-03-01","2017-03-01","Opskæring af Korkment","Rum 10 - 15 kvm (20% tillæg)","","",null,0,null,""]
["Underlag",0,"S200112E","kvm",1.2563635796631327,1.2563635796631327,1.2563635796631327,1.2563635796631327,1.2092046002532557,1.1626967310127458,1.1387823026569499,1.1153597479499999,1.0924189499999999,1.06995,1.05,"2018-03-01","2017-03-01","Opskæring af Korkment","Rum 15 - 30 kvm (20% tillæg)","","",null,0,null,""]
["Underlag",0,"S200112F","kvm",1.0888484357080486,1.0888484357080486,1.0888484357080486,1.0888484357080486,1.0479773202194884,1.0076705002110466,0.98694466230269007,0.96664511489000005,0.94676309000000003,0.92729000000000006,0.91,"2018-03-01","2017-03-01","Opskæring af Korkment","Rum 30 - 50 kvm (20% tillæg)","","",null,0,null,""]
["Underlag",0,"S200112G","kvm",1.0888484357080486,1.0888484357080486,1.0888484357080486,1.0888484357080486,1.0479773202194884,1.0076705002110466,0.98694466230269007,0.96664511489000005,0.94676309000000003,0.92729000000000006,0.91,"2018-03-01","2017-03-01","Opskæring af Korkment","Rum 50 - 100 kvm (20% tillæg)","","",null,0,null,""]
["Underlag",0,"S200112H","kvm",0.9572293940290536,0.9572293940290536,0.9572293940290536,0.9572293940290536,0.92129874305009973,0.88586417600971123,0.86764365916719999,0.84979790320000004,0.83231920000000004,0.81520000000000004,0.8,"2018-03-01","2017-03-01","Opskæring af Korkment","Rum over 100 kvm (20% tillæg)","","",null,0,null,""]
["Underlag",0,"S200113A","kvm",59.587529778308578,59.587529778308578,59.587529778308578,59.587529778308578,57.350846754868698,55.145044956604515,54.010817783158195,52.899919474199997,51.811870199999994,50.746199999999995,49.8,"2018-03-01","2017-03-01","Træfiberplader, inkl. maskinsømni.., inkl. div udskær..","Rum under 2 kvm.","","",null,0,null,""]
["Underlag",0,"S200113B","kvm",45.384638644402486,45.384638644402486,45.384638644402486,45.384638644402486,43.681076654862835,42.001035245060422,41.137154990264861,40.291043085469994,39.462334069999997,38.650669999999998,37.93,"2018-03-01","2017-03-01","Træfiberplader, inkl. maskinsømni.., inkl. div udskær..","Rum 2 - 6 kvm.","","",null,0,null,""]
["Underlag",0,"S200113C","kvm",37.164431223178013,37.164431223178013,37.164431223178013,37.164431223178013,35.769423698920129,34.393676633577044,33.686265067166545,32.993403591740005,32.314792940000004,31.65014,31.06,"2018-03-01","2017-03-01","Træfiberplader, inkl. maskinsømni.., inkl. div udskær..","Rum 6 - 10 kvm.","","",null,0,null,""]
["Underlag",0,"S200113D","kvm",29.889487828557201,29.889487828557201,29.889487828557201,29.889487828557201,28.767553251739365,27.661108895903237,27.092173257495823,26.534939527420004,25.989167020000004,25.454620000000002,24.98,"2018-03-01","2017-03-01","Træfiberplader, inkl. maskinsømni.., inkl. div udskær..","Rum 10 - 15 kvm.","","",null,0,null,""]
["Underlag",0,"S200113E","kvm",25.905020475911257,25.905020475911257,25.905020475911257,25.905020475911257,24.932647233793318,23.973699263262805,23.480606526212345,22.997655755349996,22.524638349999996,22.061349999999997,21.65,"2018-03-01","2017-03-01","Træfiberplader, inkl. maskinsømni.., inkl. div udskær..","Rum 15 - 30 kvm.","","",null,0,null,""]
["Underlag",0,"S200113F","kvm",21.609453570205883,21.609453570205883,21.609453570205883,21.609453570205883,20.798319124355999,19.998383773419228,19.587055605699536,19.184187664739998,18.789605939999998,18.403139999999997,18.059999999999999,"2018-03-01","2017-03-01","Træfiberplader, inkl. maskinsømni.., inkl. div udskær..","Rum 30 - 50 kvm.","","",null,0,null,""]
["Underlag",0,"S200113G","kvm",19.168518615431797,19.168518615431797,19.168518615431797,19.168518615431797,18.449007329578244,17.739430124594467,17.374564274823179,17.017203011579998,16.667191979999998,16.324379999999998,16.02,"2018-03-01","2017-03-01","Træfiberplader, inkl. maskinsømni.., inkl. div udskær..","Rum 50 - 100 kvm.","","",null,0,null,""]
["Underlag",0,"S200113H","kvm",17.852328198641846,17.852328198641846,17.852328198641846,17.852328198641846,17.182221557884358,16.521366882581113,16.18155424346828,15.848730894680001,15.522753080000001,15.203480000000001,14.92,"2018-03-01","2017-03-01","Træfiberplader, inkl. maskinsømni.., inkl. div udskær..","Rum over 100 kvm.","","",null,0,null,""]
["Underlag",0,"S200114A","kvm",48.830664462907095,48.830664462907095,48.830664462907095,48.830664462907095,46.997752129843207,45.190146278695394,44.26067216326679,43.350315536990003,42.458683190000002,41.585390000000004,40.81,"2018-03-01","2017-03-01","Svømmende fiberplader - under 12mm","Rum under 2 kvm, inkl. limning og div. tillæg.","","",null,0,null,""]
["Underlag",0,"S200114B","kvm",39.473747136273104,39.473747136273104,39.473747136273104,39.473747136273104,37.99205691652849,36.530823958200472,35.779455394907416,35.043541033210005,34.322763010000003,33.616810000000001,32.99,"2018-03-01","2017-03-01","Svømmende fiberplader - under 12mm","Rum 2 - 6 kvm, inkl. limning og div. tillæg.","","",null,0,null,""]
["Underlag",0,"S200114C","kvm",32.988517991726262,32.988517991726262,32.988517991726262,32.988517991726262,31.750257932364061,30.529094165734673,29.901169604049631,29.28616023903,28.683800430000002,28.093830000000001,27.57,"2018-03-01","2017-03-01","Svømmende fiberplader - under 12mm","Rum 6 - 10 kvm, inkl. limning og div. tillæg.","","",null,0,null,""]
["Underlag",0,"S200114D","kvm",27.29300309725339,27.29300309725339,27.29300309725339,27.29300309725339,26.268530411215966,25.25820231847689,24.738689832004788,24.229862714989999,23.731501189999999,23.243389999999998,22.81,"2018-03-01","2017-03-01","Svømmende fiberplader - under 12mm","Rum 10 - 15 kvm, inkl. limning og div. tillæg.","","",null,0,null,""]
["Underlag",0,"S200114E","kvm",24.732414468225674,24.732414468225674,24.732414468225674,24.732414468225674,23.804056273556952,22.888515647650916,22.417743043732532,21.956653323930002,21.505047330000004,21.062730000000002,20.67,"2018-03-01","2017-03-01","Svømmende fiberplader - under 12mm","Rum 15 - 30 kvm, inkl. limning og div. tillæg.","","",null,0,null,""]
["Underlag",0,"S200114F","kvm",22.13592973692187,22.13592973692187,22.13592973692187,22.13592973692187,21.305033433033561,20.485609070224577,20.064259618241504,19.651576511500004,19.247381500000003,18.851500000000001,18.5,"2018-03-01","2017-03-01","Svømmende fiberplader - under 12mm","Rum 30 - 50 kvm, inkl. limning og div. tillæg.","","",null,0,null,""]
["Underlag",0,"S200114G","kvm",20.424882195094931,20.424882195094931,20.424882195094931,20.424882195094931,19.658211929831502,18.902126855607214,18.513346577480132,18.13256275953,17.759610930000001,17.39433,17.07,"2018-03-01","2017-03-01","Svømmende fiberplader - under 12mm","Rum 50 - 100 kvm, inkl. limning og div. tillæg.","","",null,0,null,""]
["Underlag",0,"S200114H","kvm",18.977072736625985,18.977072736625985,18.977072736625985,18.977072736625985,18.264747580968223,17.562257289392523,17.201035542989739,16.847243430940001,16.50072814,16.161339999999999,15.86,"2018-03-01","2017-03-01","Svømmende fiberplader - under 12mm","Rum over 100 kvm, inkl. limning og div. tillæg.","","",null,0,null,""]
["Underlag",0,"S200115A","kvm",62.650663839201549,62.650663839201549,62.650663839201549,62.650663839201549,60.29900273262902,57.979810319835593,56.787277492493239,55.619272764439998,54.475291639999995,53.354839999999996,52.36,"2018-03-01","2017-03-01","Svømmende fiberplader - 12-25mm","Rum under 2 kvm, inkl. limning og div. tillæg.","","",null,0,null,""]
["Underlag",0,"S200115B","kvm",50.804950088092014,50.804950088092014,50.804950088092014,50.804950088092014,48.897930787384034,47.017241141715417,46.050187210299136,45.103023712339997,44.175341539999998,43.266739999999999,42.46,"2018-03-01","2017-03-01","Svømmende fiberplader - 12-25mm","Rum 2 - 6 kvm,  inkl. limning og div. tillæg.","","",null,0,null,""]
["Underlag",0,"S200115C","kvm",43.230872507837134,43.230872507837134,43.230872507837134,43.230872507837134,41.608154483000128,40.007840849038587,39.184956757138671,38.378997803270003,37.589615870000003,36.816470000000002,36.130000000000003,"2018-03-01","2017-03-01","Svømmende fiberplader - 12-25mm","Rum 6 - 10 kvm, inkl. limning og div. tillæg.","","",null,0,null,""]
["Underlag",0,"S200115D","kvm",36.901193139820016,36.901193139820016,36.901193139820016,36.901193139820016,35.516066544581342,34.15006398517437,33.447663060895565,32.759709168360004,32.085905160000003,31.42596,30.84,"2018-03-01","2017-03-01","Svømmende fiberplader - 12-25mm","Rum 10 - 15 kvm, inkl. limning og div. tillæg.","","",null,0,null,""]
["Underlag",0,"S200115E","kvm",33.957712753180672,33.957712753180672,33.957712753180672,33.957712753180672,32.683072909702283,31.426031643944505,30.77965880895642,30.14658061602,29.526523619999999,28.919219999999999,28.38,"2018-03-01","2017-03-01","Svømmende fiberplader - 12-25mm","Rum 15 - 30 kvm, inkl. limning og div. tillæg.","","",null,0,null,""]
["Underlag",0,"S200115F","kvm",30.96637089683988,30.96637089683988,30.96637089683988,30.96637089683988,29.804014337670722,28.657706093914157,28.068272374058921,27.490962168519999,26.925526120000001,26.37172,25.88,"2018-03-01","2017-03-01","Svømmende fiberplader - 12-25mm","Rum 30 - 50 kvm, inkl. limning og div. tillæg.","","",null,0,null,""]
["Underlag",0,"S200115G","kvm",29.219427252736857,29.219427252736857,29.219427252736857,29.219427252736857,28.122644131604289,27.041003972696434,26.48482269607878,25.940080995180001,25.406543580000001,24.883980000000001,24.42,"2018-03-01","2017-03-01","Svømmende fiberplader - 12-25mm","Rum 50 -100 kvm, inkl. limning og div. tillæg.","","",null,0,null,""]
["Underlag",0,"S200115H","kvm",27.927167570797632,27.927167570797632,27.927167570797632,27.927167570797632,26.878890828486654,25.845087335083321,25.313503756203055,24.792853825859996,24.282912659999997,23.783459999999998,23.34,"2018-03-01","2017-03-01","Svømmende fiberplader - 12-25mm","Rum over 100 kvm, inkl. limning og div. tillæg.","","",null,0,null,""]
["Underlag",0,"S200116A","kvm",3.4579911859299557,3.4579911859299557,3.4579911859299557,3.4579911859299557,3.3281917092684847,3.2001843358350817,3.1343627187415097,3.0698949253099999,3.00675311,2.9449100000000001,2.89,"2018-03-01","2017-03-01","Plastfolie udlagt","Rum under 2 kvm.","","",null,0,null,""]
["Underlag",0,"S200116B","kvm",2.8836535495125242,2.8836535495125242,2.8836535495125242,2.8836535495125242,2.7754124634384256,2.6686658302292554,2.6137765232411905,2.5600161833900006,2.5073615900000004,2.4557900000000004,2.41,"2018-03-01","2017-03-01","Plastfolie udlagt","Rum 2 - 6 kvm.","","",null,0,null,""]
["Underlag",0,"S200116C","kvm",2.608450098729171,2.608450098729171,2.608450098729171,2.608450098729171,2.5105390748115215,2.4139798796264631,2.3643289712306199,2.3156992862200001,2.26806982,2.2214200000000002,2.1800000000000002,"2018-03-01","2017-03-01","Plastfolie udlagt","Rum 6 - 10 kvm.","","",null,0,null,""]
["Underlag",0,"S200116D","kvm",2.1059046668639181,2.1059046668639181,2.1059046668639181,2.1059046668639181,2.0268572347102194,1.9489011872213646,1.90881605016784,1.8695553870399999,1.8311022399999999,1.7934399999999999,1.76,"2018-03-01","2017-03-01","Plastfolie udlagt","Rum 10 - 15 kvm.","","",null,0,null,""]
["Underlag",0,"S200116E","kvm",1.9623202577595598,1.9623202577595598,1.9623202577595598,1.9623202577595598,1.8886624232527043,1.816021560819908,1.77866950129276,1.74208570156,1.70625436,1.67116,1.64,"2018-03-01","2017-03-01","Plastfolie udlagt","Rum 15 - 30 kvm.","","",null,0,null,""]
["Underlag",0,"S200116F","kvm",1.7230129092522963,1.7230129092522963,1.7230129092522963,1.7230129092522963,1.6583377374901793,1.5945555168174801,1.56175858650096,1.52963622576,1.49817456,1.46736,1.44,"2018-03-01","2017-03-01","Plastfolie udlagt","Rum 30 - 50 kvm.","","",null,0,null,""]
["Underlag",0,"S200116G","kvm",1.7230129092522963,1.7230129092522963,1.7230129092522963,1.7230129092522963,1.6583377374901793,1.5945555168174801,1.56175858650096,1.52963622576,1.49817456,1.46736,1.44,"2018-03-01","2017-03-01","Plastfolie udlagt","Rum 50 - 100 kvm.","","",null,0,null,""]
["Underlag",0,"S200116H","kvm",1.5794285001479387,1.5794285001479387,1.5794285001479387,1.5794285001479387,1.5201429260326647,1.4616758904160236,1.4316120376258801,1.4021665402800001,1.3733266800000001,1.3450800000000001,1.32,"2018-03-01","2017-03-01","Plastfolie udlagt","Rum over 100 kvm.","","",null,0,null,""]
["Underlag",0,"S200117A","kvm",4.9895582163764418,4.9895582163764418,4.9895582163764418,4.9895582163764418,4.8022696981486446,4.6175670174506198,{"$f":"SUM(L132*$K$2+L132)","v":4.52259257340903},{"$f":"SUM(M132*$L$2+M132)","v":4.4295715704300003},{"$f":"SUM(N132*$M$2+N132)","v":4.3384638300000002},4.2492299999999998,4.17,"2018-03-01","2017-03-01","Korkparkolag, alm. tilskær.. er indeholdt","Rum under 2 kvm.","","",null,0,null,""]
["Underlag",0,"S200117B","kvm",{"$f":"SUM(F133*$E$2+F133)","v":3.7451600041386715},{"$f":"SUM(G133*$F$2+G133)","v":3.7451600041386715},{"$f":"SUM(H133*$G$2+H133)","v":3.7451600041386715},{"$f":"SUM(I133*$H$2+I133)","v":3.7451600041386715},{"$f":"SUM(J133*$I$2+J133)","v":3.6045813321835145},{"$f":"SUM(K133*$J$2+K133)","v":3.4659435886379946},3.3946558164916696,3.3248342962699997,3.2564488699999998,{"$f":"SUM(O133*$N$2+O133)","v":3.18947},3.13,"2018-03-01","2017-03-01","Korkparkolag, alm. tilskær.. er indeholdt","Rum 2 - 6 kvm.","","",null,0,null,""]
["Underlag",0,"S200117C","kvm",3.3383375116763245,3.3383375116763245,3.3383375116763245,3.3383375116763245,3.2130293663872229,3.0894513138338682,3.0259072613456102,2.96367018741,2.9027132099999999,2.84301,2.79,"2018-03-01","2017-03-01","Korkparkolag, alm. tilskær.. er indeholdt","Rum 6 - 10 kvm.","","",null,0,null,""]
["Underlag",0,"S200117D","kvm",2.9434803866393398,2.9434803866393398,2.9434803866393398,2.9434803866393398,2.8329936348790565,2.7240323412298619,2.66800425193914,2.6131285523400001,2.55938154,2.5067399999999997,2.46,"2018-03-01","2017-03-01","Korkparkolag, alm. tilskær.. er indeholdt","Rum 10 - 15 kvm.","","",null,0,null,""]
["Underlag",0,"S200117E","kvm",2.7400691404081656,2.7400691404081656,2.7400691404081656,2.7400691404081656,2.6372176519809103,2.5357862038277985,2.4836299743661101,2.4325464979100002,2.38251371,2.33351,2.29,"2018-03-01","2017-03-01","Korkparkolag, alm. tilskær.. er indeholdt","Rum 15 - 30 kvm.","","",null,0,null,""]
["Underlag",0,"S200117F","kvm",2.4170042199233603,2.4170042199233603,2.4170042199233603,2.4170042199233603,2.3262793262015018,2.2368070444245212,2.1908002393971802,2.14573970558,2.10160598,2.0583800000000001,2.02,"2018-03-01","2017-03-01","Korkparkolag, alm. tilskær.. er indeholdt","Rum 30 - 50 kvm.","","",null,0,null,""]
["Underlag",0,"S200117G","kvm",2.4170042199233603,2.4170042199233603,2.4170042199233603,2.4170042199233603,2.3262793262015018,2.2368070444245212,2.1908002393971802,2.14573970558,2.10160598,2.0583800000000001,2.02,"2018-03-01","2017-03-01","Korkparkolag, alm. tilskær.. er indeholdt","Rum 50 - 100 kvm.","","",null,0,null,""]
["Underlag",0,"S200117H","kvm",2.1537661365653706,2.1537661365653706,2.1537661365653706,2.1537661365653706,2.0729221718627242,1.9931943960218501,1.9521982331262,1.9120452822,1.8727182,1.8342000000000001,1.8,"2018-03-01","2017-03-01","Korkparkolag, alm. tilskær.. er indeholdt","Rum over 100 kvm.","","",null,0,null,""]
["Underlag",0,"S200118A","kvm",7.6219390499563389,7.6219390499563389,7.6219390499563389,7.6219390499563389,7.3358412415364187,7.0536935014773254,6.9086126361188303,6.76651580423,6.6273416300000001,6.4910300000000003,6.37,"2018-03-01","2017-03-01","Dampspærre udlagt, bredde t.o.m. 100 cm","Rum under 2 kvm. Damspærre m/alufolie, bredde 100 cm, limede samlinger, almindelig tilskæring er indeholdt","","",null,0,null,""]
["Underlag",0,"S200118B","kvm",6.401471572569295,6.401471572569295,6.401471572569295,6.401471572569295,6.1611853441475413,5.9242166770649431,5.8023669706806498,5.6830234776499999,5.5661346499999995,5.4516499999999999,5.35,"2018-03-01","2017-03-01","Dampspærre udlagt, bredde t.o.m. 100 cm","Rum 2 - 6 kvm. Damspærre m/alufolie, bredde 100 cm, limede samlinger, almindelig tilskæring er indeholdt","","",null,0,null,""]
["Underlag",0,"S200118C","kvm",5.7074802618982314,5.7074802618982314,5.7074802618982314,5.7074802618982314,5.493243755436219,5.2819651494579025,5.1733253177844292,5.0669199978299995,4.9627032299999998,4.8606299999999996,4.7699999999999996,"2018-03-01","2017-03-01","Dampspærre udlagt, bredde t.o.m. 100 cm","Rum 6 - 10 kvm. Damspærre m/alufolie, bredde 100 cm, limede samlinger, almindelig tilskæring er indeholdt","","",null,0,null,""]
["Underlag",0,"S200118D","kvm",4.7143547655930895,4.7143547655930895,4.7143547655930895,4.7143547655930895,4.5373963095217418,4.3628810668478284,4.2731450213984603,4.1852546732600002,4.0991720599999999,4.0148599999999997,3.94,"2018-03-01","2017-03-01","Dampspærre udlagt, bredde t.o.m. 100 cm","Rum 10 - 15 kvm. Damspærre m/alufolie, bredde 100 cm, limede samlinger, almindelig tilskæring er indeholdt","","",null,0,null,""]
["Underlag",0,"S200118E","kvm",4.3194976405561043,4.3194976405561043,4.3194976405561043,4.3194976405561043,4.1573605780135745,3.9974620942438217,3.9152420119919897,3.8347130381899999,3.7558403899999999,3.6785899999999998,3.61,"2018-03-01","2017-03-01","Dampspærre udlagt, bredde t.o.m. 100 cm","Rum 15 - 30 kvm. Damspærre m/alufolie, bredde 100 cm, limede samlinger, almindelig tilskæring er indeholdt","","",null,0,null,""]
["Underlag",0,"S200118F","kvm",3.876779045817667,3.876779045817667,3.876779045817667,3.876779045817667,3.7312599093529037,3.5877499128393304,3.5139568196271602,3.4416815079600003,3.3708927600000003,3.3015600000000003,3.24,"2018-03-01","2017-03-01","Dampspærre udlagt, bredde t.o.m. 100 cm","Rum 30 - 50 kvm. Damspærre m/alufolie, bredde 100 cm, limede samlinger, almindelig tilskæring er indeholdt","","",null,0,null,""]
["Underlag",0,"S200118G","kvm",3.876779045817667,3.876779045817667,3.876779045817667,3.876779045817667,3.7312599093529037,3.5877499128393304,3.5139568196271602,3.4416815079600003,3.3708927600000003,3.3015600000000003,3.24,"2018-03-01","2017-03-01","Dampspærre udlagt, bredde t.o.m. 100 cm","Rum 50 -100 kvm. Damspærre m/alufolie, bredde 100 cm, limede samlinger, almindelig tilskæring er indeholdt","","",null,0,null,""]
["Underlag",0,"S200118H","kvm",3.5178180230567722,3.5178180230567722,3.5178180230567722,3.5178180230567722,3.3857728807091165,3.2555508468356891,3.1885904474394602,3.1230072942600002,3.05877306,2.99586,2.94,"2018-03-01","2017-03-01","Dampspærre udlagt, bredde t.o.m. 100 cm","Rum over 100 kvm. Damspærre m/alufolie, bredde 100 cm, limede samlinger, almindelig tilskæring er indeholdt","","",null,0,null,""]
["Underlag",0,"S200119A","kvm",11.115826338162384,11.115826338162384,11.115826338162384,11.115826338162384,10.698581653669281,10.287097743912771,10.075511992079109,9.8682781509099993,9.6653067099999994,9.4665099999999995,9.2899999999999991,"2018-03-01","2017-03-01","Polystyrolplader t.om. 100 mm udlagt","Rum under 2 kvm. Polystyrolplader og lign. under 100 mm, almindelig tilskæring er indeholdt","","",null,0,null,""]
["Underlag",0,"S200119B","kvm",8.2919996257766755,8.2919996257766755,8.2919996257766755,8.2919996257766755,7.980750361671487,7.6737984246841222,7.5159631975358687,7.3613743364699991,7.2099650699999991,7.0616699999999994,6.93,"2018-03-01","2017-03-01","Polystyrolplader t.om. 100 mm udlagt","Rum 2 - 6 kvm. Polystyrolplader og lign. under 100 mm, almindelig tilskæring er indeholdt","","",null,0,null,""]
["Underlag",0,"S200119C","kvm",7.3826317014490748,7.3826317014490748,7.3826317014490748,7.3826317014490748,7.1055165557738933,6.8322274574748976,6.6917017213270302,6.5540663284300003,6.4192618299999999,6.2872300000000001,6.17,"2018-03-01","2017-03-01","Polystyrolplader t.om. 100 mm udlagt","Rum 6 - 10 kvm. Polystyrolplader og lign. under 100 mm, almindelig tilskæring er indeholdt","","",null,0,null,""]
["Underlag",0,"S200119D","kvm",6.6048828188004682,6.6048828188004682,6.6048828188004682,6.6048828188004682,6.3569613270456866,6.1124628144670066,5.9867412482536793,5.8636055320799993,5.7430024799999995,5.6248799999999992,5.52,"2018-03-01","2017-03-01","Polystyrolplader t.om. 100 mm udlagt","Rum 10 - 15 kvm. Polystyrolplader og lign. under 100 mm, almindelig tilskæring er indeholdt","","",null,0,null,""]
["Underlag",0,"S200119E","kvm",6.1262681217859427,6.1262681217859427,6.1262681217859427,6.1262681217859427,5.8963119555206376,5.6695307264621517,5.5529194186700801,5.4387065804799999,5.3268428800000001,5.2172799999999997,5.12,"2018-03-01","2017-03-01","Polystyrolplader t.om. 100 mm udlagt","Rum 15 - 30 kvm. Polystyrolplader og lign. under 100 mm, almindelig tilskæring er indeholdt","","",null,0,null,""]
["Underlag",0,"S200119F","kvm",5.5758612202192381,5.5758612202192381,5.5758612202192381,5.5758612202192381,5.366565178266832,5.1601588252565689,5.0540243146489408,4.9500727861400007,4.8482593400000003,4.7485400000000002,4.66,"2018-03-01","2017-03-01","Polystyrolplader t.om. 100 mm udlagt","Rum 30 - 50 kvm. Polystyrolplader og lign. under 100 mm, almindelig tilskæring er indeholdt","","",null,0,null,""]
["Underlag",0,"S200119G","kvm",5.5758612202192381,5.5758612202192381,5.5758612202192381,5.5758612202192381,5.366565178266832,5.1601588252565689,5.0540243146489408,4.9500727861400007,4.8482593400000003,4.7485400000000002,4.66,"2018-03-01","2017-03-01","Polystyrolplader t.om. 100 mm udlagt","Rum 50 -100 kvm. Polystyrolplader og lign. under 100 mm, almindelig tilskæring er indeholdt","","",null,0,null,""]
["Underlag",0,"S200119H","kvm",5.0254543186525309,5.0254543186525309,5.0254543186525309,5.0254543186525309,4.8368184010130229,4.6507869240509834,4.5551292106277996,4.4614389917999997,4.3696757999999996,4.2797999999999998,4.2,"2018-03-01","2017-03-01","Polystyrolplader t.om. 100 mm udlagt","Rum over 100 kvm. Polystyrolplader og lign. under 100 mm, almindelig tilskæring er indeholdt","","",null,0,null,""]
["Belægning",0,"S200120A","kvm",63.883096684013957,63.883096684013957,63.883096684013957,63.883096684013957,61.485174864306025,59.120360446448103,57.904368703671011,56.713387564809999,55.546902609999997,54.404409999999999,53.39,"2018-03-01","2017-03-01","Lægning af luvtæpper og nålefilt","Rum under 2 kvm. Luvtæppe og nålefilt, lægning, klæbning, almindelig tilskæring, div. tillæg","","",null,0,null,""]
["Belægning",0,"S200120B","kvm",43.530006693471222,43.530006693471222,43.530006693471222,43.530006693471222,41.896060340203292,40.284673404041627,39.456095400628428,38.644559648020007,37.849715620000005,37.071220000000004,36.380000000000003,"2018-03-01","2017-03-01","Lægning af luvtæpper og nålefilt","Rum 2 - 6 kvm. Luvtæppe og nålefilt, lægning, klæbning, almindelig tilskæring, div. Tillæg","","",null,0,null,""]
["Belægning",0,"S200120C","kvm",32.988517991726262,32.988517991726262,32.988517991726262,32.988517991726262,31.750257932364061,30.529094165734673,29.901169604049631,29.28616023903,28.683800430000002,28.093830000000001,27.57,"2018-03-01","2017-03-01","Lægning af luvtæpper og nålefilt","Rum 6 - 10 kvm. Luvtæppe og nålefilt, lægning, klæbning, almindelig tilskæring, div. Tillæg","","",null,0,null,""]
["Belægning",0,"S200120D","kvm",25.151202328113385,25.151202328113385,25.151202328113385,25.151202328113385,24.207124473641372,23.276081224655165,22.797337144618183,22.328439906580002,21.869186980000002,21.41938,21.02,"2018-03-01","2017-03-01","Lægning af luvtæpper og nålefilt","Rum 10 - 15 kvm. Luvtæppe og nålefilt, lægning, klæbning, almindelig tilskæring, div. Tillæg","","",null,0,null,""]
["Belægning",0,"S200120E","kvm",21.860726286138508,21.860726286138508,21.860726286138508,21.860726286138508,21.040160044406647,20.230923119621778,19.814812066230928,19.407259614329998,19.008089729999998,18.61713,18.27,"2018-03-01","2017-03-01","Lægning af luvtæpper og nålefilt","Rum 15 - 30 kvm. Luvtæppe og nålefilt, lægning, klæbning, almindelig tilskæring, div. Tillæg","","",null,0,null,""]
["Belægning",0,"S200120F","kvm",18.61811171386509,18.61811171386509,18.61811171386509,18.61811171386509,17.919260552324438,17.230058223388884,16.875669170802041,16.528569217240001,16.188608439999999,15.855640000000001,15.56,"2018-03-01","2017-03-01","Lægning af luvtæpper og nålefilt","Rum 30 - 50 kvm. Luvtæppe og nålefilt, lægning, klæbning, almindelig tilskæring, div. Tillæg","","",null,0,null,""]
["Belægning",0,"S200120G","kvm",15.686596694651113,15.686596694651113,15.686596694651113,15.686596694651113,15.097783151733507,14.517099184359141,14.218510464602488,13.926063138689999,13.639630889999999,13.35909,13.11,"2018-03-01","2017-03-01","Lægning af luvtæpper og nålefilt","Rum 50 - 100 kvm. Luvtæppe og nålefilt, lægning, klæbning, almindelig tilskæring, div. Tillæg","","",null,0,null,""]
["Belægning",0,"S200120H","kvm",14.143064296779267,14.143064296779267,14.143064296779267,14.143064296779267,13.612188928565223,13.088643200543483,12.81943506419538,12.55576401978,12.297516180000001,12.04458,11.82,"2018-03-01","2017-03-01","Lægning af luvtæpper og nålefilt","Rum over 100 kvm. Luvtæppe og nålefilt, lægning, klæbning, almindelig tilskæring, div. Tillæg","","",null,0,null,""]
["Belægning",0,"S200121A","kvm",7.0715321483896334,7.0715321483896334,7.0715321483896334,7.0715321483896334,6.8060944642826113,6.5443216002717417,6.40971753209769,6.2778820098899999,6.1487580900000003,6.0222899999999999,5.91,"2018-03-01","2017-03-01","Opskæring af nålefilt og Luvtæpper (20%) pr kvm","Rum under 2 kvm (20% tillæg)","","",null,0,null,""]
["Belægning",0,"S200121B","kvm",4.3793244776829194,4.3793244776829194,4.3793244776829194,4.3793244776829194,4.2149417494542059,4.0528286052444287,3.9694697406899397,3.8878254071399998,3.80786034,3.7295400000000001,3.66,"2018-03-01","2017-03-01","Opskæring af nålefilt og Luvtæpper (20%) pr kvm","Rum 2 - 6 kvm (20% tillæg)","","",null,0,null,""]
["Belægning",0,"S200121C","kvm",3.3861989813777766,3.3861989813777766,3.3861989813777766,3.3861989813777766,3.2590943035397273,3.1337445226343532,3.06928944430397,3.0061600825700001,2.9443291700000001,2.8837700000000002,2.83,"2018-03-01","2017-03-01","Opskæring af nålefilt og Luvtæpper (20%) pr kvm","Rum 6 - 10 kvm (20% tillæg)","","",null,0,null,""]
["Belægning",0,"S200121D","kvm",2.4529003221994494,2.4529003221994494,2.4529003221994494,2.4529003221994494,2.3608280290658801,2.2700269510248847,2.2233368766159498,2.1776071269499999,2.1328179499999997,2.0889499999999996,2.0499999999999998,"2018-03-01","2017-03-01","Opskæring af nålefilt og Luvtæpper (20%) pr kvm","Rum 10 - 15 kvm (20% tillæg)","","",null,0,null,""]
["Belægning",0,"S200121E","kvm",2.2973505456697283,2.2973505456697283,2.2973505456697283,2.2973505456697283,2.2111169833202391,2.1260740224233068,2.0823447820012797,2.0395149676799997,1.9975660799999999,1.95648,1.92,"2018-03-01","2017-03-01","Opskæring af nålefilt og Luvtæpper (20%) pr kvm","Rum 15 - 30 kvm (20% tillæg)","","",null,0,null,""]
["Belægning",0,"S200121F","kvm",2.0700085645878281,2.0700085645878281,2.0700085645878281,2.0700085645878281,1.9923085318458404,1.9156812806210004,1.8762794129490699,1.8376879656699998,1.7998902699999999,1.7628699999999999,1.73,"2018-03-01","2017-03-01","Opskæring af nålefilt og Luvtæpper (20%) pr kvm","Rum 30 - 50 kvm (20% tillæg)","","",null,0,null,""]
["Belægning",0,"S200121G","kvm",2.034112462311739,2.034112462311739,2.034112462311739,2.034112462311739,1.9577598289814619,1.8824613740206364,1.8437427757303,1.8058205442999999,1.7686782999999999,1.7323,1.7,"2018-03-01","2017-03-01","Opskæring af nålefilt og Luvtæpper (20%) pr kvm","Rum 50 - 100 kvm (20% tillæg)","","",null,0,null,""]
["Belægning",0,"S200121H","kvm",1.902493420632744,1.902493420632744,1.902493420632744,1.902493420632744,1.8310812518120732,1.7606550498193012,1.7244417725948102,1.6889733326100003,1.6542344100000002,1.6202100000000002,1.59,"2018-03-01","2017-03-01","Opskæring af nålefilt og Luvtæpper (20%) pr kvm","Rum over 100 kvm (20% tillæg)","","",null,0,null,""]
["Belægning",0,"S200122A","kvm",61.681469077747131,61.681469077747131,61.681469077747131,61.681469077747131,59.366187755290788,57.082872841625758,55.908788287586439,54.758852387449991,53.632568449999994,52.529449999999997,51.55,"2018-03-01","2017-03-01","Lægning af linoleum/vinyl","Rum under 2 kvm. Linoleum/vinyl, klæbning, almindelig tilskæring, div. Tillæg","","",null,0,null,""]
["Belægning",0,"S200122B","kvm",41.36427518948048,41.36427518948048,41.36427518948048,41.36427518948048,39.811621934052432,38.280405705819646,37.493051621762632,36.721891892030001,35.966593430000003,35.22683,34.57,"2018-03-01","2017-03-01","Lægning af linoleum/vinyl","Rum 2 - 6 kvm. Linoleum/vinyl, klæbning, almindelig tilskæring, div. Tillæg","","",null,0,null,""]
["Belægning",0,"S200122C","kvm",31.959496393145031,31.959496393145031,31.959496393145031,31.959496393145031,30.759861783585208,29.576790176524238,28.968452670444893,28.372627493090004,27.789057290000002,27.217490000000002,26.71,"2018-03-01","2017-03-01","Lægning af linoleum/vinyl","Rum 6 - 10 kvm. Linoleum/vinyl, klæbning, almindelig tilskæring, div. Tillæg","","",null,0,null,""]
["Belægning",0,"S200122D","kvm",24.983687184158295,24.983687184158295,24.983687184158295,24.983687184158295,24.045897193607598,23.121054993853459,22.645499504263917,22.179725273519995,21.723531119999997,21.276719999999997,20.88,"2018-03-01","2017-03-01","Lægning af linoleum/vinyl","Rum 10 - 15 kvm. Linoleum/vinyl, klæbning, almindelig tilskæring, div. Tillæg","","",null,0,null,""]
["Belægning",0,"S200122E","kvm",21.956449225541416,21.956449225541416,21.956449225541416,21.956449225541416,21.13228991871166,20.31950953722275,19.90157643214765,19.49223940465,19.091321650000001,18.698650000000001,18.350000000000001,"2018-03-01","2017-03-01","Lægning af linoleum/vinyl","Rum 15 - 30 kvm. Linoleum/vinyl, klæbning, almindelig tilskæring, div. Tillæg","","",null,0,null,""]
["Belægning",0,"S200122F","kvm",18.905280532073807,18.905280532073807,18.905280532073807,18.905280532073807,18.195650175239468,17.495817476191796,17.135962268552198,16.7835085882,16.438304200000001,16.100200000000001,15.8,"2018-03-01","2017-03-01","Lægning af linoleum/vinyl","Rum 30 - 50 kvm. Linoleum/vinyl, klæbning, almindelig tilskæring, div. Tillæg","","",null,0,null,""]
["Belægning",0,"S200122G","kvm",16.787410497784524,16.787410497784524,16.787410497784524,16.787410497784524,16.15727670624112,15.535842986770309,15.216300672644769,14.903330727369999,14.596797969999999,14.296569999999999,14.03,"2018-03-01","2017-03-01","Lægning af linoleum/vinyl","Rum 50 - 100 kvm. Linoleum/vinyl, klæbning, almindelig tilskæring, div. Tillæg","","",null,0,null,""]
["Belægning",0,"S200122H","kvm",15.375497141591671,15.375497141591671,15.375497141591671,15.375497141591671,14.798361060242224,14.229193327155985,13.936526275373149,13.649878820149999,13.369127149999999,13.094149999999999,12.85,"2018-03-01","2017-03-01","Lægning af linoleum/vinyl","Rum over 100 kvm. Linoleum/vinyl, klæbning, almindelig tilskæring, div. Tillæg","","",null,0,null,""]
["Belægning",0,"S200123A","kvm",74.771581041094464,74.771581041094464,74.771581041094464,74.771581041094464,71.964948066500924,69.197065448558575,67.773815326697914,66.379838713710001,65.014533510000007,63.677310000000006,62.49,"2018-03-01","2017-03-01","Linoleum som Sandwichbelægning","Rum under 2 kvm. Linoleum bestående af forskellige materialelag, kaldet ”Sandwichbelægning” over 3,5 mm t.o.m. 6,0 mm, klæbning og almindelig tilskæring","","",null,0,null,""]
["Belægning",0,"S200123B","kvm",50.170785614547768,50.170785614547768,50.170785614547768,50.170785614547768,48.28757037011335,46.430356125108993,45.475373286100876,44.540032601470003,43.62393007,42.726669999999999,41.93,"2018-03-01","2017-03-01","Linoleum som Sandwichbelægning","Rum 2 - 6 kvm. Linoleum bestående af forskellige materialelag, kaldet ”Sandwichbelægning” over 3,5 mm t.o.m. 6,0 mm, klæbning og almindelig tilskæring","","",null,0,null,""]
["Belægning",0,"S200123C","kvm",38.76779045817667,38.76779045817667,38.76779045817667,38.76779045817667,37.312599093529037,35.877499128393303,35.139568196271597,34.416815079599999,33.708927600000003,33.015599999999999,32.4,"2018-03-01","2017-03-01","Linoleum som Sandwichbelægning","Rum 6 - 10 kvm. Linoleum bestående af forskellige materialelag, kaldet ”Sandwichbelægning” over 3,5 mm t.o.m. 6,0 mm, klæbning og almindelig tilskæring","","",null,0,null,""]
["Belægning",0,"S200123D","kvm",30.32024105587027,30.32024105587027,30.32024105587027,30.32024105587027,29.182137686111904,28.059747775107599,27.482612904121059,26.917348583859997,26.363710659999999,25.821459999999998,25.34,"2018-03-01","2017-03-01","Linoleum som Sandwichbelægning","Rum 10 - 15 kvm. Linoleum bestående af forskellige materialelag, kaldet ”Sandwichbelægning” over 3,5 mm t.o.m. 6,0 mm, klæbning og almindelig tilskæring","","",null,0,null,""]
["Belægning",0,"S200123E","kvm",26.634907888858418,26.634907888858418,26.634907888858418,26.634907888858418,25.635137525369025,24.649170697470215,24.14218481632734,23.645626656539999,23.159281740000001,22.682940000000002,22.26,"2018-03-01","2017-03-01","Linoleum som Sandwichbelægning","Rum 15 - 30 kvm. Linoleum bestående af forskellige materialelag, kaldet ”Sandwichbelægning” over 3,5 mm t.o.m. 6,0 mm, klæbning og almindelig tilskæring","","",null,0,null,""]
["Belægning",0,"S200123F","kvm",22.961540089271917,22.961540089271917,22.961540089271917,22.961540089271917,22.099653598914262,21.249666922032944,20.812602274273207,20.384527203009998,19.96525681,19.55461,19.190000000000001,"2018-03-01","2017-03-01","Linoleum som Sandwichbelægning","Rum 30 - 50 kvm. Linoleum bestående af forskellige materialelag, kaldet ”Sandwichbelægning” over 3,5 mm t.o.m. 6,0 mm, klæbning og almindelig tilskæring","","",null,0,null,""]
["Belægning",0,"S200123G","kvm",20.006094335207219,20.006094335207219,20.006094335207219,20.006094335207219,19.255143729747083,18.514561278602965,18.133752476594481,17.76077617688,17.395471279999999,17.037679999999998,16.72,"2018-03-01","2017-03-01","Linoleum som Sandwichbelægning","Rum 50 - 100 kvm. Linoleum bestående af forskellige materialelag, kaldet ”Sandwichbelægning” over 3,5 mm t.o.m. 6,0 mm, klæbning og almindelig tilskæring","","",null,0,null,""]
["Belægning",0,"S200123H","kvm",17.648916952410673,17.648916952410673,17.648916952410673,17.648916952410673,16.98644557498621,16.333120745179048,15.997179965895249,15.66814884025,15.34588525,15.030250000000001,14.75,"2018-03-01","2017-03-01","Linoleum som Sandwichbelægning","Rum over 100kvm. Linoleum bestående af forskellige materialelag, kaldet ”Sandwichbelægning” over 3,5 mm t.o.m. 6,0 mm, klæbning og almindelig tilskæring","","",null,0,null,""]
["Belægning",0,"S200124A","kvm",7.9928654401425963,7.9928654401425963,7.9928654401425963,7.9928654401425963,7.6928445044683311,7.3969658696810878,7.2448245540461196,7.0958124917199994,6.9498653199999998,6.8069199999999999,6.68,"2018-03-01","2017-03-01","Opskæring af Linolium/vinyl","Rum under 2 kvm (20% tillæg)","","",null,0,null,""]
["Belægning",0,"S200124B","kvm",4.9656274815257166,4.9656274815257166,4.9656274815257166,4.9656274815257166,4.7792372295723933,4.5954204130503777,4.5009014819298505,4.4083266228500007,4.3176558500000004,4.2288500000000004,4.1500000000000004,"2018-03-01","2017-03-01","Opskæring af Linolium/vinyl","Rum 2 - 6 kvm (20% tillæg)","","",null,0,null,""]
["Belægning",0,"S200124C","kvm",3.793021473840124,3.793021473840124,3.793021473840124,3.793021473840124,3.6506462693360193,3.51023679743848,3.4380379994500294,3.3673241914299994,3.2980648299999995,3.2302299999999997,3.17,"2018-03-01","2017-03-01","Opskæring af Linolium/vinyl","Rum 6 - 10 kvm (20% tillæg)","","",null,0,null,""]
["Belægning",0,"S200124D","kvm",3.1229608980197869,3.1229608980197869,3.1229608980197869,3.1229608980197869,3.0057371492009497,2.8901318742316824,2.8306874380329896,2.7724656591899994,2.7154413899999996,2.6595899999999997,2.61,"2018-03-01","2017-03-01","Opskæring af Linolium/vinyl","Rum 10 - 15 kvm (20% tillæg)","","",null,0,null,""]
["Belægning",0,"S200124E","kvm",2.8956189169378872,2.8956189169378872,2.8956189169378872,2.8956189169378872,2.7869286977265517,2.6797391324293764,2.6246220689807802,2.5706386571800004,2.5177655800000003,2.4659800000000001,2.42,"2018-03-01","2017-03-01","Opskæring af Linolium/vinyl","Rum 15 - 30 kvm (20% tillæg)","","",null,0,null,""]
["Belægning",0,"S200124F","kvm",2.6204154661545345,2.6204154661545345,2.6204154661545345,2.6204154661545345,2.522055309099648,2.4250531818265846,2.3751745169702101,2.3263217600099999,2.2784738099999999,2.2316099999999999,2.19,"2018-03-01","2017-03-01","Opskæring af Linolium/vinyl","Rum 30 - 50 kvm (20% tillæg)","","",null,0,null,""]
["Belægning",0,"S200124G","kvm",2.5486232616023559,2.5486232616023559,2.5486232616023559,2.5486232616023559,2.452957903370891,2.3586133686258566,2.3101012425326704,2.2625869172700002,2.21604987,2.1704699999999999,2.13,"2018-03-01","2017-03-01","Opskæring af Linolium/vinyl","Rum 50 - 100 kvm (20% tillæg)","","",null,0,null,""]
["Belægning",0,"S200124H","kvm",2.3571773827965448,2.3571773827965448,2.3571773827965448,2.3571773827965448,2.2686981547608709,2.1814405334239142,2.1365725106992302,2.0926273366300001,2.0495860299999999,2.0074299999999998,1.97,"2018-03-01","2017-03-01","Opskæring af Linolium/vinyl","Rum over 100 kvm (20% tillæg)","","",null,0,null,""]
["Belægning",0,"S200125A","kvm",9.6201554099919893,9.6201554099919893,9.6201554099919893,9.6201554099919893,9.2590523676535028,8.9029349688975987,{"$f":"SUM(L196*$K$2+L196)","v":8.7198187746303617},{"$f":"SUM(M196*$L$2+M196)","v":8.5404689271600009},{"$f":"SUM(N196*$M$2+N196)","v":8.3648079600000003},8.1927599999999998,8.0399999999999991,"2018-03-01","2017-03-01","Tæt tilskæring","Rum under 2 kvm.","","",null,0,null,""]
["Belægning",0,"S200125B","kvm",{"$f":"SUM(F197*$E$2+F197)","v":7.1792204552179024},{"$f":"SUM(G197*$F$2+G197)","v":7.1792204552179024},{"$f":"SUM(H197*$G$2+H197)","v":7.1792204552179024},{"$f":"SUM(I197*$H$2+I197)","v":7.1792204552179024},{"$f":"SUM(J197*$I$2+J197)","v":6.9097405728757479},{"$f":"SUM(K197*$J$2+K197)","v":6.6439813200728342},6.5073274437539999,6.3734842739999999,6.242394,{"$f":"SUM(O197*$N$2+O197)","v":6.1139999999999999},6,"2018-03-01","2017-03-01","Tæt tilskæring","Rum 2 - 6 kvm.","","",null,0,null,""]
["Belægning",0,"S200125C","kvm",5.073315788353983,5.073315788353983,5.073315788353983,5.073315788353983,4.8828833381655272,4.6950801328514684,4.5985113935861595,4.5039288869599998,4.4112917600000001,4.3205600000000004,4.24,"2018-03-01","2017-03-01","Tæt tilskæring","Rum 6 - 10 kvm.","","",null,0,null,""]
["Belægning",0,"S200125D","kvm",4.0203634549220242,4.0203634549220242,4.0203634549220242,4.0203634549220242,3.8694547208104182,3.7206295392407869,3.6441033685022397,3.5691511934399998,3.4957406399999997,3.4238399999999998,3.36,"2018-03-01","2017-03-01","Tæt tilskæring","Rum 10 - 15 kvm.","","",null,0,null,""]
["Belægning",0,"S200125E","kvm",3.3144067768255976,3.3144067768255976,3.3144067768255976,3.3144067768255976,3.1899968978109698,3.0673047094336248,3.0042161698664298,2.9424252398299999,2.8819052300000001,2.8226300000000002,2.77,"2018-03-01","2017-03-01","Tæt tilskæring","Rum 15 - 30 kvm.","","",null,0,null,""]
["Belægning",0,"S200125F","kvm",2.6204154661545345,2.6204154661545345,2.6204154661545345,2.6204154661545345,2.522055309099648,2.4250531818265846,2.3751745169702101,2.3263217600099999,2.2784738099999999,2.2316099999999999,2.19,"2018-03-01","2017-03-01","Tæt tilskæring","Rum 30 - 50 kvm.","","",null,0,null,""]
["Belægning",0,"S200125G","kvm",1.7230129092522963,1.7230129092522963,1.7230129092522963,1.7230129092522963,1.6583377374901793,1.5945555168174801,1.56175858650096,1.52963622576,1.49817456,1.46736,1.44,"2018-03-01","2017-03-01","Tæt tilskæring","Rum 50 - 100 kvm.","","",null,0,null,""]
["Belægning",0,"S200125H","kvm",1.4837055607450329,1.4837055607450329,1.4837055607450329,1.4837055607450329,1.4280130517276544,1.3730894728150522,1.34484767170916,1.3171867499600001,1.2900947600000001,1.26356,1.24,"2018-03-01","2017-03-01","Tæt tilskæring","Rum over 100 kvm.","","",null,0,null,""]
["Belægning",0,"S200126A","kvm",21.4419384262508,21.4419384262508,21.4419384262508,21.4419384262508,20.637091844322232,19.843357542617529,19.435217965345277,19.035473031679999,18.64395008,18.260480000000001,17.920000000000002,"2018-03-01","2017-03-01","Trådsvejsning/trådfugning, 200 cm","Rum under 2 kvm. Trådsvejsning/trådfugning af 200 cm banebredde","","",null,0,null,""]
["Belægning",0,"S200126B","kvm",10.756865315401487,10.756865315401487,10.756865315401487,10.756865315401487,10.353094625025493,9.954898677909128,9.7501456198914092,9.5496039372099997,9.3531870099999992,9.1608099999999997,8.99,"2018-03-01","2017-03-01","Trådsvejsning/trådfugning, 200 cm","Rum 2 - 6 kvm. Trådsvejsning/trådfugning af 200 cm banebredde","","",null,0,null,""]
["Belægning",0,"S200126C","kvm",9.3688826940593621,9.3688826940593621,9.3688826940593621,9.3688826940593621,9.0172114476028504,8.6703956226950485,8.4920623140989697,8.3173969775700005,8.1463241699999998,7.9787699999999999,7.83,"2018-03-01","2017-03-01","Trådsvejsning/trådfugning, 200 cm","Rum 6 - 10 kvm. Trådsvejsning/trådfugning af 200 cm banebredde","","",null,0,null,""]
["Belægning",0,"S200126D","kvm",7.968934705291872,7.968934705291872,7.968934705291872,7.968934705291872,7.6698120358920807,7.3748192652808466,7.223133462566941,7.0745675441400007,6.9290573400000008,6.7865400000000005,6.66,"2018-03-01","2017-03-01","Trådsvejsning/trådfugning, 200 cm","Rum 10 - 15 kvm. Trådsvejsning/trådfugning af 200 cm banebredde","","",null,0,null,""]
["Belægning",0,"S200126E","kvm",7.2031511900686267,7.2031511900686267,7.2031511900686267,7.2031511900686267,6.9327730414519984,6.6661279244730753,6.5290185352331784,6.3947292215799987,6.2632019799999989,6.1343799999999993,6.02,"2018-03-01","2017-03-01","Trådsvejsning/trådfugning, 200 cm","Rum 15 - 30 kvm. Trådsvejsning/trådfugning af 200 cm banebredde","","",null,0,null,""]
["Belægning",0,"S200126F","kvm",6.4373676748453841,6.4373676748453841,6.4373676748453841,6.4373676748453841,6.1957340470119195,5.9574365836653076,5.8349036078994194,5.7148908990199994,5.5973466199999997,5.4822199999999999,5.38,"2018-03-01","2017-03-01","Trådsvejsning/trådfugning, 200 cm","Rum 30 - 50 kvm. Trådsvejsning/trådfugning af 200 cm banebredde","","",null,0,null,""]
["Belægning",0,"S200126G","kvm",5.8271339361518635,5.8271339361518635,5.8271339361518635,5.8271339361518635,5.6084060983174817,5.3926981714591173,5.2817807751803301,5.1731447357300002,5.0667431299999999,4.9625300000000001,4.87,"2018-03-01","2017-03-01","Trådsvejsning/trådfugning, 200 cm","Rum 50 -100 kvm. Trådsvejsning/trådfugning af 200 cm banebredde","","",null,0,null,""]
["Belægning",0,"S200126H","kvm",5.109211890630073,5.109211890630073,5.109211890630073,5.109211890630073,4.9174320410299064,4.7283000394518329,4.6310480308049291,4.5357963083299992,4.4425037299999994,4.3511299999999995,4.2699999999999996,"2018-03-01","2017-03-01","Trådsvejsning/trådfugning, 200 cm","Rum over 100 kvm. Trådsvejsning/trådfugning af 200 cm banebredde","","",null,0,null,""]
["Belægning",0,"S200127A","kvm",23.763219706771253,23.763219706771253,23.763219706771253,23.763219706771253,22.871241296218724,21.99157816944108,21.53925383882574,21.096232946939999,20.662324139999999,20.23734,19.86,"2018-03-01","2017-03-01","Trådsvejsning/trådfugning, 180 cm","Rum under 2 kvm. Trådsvejsning/trådfugning af 180 cm banebredde","","",null,0,null,""]
["Belægning",0,"S200127B","kvm",11.905540588236351,11.905540588236351,11.905540588236351,11.905540588236351,11.458653116685612,11.017935689120781,10.791318010892049,10.569361421049999,10.351970049999998,10.139049999999999,9.9499999999999993,"2018-03-01","2017-03-01","Trådsvejsning/trådfugning, 180 cm","Rum 2 - 6 kvm. Trådsvejsning/trådfugning af 180 cm banebredde","","",null,0,null,""]
["Belægning",0,"S200127C","kvm",10.409869660065958,10.409869660065958,10.409869660065958,10.409869660065958,10.019123830669834,9.6337729141056094,9.4356247934432993,9.241552197299999,9.0514712999999993,8.8652999999999995,8.6999999999999993,"2018-03-01","2017-03-01","Trådsvejsning/trådfugning, 180 cm","Rum 6 - 10 kvm. Trådsvejsning/trådfugning af 180 cm banebredde","","",null,0,null,""]
["Belægning",0,"S200127D","kvm",8.8543718947687431,8.8543718947687431,8.8543718947687431,8.8543718947687431,8.5220133732134205,8.1942436280898274,8.0257038472965991,7.8606306045999998,7.6989526000000001,7.5406000000000004,7.4,"2018-03-01","2017-03-01","Trådsvejsning/trådfugning, 180 cm","Rum 10 - 15 kvm. Trådsvejsning/trådfugning af 180 cm banebredde","","",null,0,null,""]
["Belægning",0,"S200127E","kvm",7.9928654401425963,7.9928654401425963,7.9928654401425963,7.9928654401425963,7.6928445044683311,7.3969658696810878,7.2448245540461196,7.0958124917199994,6.9498653199999998,6.8069199999999999,6.68,"2018-03-01","2017-03-01","Trådsvejsning/trådfugning, 180 cm","Rum 15 - 30 kvm. Trådsvejsning/trådfugning af 180 cm banebredde","","",null,0,null,""]
["Belægning",0,"S200127F","kvm",7.1552897203671755,7.1552897203671755,7.1552897203671755,7.1552897203671755,6.8867081042994949,6.6218347156725912,6.4856363522748204,6.3522393264200003,6.2215860200000002,6.0936200000000005,5.98,"2018-03-01","2017-03-01","Trådsvejsning/trådfugning, 180 cm","Rum 30 - 50 kvm. Trådsvejsning/trådfugning af 180 cm banebredde","","",null,0,null,""]
["Belægning",0,"S200127G","kvm",6.4493330422707471,6.4493330422707471,6.4493330422707471,6.4493330422707471,6.2072502813000456,5.9685098858654282,5.8457491536390087,5.7255133728099992,5.6077506099999992,5.4924099999999996,5.39,"2018-03-01","2017-03-01","Trådsvejsning/trådfugning, 180 cm","Rum 50 -100 kvm. Trådsvejsning/trådfugning af 180 cm banebredde","","",null,0,null,""]
["Belægning",0,"S200127H","kvm",5.6237226899206894,5.6237226899206894,5.6237226899206894,5.6237226899206894,5.4126301154193355,5.204452034057053,5.0974064976072997,4.9925626812999999,4.8898752999999999,4.7892999999999999,4.7,"2018-03-01","2017-03-01","Trådsvejsning/trådfugning, 180 cm","Rum over 100 kvm. Trådsvejsning/trådfugning af 180 cm banebredde","","",null,0,null,""]
["Belægning",0,"S200128A","kvm",28.501505207215072,28.501505207215072,28.501505207215072,28.501505207215072,27.43167007431672,26.376605840689155,25.834089951703383,25.302732567780001,24.782304180000001,24.272580000000001,23.82,"2018-03-01","2017-03-01","Trådsvejsning/trådfugning, 150 cm","Rum under 2 kvm. Trådsvejsning/trådfugning af 150 cm banebredde","","",null,0,null,""]
["Belægning",0,"S200128B","kvm",14.27468333845826,14.27468333845826,14.27468333845826,14.27468333845826,13.738867505734611,13.210449524744817,12.938736067330868,12.672611231469999,12.411960069999999,12.15667,11.93,"2018-03-01","2017-03-01","Trådsvejsning/trådfugning, 150 cm","Rum 2 - 6 kvm. Trådsvejsning/trådfugning af 150 cm banebredde","","",null,0,null,""]
["Belægning",0,"S200128C","kvm",12.443982122377696,12.443982122377696,12.443982122377696,12.443982122377696,11.976883659651294,11.516234288126245,11.2793675691736,11.0473727416,10.820149600000001,10.5976,10.4,"2018-03-01","2017-03-01","Trådsvejsning/trådfugning, 150 cm","Rum 6 - 10 kvm. Trådsvejsning/trådfugning af 150 cm banebredde","","",null,0,null,""]
["Belægning",0,"S200128D","kvm",10.601315538871766,10.601315538871766,10.601315538871766,10.601315538871766,10.203383579279851,9.8109457493075496,9.6091535252767386,9.4115117779399995,9.2179351399999998,9.02834,8.86,"2018-03-01","2017-03-01","Trådsvejsning/trådfugning, 150 cm","Rum 10 - 15 kvm. Trådsvejsning/trådfugning af 150 cm banebredde","","",null,0,null,""]
["Belægning",0,"S200128E","kvm",9.6201554099919893,9.6201554099919893,9.6201554099919893,9.6201554099919893,9.2590523676535028,8.9029349688975987,8.7198187746303617,8.5404689271600009,8.3648079600000003,8.1927599999999998,8.0399999999999991,"2018-03-01","2017-03-01","Trådsvejsning/trådfugning, 150 cm","Rum 15 - 30 kvm. Trådsvejsning/trådfugning af 150 cm banebredde","","",null,0,null,""]
["Belægning",0,"S200128F","kvm",8.5911338114107565,8.5911338114107565,8.5911338114107565,8.5911338114107565,8.2686562188746446,7.9506309796871584,7.7871018410256205,7.6269361812200005,7.4700648200000002,7.3164199999999999,7.18,"2018-03-01","2017-03-01","Trådsvejsning/trådfugning, 150 cm","Rum 30 - 50 kvm. Trådsvejsning/trådfugning af 150 cm banebredde","","",null,0,null,""]
["Belægning",0,"S200128G","kvm",7.7535580916353339,7.7535580916353339,7.7535580916353339,7.7535580916353339,7.4625198187058075,7.1754998256786608,7.0279136392543204,6.8833630159200005,6.7417855200000005,6.6031200000000005,6.48,"2018-03-01","2017-03-01","Trådsvejsning/trådfugning, 150 cm","Rum 50 -100 kvm. Trådsvejsning/trådfugning af 150 cm banebredde","","",null,0,null,""]
["Belægning",0,"S200128H","kvm",6.7843633301809172,6.7843633301809172,6.7843633301809172,6.7843633301809172,6.5297048413675816,6.2785623474688288,6.1494244343475311,6.0229426389300009,5.8990623300000005,5.77773,5.67,"2018-03-01","2017-03-01","Trådsvejsning/trådfugning, 150 cm","Rum over 100 kvm. Trådsvejsning/trådfugning af 150 cm banebredde","","",null,0,null,""]
["Belægning",0,"S200129A","kvm",34.244881571389399,34.244881571389399,34.244881571389399,34.244881571389399,32.959462532617323,31.691790896747428,31.039951906706587,30.401519986980006,29.776219380000004,29.163780000000003,28.62,"2018-03-01","2017-03-01","Trådsvejsning/trådfugning, 125 cm","Rum under 2 kvm. Trådsvejsning/trådfugning af 125 cm banebredde","","",null,0,null,""]
["Belægning",0,"S200129B","kvm",17.194232990246871,17.194232990246871,17.194232990246871,17.194232990246871,16.548828672037413,15.912335261574436,15.585049227790828,15.264494836229998,14.950533629999999,14.64303,14.37,"2018-03-01","2017-03-01","Trådsvejsning/trådfugning, 125 cm","Rum 2 - 6 kvm. Trådsvejsning/trådfugning af 125 cm banebredde","","",null,0,null,""]
["Belægning",0,"S200129C","kvm",14.968674649129326,14.968674649129326,14.968674649129326,14.968674649129326,14.406809094445935,13.852701052351859,13.56777772022709,13.28871471129,13.015391490000001,12.74769,12.51,"2018-03-01","2017-03-01","Trådsvejsning/trådfugning, 125 cm","Rum 6 - 10 kvm. Trådsvejsning/trådfugning af 125 cm banebredde","","",null,0,null,""]
["Belægning",0,"S200129D","kvm",12.743116308011775,12.743116308011775,12.743116308011775,12.743116308011775,12.264789516854451,11.79306684312928,11.550506212663349,11.312934586349998,11.080249349999999,10.852349999999999,10.65,"2018-03-01","2017-03-01","Trådsvejsning/trådfugning, 125 cm","Rum 10 - 15 kvm. Trådsvejsning/trådfugning af 125 cm banebredde","","",null,0,null,""]
["Belægning",0,"S200129E","kvm",11.534614198050097,11.534614198050097,11.534614198050097,11.534614198050097,11.101649853753703,10.674663320917022,10.455106092964762,10.240064733560002,10.029446360000001,9.8231600000000014,9.64,"2018-03-01","2017-03-01","Trådsvejsning/trådfugning, 125 cm","Rum 15 - 30 kvm. Trådsvejsning/trådfugning af 125 cm banebredde","","",null,0,null,""]
["Belægning",0,"S200129F","kvm",10.290215985812326,10.290215985812326,10.290215985812326,10.290215985812326,9.9039614877885711,9.5230398921043946,9.3271693360473993,9.1353274593999991,8.9474313999999993,8.763399999999999,8.6,"2018-03-01","2017-03-01","Trådsvejsning/trådfugning, 125 cm","Rum 30 - 50 kvm. Trådsvejsning/trådfugning af 125 cm banebredde","","",null,0,null,""]
["Belægning",0,"S200129G","kvm",9.2970904895071822,9.2970904895071822,9.2970904895071822,9.2970904895071822,8.9481140418740921,8.6039558094943196,8.4269890396614304,8.2536621348299999,8.0839002299999994,7.9176299999999999,7.77,"2018-03-01","2017-03-01","Trådsvejsning/trådfugning, 125 cm","Rum 50 -100 kvm. Trådsvejsning/trådfugning af 125 cm banebredde","","",null,0,null,""]
["Belægning",0,"S200129H","kvm",8.1364498492469561,8.1364498492469561,8.1364498492469561,8.1364498492469561,7.8310393159258478,7.5298454960825456,7.3749711029212,7.2232821771999998,7.0747131999999997,6.9291999999999998,6.8,"2018-03-01","2017-03-01","Trådsvejsning/trådfugning, 125 cm","Rum over 100 kvm. Trådsvejsning/trådfugning af 125 cm banebredde","","",null,0,null,""]
["Belægning",0,"S200130A","kvm",56.464568880288795,56.464568880288795,56.464568880288795,56.464568880288795,54.345109605667751,52.254913082372838,51.180130345125207,50.12745381501,49.096428809999999,48.08661,47.19,"2018-03-01","2017-03-01","Fliser udlagt (vinyl, linolium, kork, gummi)","Rum under 2 kvm. Fliser (vinyl, linoleum, kork, gummi) under 12 enheder pr. m2, lægning, klæbning, almindelig tilskæring, div. Tillæg","","",null,0,null,""]
["Belægning",0,"S200130B","kvm",42.644569503994333,42.644569503994333,42.644569503994333,42.644569503994333,41.043859002881938,39.465249041232632,38.653525015898758,37.858496587559998,37.079820359999999,36.317160000000001,35.64,"2018-03-01","2017-03-01","Fliser udlagt (vinyl, linolium, kork, gummi)","Rum 2 - 6 kvm. Fliser (vinyl, linoleum, kork, gummi) under 12 enheder pr. m2, lægning, klæbning, almindelig tilskæring, div. Tillæg","","",null,0,null,""]
["Belægning",0,"S200130C","kvm",35.465349048776439,35.465349048776439,35.465349048776439,35.465349048776439,34.134118430006197,32.821267721159806,32.146197572144764,31.485012313560002,30.837426360000002,30.20316,29.64,"2018-03-01","2017-03-01","Fliser udlagt (vinyl, linolium, kork, gummi)","Rum 6 - 10 kvm. Fliser (vinyl, linoleum, kork, gummi) under 12 enheder pr. m2, lægning, klæbning, almindelig tilskæring, div. Tillæg","","",null,0,null,""]
["Belægning",0,"S200130D","kvm",29.434803866393402,29.434803866393402,29.434803866393402,29.434803866393402,28.329936348790568,27.240323412298622,26.680042519391403,26.131285523400003,25.593815400000004,25.067400000000003,24.6,"2018-03-01","2017-03-01","Fliser udlagt (vinyl, linolium, kork, gummi)","Rum 10 - 15 kvm. Fliser (vinyl, linoleum, kork, gummi) under 12 enheder pr. m2, lægning, klæbning, almindelig tilskæring, div. Tillæg","","",null,0,null,""]
["Belægning",0,"S200130E","kvm",25.510163350874276,25.510163350874276,25.510163350874276,25.510163350874276,24.552611502285156,23.608280290658804,23.122703516805881,22.647114120280001,22.181306680000002,21.725080000000002,21.32,"2018-03-01","2017-03-01","Fliser udlagt (vinyl, linolium, kork, gummi)","Rum 15 - 30 kvm. Fliser (vinyl, linoleum, kork, gummi) under 12 enheder pr. m2, lægning, klæbning, almindelig tilskæring, div. Tillæg","","",null,0,null,""]
["Belægning",0,"S200130F","kvm",21.58552283535515,21.58552283535515,21.58552283535515,21.58552283535515,20.775286655779741,19.976237169018983,19.565364514220356,19.162942717159996,18.768797959999997,18.382759999999998,18.04,"2018-03-01","2017-03-01","Fliser udlagt (vinyl, linolium, kork, gummi)","Rum 30 - 50 kvm. Fliser (vinyl, linoleum, kork, gummi) under 12 enheder pr. m2, lægning, klæbning, almindelig tilskæring, div. Tillæg","","",null,0,null,""]
["Belægning",0,"S200130G","kvm",19.048864941178167,19.048864941178167,19.048864941178167,19.048864941178167,18.333844986696985,17.628697102593254,17.266108817427281,16.910978273680001,16.563152080000002,16.222480000000001,15.92,"2018-03-01","2017-03-01","Fliser udlagt (vinyl, linolium, kork, gummi)","Rum 50 -100 kvm. Fliser (vinyl, linoleum, kork, gummi) under 12 enheder pr. m2, lægning, klæbning, almindelig tilskæring, div. Tillæg","","",null,0,null,""]
["Belægning",0,"S200130H","kvm",17.876258933492576,17.876258933492576,17.876258933492576,17.876258933492576,17.205254026460612,16.543513486981357,16.203245334947461,15.869975842260001,15.54356106,15.22386,14.94,"2018-03-01","2017-03-01","Fliser udlagt (vinyl, linolium, kork, gummi)","Rum over 100 kvm. Fliser (vinyl, linoleum, kork, gummi) under 12 enheder pr. m2, lægning, klæbning, almindelig tilskæring, div. Tillæg","","",null,0,null,""]
["Belægning",0,"S200131A","kvm",57.050871884131595,57.050871884131595,57.050871884131595,57.050871884131595,54.909405085785941,52.797504890178793,51.711562086365127,50.647955030720006,49.606224320000003,48.585920000000002,47.68,"2018-03-01","2017-03-01","Tæppefliser m/filt-, pvc-, tjæreholdig-, Bitumenbagside","Rum under 2 kvm. Tæppefliser med filt-, pvc-, tjæreholdig-, Bitumenbagside, klæb-ning og almindelig tilskæring","","",null,0,null,""]
["Belægning",0,"S200131B","kvm",44.140240432164731,44.140240432164731,44.140240432164731,44.140240432164731,42.483388288897721,40.849411816247809,40.009218233347511,39.18630581131,38.380319110000002,37.590910000000001,36.89,"2018-03-01","2017-03-01","Tæppefliser m/filt-, pvc-, tjæreholdig-, Bitumenbagside","Rum 2 - 6 kvm. Tæppefliser med filt-, pvc-, tjæreholdig-, Bitumenbagside, klæb-ning og almindelig tilskæring","","",null,0,null,""]
["Belægning",0,"S200131C","kvm",36.554197484484476,36.554197484484476,36.554197484484476,36.554197484484476,35.182095750225677,33.828938221370841,33.133142234447448,32.451657428449998,31.78418945,31.13045,30.55,"2018-03-01","2017-03-01","Tæppefliser m/filt-, pvc-, tjæreholdig-, Bitumenbagside","Rum 6 - 10 kvm. Tæppefliser med filt-, pvc-, tjæreholdig-, Bitumenbagside, klæb-ning og almindelig tilskæring","","",null,0,null,""]
["Belægning",0,"S200131D","kvm",26.024674150164891,26.024674150164891,26.024674150164891,26.024674150164891,25.047809576674581,24.084432285264022,23.58906198360825,23.103880493249999,22.62867825,22.163250000000001,21.75,"2018-03-01","2017-03-01","Tæppefliser m/filt-, pvc-, tjæreholdig-, Bitumenbagside","Rum 10 - 15 kvm. Tæppefliser med filt-, pvc-, tjæreholdig-, Bitumenbagside, klæb-ning og almindelig tilskæring","","",null,0,null,""]
["Belægning",0,"S200131E","kvm",22.734198108190018,22.734198108190018,22.734198108190018,22.734198108190018,21.880845147439864,21.039274180230638,20.606536905220999,20.182700200999999,19.767581,19.361000000000001,19,"2018-03-01","2017-03-01","Tæppefliser m/filt-, pvc-, tjæreholdig-, Bitumenbagside","Rum 15 - 30 kvm. Tæppefliser med filt-, pvc-, tjæreholdig-, Bitumenbagside, klæb-ning og almindelig tilskæring","","",null,0,null,""]
["Belægning",0,"S200131F","kvm",19.599271842744869,19.599271842744869,19.599271842744869,19.599271842744869,18.86359176395079,18.138069003798837,17.765003921448418,17.399612068019998,17.041735619999997,16.691219999999998,16.38,"2018-03-01","2017-03-01","Tæppefliser m/filt-, pvc-, tjæreholdig-, Bitumenbagside","Rum 30 - 50 kvm. Tæppefliser med filt-, pvc-, tjæreholdig-, Bitumenbagside, klæb-ning og almindelig tilskæring","","",null,0,null,""]
["Belægning",0,"S200131G","kvm",17.517297910731678,17.517297910731678,17.517297910731678,17.517297910731678,16.859766997816823,16.211314420977715,15.877878962759759,15.551301628559999,15.23144136,14.91816,14.64,"2018-03-01","2017-03-01","Tæppefliser m/filt-, pvc-, tjæreholdig-, Bitumenbagside","Rum 50 -100 kvm. Tæppefliser med filt-, pvc-, tjæreholdig-, Bitumenbagside, klæb-ning og almindelig tilskæring","","",null,0,null,""]
["Belægning",0,"S200131H","kvm",15.949834778009105,15.949834778009105,15.949834778009105,15.949834778009105,15.351140306072287,14.760711832761814,14.45711247087347,14.15975756207,13.86851867,13.583270000000001,13.33,"2018-03-01","2017-03-01","Tæppefliser m/filt-, pvc-, tjæreholdig-, Bitumenbagside","Rum over 100 kvm. Tæppefliser med filt-, pvc-, tjæreholdig-, Bitumenbagside, klæb-ning og almindelig tilskæring","","",null,0,null,""]
["Afdækning",0,"S200132A","kvm",6.2578871634649378,6.2578871634649378,6.2578871634649378,6.2578871634649378,6.0229905326900264,5.7913370506634871,5.6722204218055703,5.5555537921700004,5.4412867700000005,5.3293700000000008,5.23,"2018-03-01","2017-03-01","Afdækning af gulv, minimums bredde 90 cm","Rum under 2 kvm. Afdækning med papir/pap/folie med en minimumsbredde på 90 cm inkl. tape i samlinger","","",null,0,null,""]
["Afdækning",0,"S200132B","kvm",4.7023893981677238,4.7023893981677238,4.7023893981677238,4.7023893981677238,4.525880075233613,4.3518077646477051,4.2622994756588692,4.1746321994699995,4.0887680699999995,4.00467,3.93,"2018-03-01","2017-03-01","Afdækning af gulv, minimums bredde 90 cm","Rum 2 - 6 kvm. Afdækning med papir/pap/folie med en minimumsbredde på 90 cm inkl. tape i samlinger","","",null,0,null,""]
["Afdækning",0,"S200132C","kvm",4.1639478640263832,4.1639478640263832,4.1639478640263832,4.1639478640263832,4.0076495322679335,3.8535091656422438,3.7742499173773201,3.6966208789200001,3.6205885200000001,3.5461200000000002,3.48,"2018-03-01","2017-03-01","Afdækning af gulv, minimums bredde 90 cm","Rum 6 - 10 kvm. Afdækning med papir/pap/folie med en minimumsbredde på 90 cm inkl. tape i samlinger","","",null,0,null,""]
["Afdækning",0,"S200132D","kvm",3.7690907389893984,3.7690907389893984,3.7690907389893984,3.7690907389893984,3.6276138007597676,3.488090193038238,3.4163469079708499,3.3460792438499998,3.2772568499999997,3.2098499999999999,3.15,"2018-03-01","2017-03-01","Afdækning af gulv, minimums bredde 90 cm","Rum 10 - 15 kvm. Afdækning med papir/pap/folie med en minimumsbredde på 90 cm inkl. tape i samlinger","","",null,0,null,""]
["Afdækning",0,"S200132E","kvm",3.4460258185045927,3.4460258185045927,3.4460258185045927,3.4460258185045927,3.3166754749803586,3.1891110336349602,3.12351717300192,3.05927245152,2.9963491200000001,2.93472,2.88,"2018-03-01","2017-03-01","Afdækning af gulv, minimums bredde 90 cm","Rum 15 - 30 kvm. Afdækning med papir/pap/folie med en minimumsbredde på 90 cm inkl. tape i samlinger","","",null,0,null,""]
["Afdækning",0,"S200132F","kvm",3.1229608980197869,3.1229608980197869,3.1229608980197869,3.1229608980197869,3.0057371492009497,2.8901318742316824,2.8306874380329896,2.7724656591899994,2.7154413899999996,2.6595899999999997,2.61,"2018-03-01","2017-03-01","Afdækning af gulv, minimums bredde 90 cm","Rum 30 - 50 kvm. Afdækning med papir/pap/folie med en minimumsbredde på 90 cm inkl. tape i samlinger","","",null,0,null,""]
["Afdækning",0,"S200132G","kvm",2.9793764889154293,2.9793764889154293,2.9793764889154293,2.9793764889154293,2.8675423377434353,2.7572522478302264,2.7005408891579101,2.6449959737099999,2.5905935100000002,2.5373100000000002,2.4900000000000002,"2018-03-01","2017-03-01","Afdækning af gulv, minimums bredde 90 cm","Rum 50 - 100 kvm. Afdækning med papir/pap/folie med en minimumsbredde på 90 cm inkl. tape i samlinger","","",null,0,null,""]
["Afdækning",0,"S200132H","kvm",2.8238267123857073,2.8238267123857073,2.8238267123857073,2.8238267123857073,2.7178312919977934,2.6132993192286476,2.5595487945432396,2.5069038144399998,2.4553416399999999,2.4048400000000001,2.36,"2018-03-01","2017-03-01","Afdækning af gulv, minimums bredde 90 cm","Rum over 100 kvm. Afdækning med papir/pap/folie med en minimumsbredde på 90 cm inkl. tape i samlinger","","",null,0,null,""]
["Afdækning",0,"S200133A","kvm",7.0356360461135443,7.0356360461135443,7.0356360461135443,7.0356360461135443,6.7715457614182331,6.5111016936713781,{"$f":"SUM(L260*$K$2+L260)","v":6.3771808948789204},{"$f":"SUM(M260*$L$2+M260)","v":6.2460145885200005},{"$f":"SUM(N260*$M$2+N260)","v":6.1175461200000001},5.9917199999999999,5.88,"2018-03-01","2017-03-01","Aftagning af gulvafdækning","Rum under 2 kvm. Aftagning af afdækning med papir/pap/folie med en minimumsbredde på 90 cm inkl. tape i samlinger jf. pkt. 32, inkl. 1 gang støvsugning","","",null,0,null,""]
["Afdækning",0,"S200133B","kvm",{"$f":"SUM(F261*$E$2+F261)","v":5.276727034585158},{"$f":"SUM(G261*$F$2+G261)","v":5.276727034585158},{"$f":"SUM(H261*$G$2+H261)","v":5.276727034585158},{"$f":"SUM(I261*$H$2+I261)","v":5.276727034585158},{"$f":"SUM(J261*$I$2+J261)","v":5.0786593210636743},{"$f":"SUM(K261*$J$2+K261)","v":4.8833262702535327},4.7828856711591898,4.6845109413900001,4.5881595900000001,{"$f":"SUM(O261*$N$2+O261)","v":4.4937899999999997},4.41,"2018-03-01","2017-03-01","Aftagning af gulvafdækning","Rum 2 - 6 kvm. Aftagning af afdækning med papir/pap/folie med en minimumsbredde på 90 cm inkl. tape i samlinger jf. pkt. 32, inkl. 1 gang støvsugning","","",null,0,null,""]
["Afdækning",0,"S200133C","kvm",4.6664932958916365,4.6664932958916365,4.6664932958916365,4.6664932958916365,4.4913313723692365,4.3185878580473425,4.2297628384401005,4.1427647781000001,4.0575561000000002,3.9741,3.9,"2018-03-01","2017-03-01","Aftagning af gulvafdækning","Rum 6 - 10 kvm. Aftagning af afdækning med papir/pap/folie med en minimumsbredde på 90 cm inkl. tape i samlinger jf. pkt. 32, inkl. 1 gang støvsugning","","",null,0,null,""]
["Afdækning",0,"S200133D","kvm",4.2357400685785622,4.2357400685785622,4.2357400685785622,4.2357400685785622,4.076746937996691,3.9199489788429718,3.8393231918148598,3.7603557216599999,3.68301246,3.6072600000000001,3.54,"2018-03-01","2017-03-01","Aftagning af gulvafdækning","Rum 10 - 15 kvm. Aftagning af afdækning med papir/pap/folie med en minimumsbredde på 90 cm inkl. tape i samlinger jf. pkt. 32, inkl. 1 gang støvsugning","","",null,0,null,""]
["Afdækning",0,"S200133E","kvm",3.8528483109669405,3.8528483109669405,3.8528483109669405,3.8528483109669405,3.7082274407766511,3.5656033084390875,3.4922657281479799,3.4204365603799998,3.35008478,3.28118,3.22,"2018-03-01","2017-03-01","Aftagning af gulvafdækning","Rum 15 - 30 kvm. Aftagning af afdækning med papir/pap/folie med en minimumsbredde på 90 cm inkl. tape i samlinger jf. pkt. 32, inkl. 1 gang støvsugning","","",null,0,null,""]
["Afdækning",0,"S200133F","kvm",3.5178180230567722,3.5178180230567722,3.5178180230567722,3.5178180230567722,3.3857728807091165,3.2555508468356891,3.1885904474394602,3.1230072942600002,3.05877306,2.99586,2.94,"2018-03-01","2017-03-01","Aftagning af gulvafdækning","Rum 30 - 50 kvm. Aftagning af afdækning med papir/pap/folie med en minimumsbredde på 90 cm inkl. tape i samlinger jf. pkt. 32, inkl. 1 gang støvsugning","","",null,0,null,""]
["Afdækning",0,"S200133G","kvm",3.3383375116763245,3.3383375116763245,3.3383375116763245,3.3383375116763245,3.2130293663872229,3.0894513138338682,3.0259072613456102,2.96367018741,2.9027132099999999,2.84301,2.79,"2018-03-01","2017-03-01","Aftagning af gulvafdækning","Rum 50 - 100 kvm. Aftagning af afdækning med papir/pap/folie med en minimumsbredde på 90 cm inkl. tape i samlinger jf. pkt. 32, inkl. 1 gang støvsugning","","",null,0,null,""]
["Afdækning",0,"S200133H","kvm",3.170822367721239,3.170822367721239,3.170822367721239,3.170822367721239,3.0518020863534545,2.9344250830321679,2.8740696209913494,2.8149555543499996,2.7570573499999997,2.7003499999999998,2.65,"2018-03-01","2017-03-01","Aftagning af gulvafdækning","Rum over 100 kvm. Aftagning af afdækning med papir/pap/folie med en minimumsbredde på 90 cm inkl. tape i samlinger jf. pkt. 32, inkl. 1 gang støvsugning","","",null,0,null,""]
["Afdækning",0,"S200134A","kvm",21.226561812594262,21.226561812594262,21.226561812594262,21.226561812594262,20.42979962713596,19.644038103015347,19.239998142032661,18.84426850346,18.45667826,18.077059999999999,17.739999999999998,"2018-03-01","2017-03-01","Afdækning med masonit","Rum under 2 kvm. Afdækning med masonit, groft tilskåret med tape langs vægge og i samlinger","","",null,0,null,""]
["Afdækning",0,"S200134B","kvm",15.925904043158379,15.925904043158379,15.925904043158379,15.925904043158379,15.328107837496034,14.738565228361571,14.43542137939429,14.138512614490001,13.847710690000001,13.562890000000001,13.31,"2018-03-01","2017-03-01","Afdækning med masonit","Rum 2 - 6 kvm. Afdækning med masonit, groft tilskåret med tape langs vægge og i samlinger","","",null,0,null,""]
["Afdækning",0,"S200134C","kvm",14.107168194503176,14.107168194503176,14.107168194503176,14.107168194503176,13.577640225700844,13.055423293943118,12.786898426976609,12.523896598409999,12.266304209999999,12.014009999999999,11.79,"2018-03-01","2017-03-01","Afdækning med masonit","Rum 6 - 10 kvm. Afdækning med masonit, groft tilskåret med tape langs vægge og i samlinger","","",null,0,null,""]
["Afdækning",0,"S200134D","kvm",12.719185573161049,12.719185573161049,12.719185573161049,12.719185573161049,12.241757048278199,11.770920238729037,11.52881512118417,11.29168963877,11.05944137,10.83197,10.63,"2018-03-01","2017-03-01","Afdækning med masonit","Rum 10 - 15 kvm. Afdækning med masonit, groft tilskåret med tape langs vægge og i samlinger","","",null,0,null,""]
["Afdækning",0,"S200134E","kvm",11.690163974579814,11.690163974579814,11.690163974579814,11.690163974579814,11.251360899499341,10.818616249518596,10.596098187579429,10.378156892829999,10.164698229999999,9.9556299999999993,9.77,"2018-03-01","2017-03-01","Afdækning med masonit","Rum 15 - 30 kvm. Afdækning med masonit, groft tilskåret med tape langs vægge og i samlinger","","",null,0,null,""]
["Afdækning",0,"S200134F","kvm",10.613280906297131,10.613280906297131,10.613280906297131,10.613280906297131,10.21489981356798,9.8220190515076737,9.6199990710163306,9.4221342517300002,9.2283391300000002,9.0385299999999997,8.8699999999999992,"2018-03-01","2017-03-01","Afdækning med masonit","Rum 30 - 50 kvm. Afdækning med masonit, groft tilskåret med tape langs vægge og i samlinger","","",null,0,null,""]
["Afdækning",0,"S200134G","kvm",10.062874004730425,10.062874004730425,10.062874004730425,10.062874004730425,9.6851530363141727,9.3126471503020891,9.1211039669951894,8.9335004573900001,8.7497555899999995,8.5697899999999994,8.41,"2018-03-01","2017-03-01","Afdækning med masonit","Rum 50 -100 kvm. Afdækning med masonit, groft tilskåret med tape langs vægge og i samlinger","","",null,0,null,""]
["Afdækning",0,"S200134H","kvm",9.5722939402905318,9.5722939402905318,9.5722939402905318,9.5722939402905318,9.2129874305009931,8.8586417600971092,8.6764365916719974,8.4979790319999982,8.3231919999999988,8.1519999999999992,8,"2018-03-01","2017-03-01","Afdækning med masonit","Rum over 100 kvm. Afdækning med masonit, groft tilskåret med tape langs vægge og i samlinger","","",null,0,null,""]
["Afdækning",0,"S200135A","kvm",14.27468333845826,14.27468333845826,14.27468333845826,14.27468333845826,13.738867505734611,13.210449524744817,12.938736067330868,12.672611231469999,12.411960069999999,12.15667,11.93,"2018-03-01","2017-03-01","Aftagning af masonitafdækning","Rum under 2 kvm. Aftagning af masonit jf. pkt. 33, inkl. 1 gang støvsugning","","",null,0,null,""]
["Afdækning",0,"S200135B","kvm",10.732934580550763,10.732934580550763,10.732934580550763,10.732934580550763,10.330062156449243,9.9327520735088868,9.7284545284122306,9.5283589896300001,9.3323790300000002,9.1404300000000003,8.9700000000000006,"2018-03-01","2017-03-01","Aftagning af masonitafdækning","Rum 2 -  6 kvm. Aftagning af masonit jf. pkt. 33, inkl. 1 gang støvsugning","","",null,0,null,""]
["Afdækning",0,"S200135C","kvm",9.5363978380144463,9.5363978380144463,9.5363978380144463,9.5363978380144463,9.1784387276366175,8.8254218534967475,8.6438999544532304,8.4661116106299996,8.2919800299999995,8.1214300000000001,7.97,"2018-03-01","2017-03-01","Aftagning af masonitafdækning","Rum 6 - 10 kvm. Aftagning af masonit jf. pkt. 33, inkl. 1 gang støvsugning","","",null,0,null,""]
["Afdækning",0,"S200135D","kvm",8.5911338114107565,8.5911338114107565,8.5911338114107565,8.5911338114107565,8.2686562188746446,7.9506309796871584,7.7871018410256205,7.6269361812200005,7.4700648200000002,7.3164199999999999,7.18,"2018-03-01","2017-03-01","Aftagning af masonitafdækning","Rum 10 - 15 kvm. Aftagning af masonit jf. pkt. 33, inkl. 1 gang støvsugning","","",null,0,null,""]
["Afdækning",0,"S200135E","kvm",7.8612463984636021,7.8612463984636021,7.8612463984636021,7.8612463984636021,7.5661659272989432,7.2751595454797533,7.1255235509106303,6.9789652800300006,6.8354214300000002,6.6948300000000005,6.57,"2018-03-01","2017-03-01","Aftagning af masonitafdækning","Rum 15 - 30 kvm. Aftagning af masonit jf. pkt. 33, inkl. 1 gang støvsugning","","",null,0,null,""]
["Afdækning",0,"S200135F","kvm",7.1552897203671755,7.1552897203671755,7.1552897203671755,7.1552897203671755,6.8867081042994949,6.6218347156725912,6.4856363522748204,6.3522393264200003,6.2215860200000002,6.0936200000000005,5.98,"2018-03-01","2017-03-01","Aftagning af masonitafdækning","Rum 30 - 50 kvm. Aftagning af masonit jf. pkt. 33, inkl. 1 gang støvsugning","","",null,0,null,""]
["Afdækning",0,"S200135G","kvm",6.8082940650316441,6.8082940650316441,6.8082940650316441,6.8082940650316441,6.5527373099438346,6.3007089518690718,6.1711155258267105,6.0441875865100005,5.9198703100000003,5.7981100000000003,5.69,"2018-03-01","2017-03-01","Aftagning af masonitafdækning","Rum 50 -100 kvm. Aftagning af masonit jf. pkt. 33, inkl. 1 gang støvsugning","","",null,0,null,""]
["Afdækning",0,"S200135H","kvm",6.4254023074200219,6.4254023074200219,6.4254023074200219,6.4254023074200219,6.1842178127237943,5.946363281465187,5.8240580621598301,5.7042684252300004,5.5869426300000002,5.4720300000000002,5.37,"2018-03-01","2017-03-01","Aftagning af masonitafdækning","Rum over 100 kvm. Aftagning af masonit jf. pkt. 33, inkl. 1 gang støvsugning","","",null,0,null,""]
["Tillægspriser som m²-priser",0,"S200136A","kvm",34.412396715344478,34.412396715344478,34.412396715344478,34.412396715344478,33.120689812651086,31.846817127549119,31.191789547060843,30.550234620040001,29.921875240000002,29.306440000000002,28.76,"2018-03-01","2017-03-01","Plastfodlister opsat (Type 1)","Rum under 2 kvm. Plastfodlister, type 1, inkl. tillæg","","",null,0,null,""]
["Tillægspriser som m²-priser",0,"S200136B","kvm",20.807773952706551,20.807773952706551,20.807773952706551,20.807773952706551,20.026731427051541,19.256472526011098,18.86040404114701,18.472481920810001,18.092538610000002,17.720410000000001,17.39,"2018-03-01","2017-03-01","Plastfodlister opsat (Type 1)","Rum 2 - 6 kvm. Plastfodlister, type 1, inkl. tillæg","","",null,0,null,""]
["Tillægspriser som m²-priser",0,"S200136C","kvm",15.004570751405414,15.004570751405414,15.004570751405414,15.004570751405414,14.441357797310312,13.885920958952223,13.60031435744586,13.32058213266,13.04660346,12.77826,12.54,"2018-03-01","2017-03-01","Plastfodlister opsat (Type 1)","Rum 6 - 10 kvm. Plastfodlister, type 1, inkl. tillæg","","",null,0,null,""]
["Tillægspriser som m²-priser",0,"S200136D","kvm",13.688380334615466,13.688380334615466,13.688380334615466,13.688380334615466,13.174572025616426,12.667857716938871,12.40730432609096,12.15211001576,11.902164559999999,11.657359999999999,11.44,"2018-03-01","2017-03-01","Plastfodlister opsat (Type 1)","Rum 10 - 15 kvm. Plastfodlister, type 1, inkl. tillæg","","",null,0,null,""]
["Tillægspriser som m²-priser",0,"S200136E","kvm",10.780796050252215,10.780796050252215,10.780796050252215,10.780796050252215,10.376127093601747,9.9770452823093727,9.7718367113705895,9.5708488847899993,9.3739949899999999,9.1811899999999991,9.01,"2018-03-01","2017-03-01","Plastfodlister opsat (Type 1)","Rum 15 - 30 kvm. Plastfodlister, type 1, inkl. tillæg","","",null,0,null,""]
["Tillægspriser som m²-priser",0,"S200136F","kvm",7.9330386030157811,7.9330386030157811,7.9330386030157811,7.9330386030157811,7.6352633330277007,7.3415993586804813,7.1905968253481696,7.0427001227699995,6.8978453699999998,6.7559699999999996,6.63,"2018-03-01","2017-03-01","Plastfodlister opsat (Type 1)","Rum 30 - 50 kvm. Plastfodlister, type 1, inkl. tillæg","","",null,0,null,""]
["Tillægspriser som m²-priser",0,"S200136G","kvm",6.7963286976062802,6.7963286976062802,6.7963286976062802,6.7963286976062802,6.5412210756557077,6.2896356496689494,6.1602699800871195,6.0335651127199998,5.9094663199999999,5.7879199999999997,5.68,"2018-03-01","2017-03-01","Plastfodlister opsat (Type 1)","Rum 50 - 100 kvm. Plastfodlister, type 1, inkl. tillæg","","",null,0,null,""]
["Tillægspriser som m²-priser",0,"S200136H","kvm",6.7723979627555533,6.7723979627555533,6.7723979627555533,6.7723979627555533,6.5181886070794546,6.2674890452687064,6.13857888860794,6.0123201651400002,5.8886583400000001,5.7675400000000003,5.66,"2018-03-01","2017-03-01","Plastfodlister opsat (Type 1)","Rum over 100 kvm. Plastfodlister, type 1, inkl. tillæg","","",null,0,null,""]
["Tillægspriser som m²-priser",0,"S200137A","kvm",20.975289096661633,20.975289096661633,20.975289096661633,20.975289096661633,20.187958707085308,19.411498756812797,19.012241681501269,18.62119655387,18.23819447,17.86307,17.53,"2018-03-01","2017-03-01","Lister opsat","Rum under 2kvm. Lister, panellister af hårdt træ, fyr, plast eller skum, inkl. Samlinger og geringer, inkl. tillæg","","",null,0,null,""]
["Tillægspriser som m²-priser",0,"S200137B","kvm",13.06618122849658,13.06618122849658,13.06618122849658,13.06618122849658,12.57572784263386,12.092046002532557,11.84333594763228,11.599741378679999,11.36115708,11.12748,10.92,"2018-03-01","2017-03-01","Lister opsat","Rum 2 - 6 kvm. Lister, panellister af hårdt træ, fyr, plast eller skum, inkl. Samlinger og geringer, inkl. tillæg","","",null,0,null,""]
["Tillægspriser som m²-priser",0,"S200137C","kvm",9.9073242282007037,9.9073242282007037,9.9073242282007037,9.9073242282007037,9.5354419905685308,9.1686942217005107,8.9801118723805207,8.7954082981199999,8.6145037200000001,8.4373199999999997,8.2799999999999994,"2018-03-01","2017-03-01","Lister opsat","Rum 6 - 10 kvm. Lister, panellister af hårdt træ, fyr, plast eller skum, inkl. Samlinger og geringer, inkl. tillæg","","",null,0,null,""]
["Tillægspriser som m²-priser",0,"S200137D","kvm",8.3159303606274033,8.3159303606274033,8.3159303606274033,8.3159303606274033,8.0037828302477418,7.695945029084367,7.5376542890150509,7.3826192840500005,7.2307730500000007,7.0820500000000006,6.95,"2018-03-01","2017-03-01","Lister opsat","Rum 10 - 15 kvm. Lister, panellister af hårdt træ, fyr, plast eller skum, inkl. Samlinger og geringer, inkl. tillæg","","",null,0,null,""]
["Tillægspriser som m²-priser",0,"S200137E","kvm",6.6168481862258339,6.6168481862258339,6.6168481862258339,6.6168481862258339,6.3684775613338154,6.1235361166671298,5.9975867939932712,5.8742280058700009,5.7534064700000007,5.6350700000000007,5.53,"2018-03-01","2017-03-01","Lister opsat","Rum 15 - 30 kvm. Lister, panellister af hårdt træ, fyr, plast eller skum, inkl. Samlinger og geringer, inkl. tillæg","","",null,0,null,""]
["Tillægspriser som m²-priser",0,"S200137F","kvm",4.9297313792496258,4.9297313792496258,4.9297313792496258,4.9297313792496258,4.7446885267080132,4.5622005064500124,4.46836484471108,4.3764592014800003,4.2864438800000002,4.1982800000000005,4.12,"2018-03-01","2017-03-01","Lister opsat","Rum 30 - 50 kvm. Lister, panellister af hårdt træ, fyr, plast eller skum, inkl. Samlinger og geringer, inkl. tillæg","","",null,0,null,""]
["Tillægspriser som m²-priser",0,"S200137G","kvm",3.1229608980197869,3.1229608980197869,3.1229608980197869,3.1229608980197869,3.0057371492009497,2.8901318742316824,2.8306874380329896,2.7724656591899994,2.7154413899999996,2.6595899999999997,2.61,"2018-03-01","2017-03-01","Lister opsat","Rum 50 - 100 kvm. Lister, panellister af hårdt træ, fyr, plast eller skum, inkl. Samlinger og geringer, inkl. tillæg","","",null,0,null,""]
["Tillægspriser som m²-priser",0,"S200137H","kvm",3.0272379586168814,3.0272379586168814,3.0272379586168814,3.0272379586168814,2.9136072748959396,2.801545456630711,2.7439230721162695,2.6874858688699996,2.6322094699999998,2.5780699999999999,2.5299999999999998,"2018-03-01","2017-03-01","Lister opsat","Rum over 100 kvm. Lister, panellister af hårdt træ, fyr, plast eller skum, inkl. Samlinger og geringer, inkl. tillæg","","",null,0,null,""]
["Tillægspriser som m²-priser",0,"S200138A","kvm",42.895842219926962,42.895842219926962,42.895842219926962,42.895842219926962,41.285699922932594,39.697788387435189,38.881281476430154,38.081568537150005,37.298304150000007,36.531150000000004,35.85,"2018-03-01","2017-03-01","Tillæg for bort, tæt tildannet i samlinger","Rum under 2 kvm.","","",null,0,null,""]
["Tillægspriser som m²-priser",0,"S200138B","kvm",30.403998627847816,30.403998627847816,30.403998627847816,30.403998627847816,29.262751326128793,28.137260890508454,27.558531724298192,26.991705900390002,26.436538590000001,25.892790000000002,25.41,"2018-03-01","2017-03-01","Tillæg for bort, tæt tildannet i samlinger","Rum 2 - 6 kvm.","","",null,0,null,""]
["Tillægspriser som m²-priser",0,"S200138C","kvm",22.530786861958841,22.530786861958841,22.530786861958841,22.530786861958841,21.685069164541716,20.851028042828574,20.422162627647968,20.002118146569998,19.590713169999997,19.187769999999997,18.829999999999998,"2018-03-01","2017-03-01","Tillæg for bort, tæt tildannet i samlinger","Rum 6 - 10 kvm.","","",null,0,null,""]
["Tillægspriser som m²-priser",0,"S200138D","kvm",18.55828487673827,18.55828487673827,18.55828487673827,18.55828487673827,17.861679380883803,17.174691712388274,16.821441442104089,16.475456848289998,16.136588489999998,15.804689999999999,15.51,"2018-03-01","2017-03-01","Tillæg for bort, tæt tildannet i samlinger","Rum 10 - 15 kvm.","","",null,0,null,""]
["Tillægspriser som m²-priser",0,"S200138E","kvm",13.831964743719823,13.831964743719823,13.831964743719823,13.831964743719823,13.312766837073939,12.800737343340327,12.537450874966039,12.279579701239999,12.02701244,11.779640000000001,11.56,"2018-03-01","2017-03-01","Tillæg for bort, tæt tildannet i samlinger","Rum 15 - 30 kvm.","","",null,0,null,""]
["Tillægspriser som m²-priser",0,"S200138F","kvm",10.290215985812326,10.290215985812326,10.290215985812326,10.290215985812326,9.9039614877885711,9.5230398921043946,9.3271693360473993,9.1353274593999991,8.9474313999999993,8.763399999999999,8.6,"2018-03-01","2017-03-01","Tillæg for bort, tæt tildannet i samlinger","Rum 30 - 50 kvm.","","",null,0,null,""]
["Tillægspriser som m²-priser",0,"S200138G","kvm",7.4663892734266177,7.4663892734266177,7.4663892734266177,7.4663892734266177,7.1861301957907777,6.9097405728757479,6.7676205415041606,6.6284236449600007,6.4920897600000007,6.3585600000000007,6.24,"2018-03-01","2017-03-01","Tillæg for bort, tæt tildannet i samlinger","Rum 50 - 100 kvm.","","",null,0,null,""]
["Tillægspriser som m²-priser",0,"S200138H","kvm",6.3416447354424781,6.3416447354424781,6.3416447354424781,6.3416447354424781,6.103604172706909,5.8688501660643357,5.7481392419826989,5.6299111086999991,5.5141146999999995,5.4006999999999996,5.3,"2018-03-01","2017-03-01","Tillæg for bort, tæt tildannet i samlinger","Rum over 100 kvm.","","",null,0,null,""]
["Tillægspriser som m²-priser",0,"S200139A","kvm",75.106611329004622,75.106611329004622,75.106611329004622,75.106611329004622,72.287402626568451,69.507117910161966,68.077490607406432,66.677267979830006,65.305845230000003,63.962630000000004,62.77,"2018-03-01","2017-03-01","Tillæg for bort, svejst i samlinger","Rum under 2 kvm.","","",null,0,null,""]
["Tillægspriser som m²-priser",0,"S200139B","kvm",53.198023573164654,53.198023573164654,53.198023573164654,53.198023573164654,51.201177645009295,49.231901581739706,48.219296358217143,47.227518470340001,46.256139539999999,45.304740000000002,44.46,"2018-03-01","2017-03-01","Tillæg for bort, svejst i samlinger","Rum 2 - 6 kvm.","","",null,0,null,""]
["Tillægspriser som m²-priser",0,"S200139C","kvm",39.401954931720915,39.401954931720915,39.401954931720915,39.401954931720915,37.922959510799728,36.464384144999741,35.714382120469871,34.979806190470001,34.260339070000001,33.555669999999999,32.93,"2018-03-01","2017-03-01","Tillæg for bort, svejst i samlinger","Rum 6 - 10 kvm.","","",null,0,null,""]
["Tillægspriser som m²-priser",0,"S200139D","kvm",32.45007645758492,32.45007645758492,32.45007645758492,32.45007645758492,31.232027389398382,30.030795566729214,29.413120045768085,28.808148918480004,28.215620880000003,27.635280000000002,27.12,"2018-03-01","2017-03-01","Tillæg for bort, svejst i samlinger","Rum 10 - 15 kvm.","","",null,0,null,""]
["Tillægspriser som m²-priser",0,"S200139E","kvm",24.182007566658967,24.182007566658967,24.182007566658967,24.182007566658967,23.274309496303143,22.37914374644533,21.918847939711391,21.468019529590002,21.026463790000001,20.593990000000002,20.21,"2018-03-01","2017-03-01","Tillæg for bort, svejst i samlinger","Rum 15 - 30 kvm.","","",null,0,null,""]
["Tillægspriser som m²-priser",0,"S200139F","kvm",18.031808710022293,18.031808710022293,18.031808710022293,18.031808710022293,17.354965072206248,16.687466415582932,16.344237429562128,16.008068001529999,15.678812929999999,15.35633,15.07,"2018-03-01","2017-03-01","Tillæg for bort, svejst i samlinger","Rum 30 - 50 kvm.","","",null,0,null,""]
["Tillægspriser som m²-priser",0,"S200139G","kvm",13.042250493645854,13.042250493645854,13.042250493645854,13.042250493645854,12.552695374057608,12.069899398132316,11.821644856153101,11.578496431100001,11.340349100000001,11.107100000000001,10.9,"2018-03-01","2017-03-01","Tillæg for bort, svejst i samlinger","Rum 50 - 100 kvm.","","",null,0,null,""]
["Tillægspriser som m²-priser",0,"S200139H","kvm",11.044034133610204,11.044034133610204,11.044034133610204,11.044034133610204,10.629484247940523,10.220657930712042,10.010438717641568,9.8045433081699986,9.602882769999999,9.4053699999999996,9.23,"2018-03-01","2017-03-01","Tillæg for bort, svejst i samlinger","Rum over 100 kvm.","","",null,0,null,""]
["Tillægspriser som m²-priser",0,"S200140A","kvm",65.30697540763218,65.30697540763218,65.30697540763218,65.30697540763218,62.855606744593047,60.438083408262543,59.194988646682219,57.977461945819996,56.784977419999997,55.617019999999997,54.58,"2018-03-01","2017-03-01","Tillæg for friser, tæt tildannet i samlinger","Rum under 2 kvm.","","",null,0,null,""]
["Tillægspriser som m²-priser",0,"S200140B","kvm",46.258110466454013,46.258110466454013,46.258110466454013,46.258110466454013,44.521761757896066,42.809386305669292,41.928879829254939,41.066483672140002,40.221825340000002,39.394539999999999,38.659999999999997,"2018-03-01","2017-03-01","Tillæg for friser, tæt tildannet i samlinger","Rum 2 - 6 kvm.","","",null,0,null,""]
["Tillægspriser som m²-priser",0,"S200140C","kvm",34.268812306240122,34.268812306240122,34.268812306240122,34.268812306240122,32.98249500119357,31.713937501147662,31.061642998185761,30.42276493456,29.797027360000001,29.184160000000002,28.64,"2018-03-01","2017-03-01","Tillæg for friser, tæt tildannet i samlinger","Rum 6 - 10 kvm.","","",null,0,null,""]
["Tillægspriser som m²-priser",0,"S200140D","kvm",28.214336389006352,28.214336389006352,28.214336389006352,28.214336389006352,27.155280451401687,26.110846587886236,25.573796853953219,25.047793196819999,24.532608419999999,24.028019999999998,23.58,"2018-03-01","2017-03-01","Tillæg for friser, tæt tildannet i samlinger","Rum 10 - 15 kvm.","","",null,0,null,""]
["Tillægspriser som m²-priser",0,"S200140E","kvm",21.035115933788443,21.035115933788443,21.035115933788443,21.035115933788443,20.245539878525932,19.466865267813397,19.066469410199215,18.674308922819996,18.290214419999998,17.914019999999997,17.579999999999998,"2018-03-01","2017-03-01","Tillæg for friser, tæt tildannet i samlinger","Rum 15 - 30 kvm.","","",null,0,null,""]
["Tillægspriser som m²-priser",0,"S200140F","kvm",15.686596694651113,15.686596694651113,15.686596694651113,15.686596694651113,15.097783151733507,14.517099184359141,14.218510464602488,13.926063138689999,13.639630889999999,13.35909,13.11,"2018-03-01","2017-03-01","Tillæg for friser, tæt tildannet i samlinger","Rum 30 - 50 kvm.","","",null,0,null,""]
["Tillægspriser som m²-priser",0,"S200140G","kvm",11.35513368666965,11.35513368666965,11.35513368666965,11.35513368666965,10.928906339431808,10.5085637879152,10.292422906870911,10.080727626710001,9.8733865100000013,9.6703100000000006,9.49,"2018-03-01","2017-03-01","Tillæg for friser, tæt tildannet i samlinger","Rum 50 - 100 kvm.","","",null,0,null,""]
["Tillægspriser som m²-priser",0,"S200140H","kvm",9.6560515122680783,9.6560515122680783,9.6560515122680783,9.6560515122680783,9.2936010705178802,8.9361548754979623,8.7523554118491305,8.5723363485300013,8.3960199300000014,8.2233300000000007,8.07,"2018-03-01","2017-03-01","Tillæg for friser, tæt tildannet i samlinger","Rum over 100 kvm.","","",null,0,null,""]
["Tillægspriser som m²-priser",0,"S200141A","kvm",122.69287757967395,122.69287757967395,122.69287757967395,122.69287757967395,118.08746639044654,113.54564076004475,{"$f":"SUM(L324*$K$2+L324)","v":111.21022601375587},{"$f":"SUM(M324*$L$2+M324)","v":108.92284624266001},{"$f":"SUM(N324*$M$2+N324)","v":106.68251346000001},104.48826000000001,102.54,"2018-03-01","2017-03-01","Tillæg for friser, svejst i samlinger","Rum under 2 kvm.","","",null,0,null,""]
["Tillægspriser som m²-priser",0,"S200141B","kvm",{"$f":"SUM(F325*$E$2+F325)","v":86.916428977838052},{"$f":"SUM(G325*$F$2+G325)","v":86.916428977838052},{"$f":"SUM(H325*$G$2+H325)","v":86.916428977838052},{"$f":"SUM(I325*$H$2+I325)","v":86.916428977838052},{"$f":"SUM(J325*$I$2+J325)","v":83.653925868949045},{"$f":"SUM(K325*$J$2+K325)","v":80.436467181681778},78.782044252381766,77.161649610560005,75.574583360000005,{"$f":"SUM(O325*$N$2+O325)","v":74.020160000000004},72.64,"2018-03-01","2017-03-01","Tillæg for friser, svejst i samlinger","Rum 2 - 6 kvm.","","",null,0,null,""]
["Tillægspriser som m²-priser",0,"S200141C","kvm",64.445468953006028,64.445468953006028,64.445468953006028,64.445468953006028,62.026437875847954,59.640805649853803,58.414109353431733,57.212643832939996,56.035890139999999,54.883339999999997,53.86,"2018-03-01","2017-03-01","Tillæg for friser, svejst i samlinger","Rum 6 - 10 kvm.","","",null,0,null,""]
["Tillægspriser som m²-priser",0,"S200141D","kvm",53.006577694358832,53.006577694358832,53.006577694358832,53.006577694358832,51.016917896399264,49.054728746537755,48.0457676263837,47.057558889699997,46.089675700000001,45.1417,44.3,"2018-03-01","2017-03-01","Tillæg for friser, svejst i samlinger","Rum 10 - 15 kvm.","","",null,0,null,""]
["Tillægspriser som m²-priser",0,"S200141E","kvm",39.521608605974549,39.521608605974549,39.521608605974549,39.521608605974549,38.038121853680991,36.575117167000954,35.822837577865769,35.08603092837,34.364378969999997,33.65757,33.03,"2018-03-01","2017-03-01","Tillæg for friser, svejst i samlinger","Rum 15 - 30 kvm.","","",null,0,null,""]
["Tillægspriser som m²-priser",0,"S200141F","kvm",29.494630703520208,29.494630703520208,29.494630703520208,29.494630703520208,28.387517520231192,27.295689923299225,26.734270248089349,26.184397892349999,25.645835349999999,25.11835,24.65,"2018-03-01","2017-03-01","Tillæg for friser, svejst i samlinger","Rum 30 - 50 kvm.","","",null,0,null,""]
["Tillægspriser som m²-priser",0,"S200141G","kvm",21.310319384571798,21.310319384571798,21.310319384571798,21.310319384571798,20.510413267152838,19.721551218416192,19.315916962209787,18.918625819989998,18.529506189999999,18.148389999999999,17.809999999999999,"2018-03-01","2017-03-01","Tillæg for friser, svejst i samlinger","Rum 50 - 100 kvm.","","",null,0,null,""]
["Tillægspriser som m²-priser",0,"S200141H","kvm",18.103600914574479,18.103600914574479,18.103600914574479,18.103600914574479,17.424062477935014,16.753906228783666,16.409310703999672,16.071802844270003,15.741236870000002,15.417470000000002,15.13,"2018-03-01","2017-03-01","Tillæg for friser, svejst i samlinger","Rum over 100 kvm.","","",null,0,null,""]
["Tillægspriser som m²-priser",0,"S200142A","kvm",4.3912898451082825,4.3912898451082825,4.3912898451082825,4.3912898451082825,4.2264579837423319,4.0639019074445502,3.9803152864295299,3.8984478809300001,3.8182643299999999,3.7397299999999998,3.67,"2018-03-01","2017-03-01","Tillæg for skridsikker vinyl","Rum under 2 kvm.","","",null,0,null,""]
["Tillægspriser som m²-priser",0,"S200142B","kvm",3.3024414094002341,3.3024414094002341,3.3024414094002341,3.3024414094002341,3.1784806635228433,3.0562314072335033,2.9933706241268396,2.9318027660399997,2.8715012399999997,2.8124399999999996,2.76,"2018-03-01","2017-03-01","Tillæg for skridsikker vinyl","Rum 2 - 6 kvm.","","",null,0,null,""]
["Tillægspriser som m²-priser",0,"S200142C","kvm",2.9075842843632507,2.9075842843632507,2.9075842843632507,2.9075842843632507,2.7984449320146783,2.6908124346294984,2.6354676147203704,2.5812611309700002,2.5281695700000002,2.4761700000000002,2.4300000000000002,"2018-03-01","2017-03-01","Tillæg for skridsikker vinyl","Rum 6 - 10 kvm.","","",null,0,null,""]
["Tillægspriser som m²-priser",0,"S200142D","kvm",2.644346201005261,2.644346201005261,2.644346201005261,2.644346201005261,2.5450877776759007,2.4471997862268275,2.3968656084493905,2.3475667075900004,2.2992817900000002,2.2519900000000002,2.21,"2018-03-01","2017-03-01","Tillæg for skridsikker vinyl","Rum 10 - 15 kvm.","","",null,0,null,""]
["Tillægspriser som m²-priser",0,"S200142E","kvm",2.4170042199233603,2.4170042199233603,2.4170042199233603,2.4170042199233603,2.3262793262015018,2.2368070444245212,2.1908002393971802,2.14573970558,2.10160598,2.0583800000000001,2.02,"2018-03-01","2017-03-01","Tillæg for skridsikker vinyl","Rum 15 - 30 kvm.","","",null,0,null,""]
["Tillægspriser som m²-priser",0,"S200142F","kvm",2.1418007691400076,2.1418007691400076,2.1418007691400076,2.1418007691400076,2.0614059375745981,1.9821210938217289,1.94135268738661,1.90142280841,1.8623142100000001,1.8240100000000001,1.79,"2018-03-01","2017-03-01","Tillæg for skridsikker vinyl","Rum 30 - 50 kvm.","","",null,0,null,""]
["Tillægspriser som m²-priser",0,"S200142G","kvm",2.0700085645878281,2.0700085645878281,2.0700085645878281,2.0700085645878281,1.9923085318458404,1.9156812806210004,1.8762794129490699,1.8376879656699998,1.7998902699999999,1.7628699999999999,1.73,"2018-03-01","2017-03-01","Tillæg for skridsikker vinyl","Rum 50 - 100 kvm.","","",null,0,null,""]
["Tillægspriser som m²-priser",0,"S200142H","kvm",1.9742856251849228,1.9742856251849228,1.9742856251849228,1.9742856251849228,1.9001786575408304,1.8270948630200292,1.7895150470323498,1.7527081753499998,1.7166583499999999,1.6813499999999999,1.65,"2018-03-01","2017-03-01","Tillæg for skridsikker vinyl","Rum over 100 kvm.","","",null,0,null,""]
["Tillægspriser som meterpriser",0,"S20014301","m",58.570473547152723,58.570473547152723,58.570473547152723,58.570473547152723,56.371966840377979,54.203814269594211,53.088946395293057,51.997009202050009,50.927531050000006,49.880050000000004,48.95,"2018-03-01","2017-03-01","Gulvskinne m/forboring, plugs, skrue, klæbning","Gulvskinne fastgjort med forboring, plugs, skrue og klæbning pr. m. / pr. samling / pr. gering","","",null,0,null,""]
["Tillægspriser som meterpriser",0,"S20014302","stk",58.570473547152723,58.570473547152723,58.570473547152723,58.570473547152723,56.371966840377979,54.203814269594211,53.088946395293057,51.997009202050009,50.927531050000006,49.880050000000004,48.95,"2018-03-01","2017-03-01","Pr. samling/gering m/forboring, plugs, skrue, klæbning","Gulvskinne fastgjort med forboring, plugs, skrue og klæbning pr. m. / pr. samling / pr. gering","","",null,0,null,""]
["Tillægspriser som meterpriser",0,"S20014401","m",39.066924643810744,39.066924643810744,39.066924643810744,39.066924643810744,37.600504950732187,36.154331683396336,35.410706839761346,34.682376924349995,33.969027349999998,33.270350000000001,32.65,"2018-03-01","2017-03-01","Gulvskinne i underlag af træ, inkl. klæbning","Gulvskinne fastgjort i underlag af træ, inkl. klæbning pr. m. / pr. samling / pr. gering","","",null,0,null,""]
["Tillægspriser som meterpriser",0,"S20014402","stk",39.066924643810744,39.066924643810744,39.066924643810744,39.066924643810744,37.600504950732187,36.154331683396336,35.410706839761346,34.682376924349995,33.969027349999998,33.270350000000001,32.65,"2018-03-01","2017-03-01","Pr. samling/gering i underlag af træ, inkl. klæbning","Gulvskinne fastgjort i underlag af træ, inkl. klæbning pr. m. / pr. samling / pr. gering","","",null,0,null,""]
["Tillægspriser som meterpriser",0,"S20014501","m",35.142284128291628,35.142284128291628,35.142284128291628,35.142284128291628,33.823180104226786,32.522288561756525,31.853367837175831,31.198205521230001,30.556518629999999,29.92803,29.37,"2018-03-01","2017-03-01","Gulvskinne med dobbeltklæbende tape","Gulvskinne monteret med dobbeltklæbende tape, pr. m / pr. samling / pr. gering","","",null,0,null,""]
["Tillægspriser som meterpriser",0,"S20014502","stk",35.142284128291628,35.142284128291628,35.142284128291628,35.142284128291628,33.823180104226786,32.522288561756525,31.853367837175831,31.198205521230001,30.556518629999999,29.92803,29.37,"2018-03-01","2017-03-01","Samling/gering med dobbeltklæbende tape","Gulvskinne monteret med dobbeltklæbende tape, pr. m / pr. samling / pr. gering","","",null,0,null,""]
["Tillægspriser som meterpriser",0,"S200146","m",8.0407269098440484,8.0407269098440484,8.0407269098440484,8.0407269098440484,7.7389094416208364,7.4412590784815738,7.2882067370044794,7.1383023868799995,6.9914812799999995,6.8476799999999995,6.72,"2018-03-01","2017-03-01","Plastfodlister i pkt. 36 i rum over 150 kvm","I rum over 150 m2 betales pkt. 36. Plastfodlister, type 1, inkl. tillæg pr. m. / pr. samling / pr. gering","","",null,0,null,""]
["Tillægspriser som meterpriser",0,"S200147","m",5.4801382808163313,5.4801382808163313,5.4801382808163313,5.4801382808163313,5.2744353039618206,5.071572407655597,4.9672599487322202,4.8650929958200004,4.76502742,4.6670199999999999,4.58,"2018-03-01","2017-03-01","Lister i pkt. 37 i rum over 150 kvm","I rum over 150 m2 betales pkt. 37. Lister/panellister af hårdt træ, fyr og plast/skum, inkl. tillæg pr. m. / pr. samling / pr. gering","","",null,0,null,""]
["Tillægspriser som meterpriser",0,"S200148","m",3.6255063298850403,3.6255063298850403,3.6255063298850403,3.6255063298850403,3.4894189893022522,3.3552105666367811,3.28620035909577,3.2186095583699998,3.1524089699999998,3.0875699999999999,3.03,"2018-03-01","2017-03-01","\"Strips\" Leveret tilskåret","For ”strips”, der leveres tilskårne, Tillægget gælder kun arbejde udført efter pkt. 20-01-30","","",null,0,null,""]
["Tillægspriser som meterpriser",0,"S200149","%",0.10805600000000001,0.10805600000000001,0.10805600000000001,0.10805600000000001,0.10400000000000001,{"$f":"SUM($O$349)","v":0.1},0.1,{"$f":"SUM($O$349)","v":0.1},{"$f":"SUM($O$349)","v":0.1},{"$f":"SUM($O$349)","v":0.1},0.1,"2018-03-01","2017-03-01","Diagonalt samt sildebensmøster","Ved lægning af diagonalt samt sildebensmøster. tillægges grundpriserne 10%. tillægget betales for arbejde udført efter 20-01-30","","",null,10,null,""]
["Tillægspriser som meterpriser",0,"S2001P0101","%",0.27013999999999999,0.27013999999999999,0.27013999999999999,0.27013999999999999,0.26,{"$f":"SUM($O$350)","v":0.25},0.25,0.25,0.25,{"$f":"SUM($O$350)","v":0.25},0.25,"2018-03-01","2017-03-01","Fradrag for manglende lister","Ved 1 væg :  Beregnes af punkterne 34 og 35.","","",null,10,null,""]
["Tillægspriser som meterpriser",0,"S2001P0102","%",0.54027999999999998,0.54027999999999998,0.54027999999999998,0.54027999999999998,0.52,{"$f":"SUM($O$351)","v":0.5},0.5,0.5,0.5,{"$f":"SUM($O$351)","v":0.5},0.5,"2018-03-01","2017-03-01","Fradrag for manglende lister","Ved 2 vægge :  Beregnes af punkterne 34 og 35.","","",null,10,null,""]
["Tillægspriser som meterpriser",0,"S2001P0103","%",0.81042000000000003,0.81042000000000003,0.81042000000000003,0.81042000000000003,0.78,{"$f":"SUM($O$352)","v":0.75},0.75,0.75,0.75,{"$f":"SUM($O$352)","v":0.75},0.75,"2018-03-01","2017-03-01","Fradrag for manglende lister","Ved 3 vægge :  Beregnes af punkterne 34 og 35.","","",null,10,null,""]
["Forberedende",0,"S200201A","kvm",3.3144067768255976,3.3144067768255976,3.3144067768255976,{"$f":"SUM(I353*$H$2+I353)","v":3.3144067768255976},{"$f":"SUM(J353*$I$2+J353)","v":3.1899968978109698},{"$f":"SUM(K353*$J$2+K353)","v":3.0673047094336248},{"$f":"SUM(L353*$K$2+L353)","v":3.0042161698664298},{"$f":"SUM(M353*$L$2+M353)","v":2.9424252398299999},{"$f":"SUM(N353*$M$2+N353)","v":2.8819052300000001},2.8226300000000002,2.77,"2018-03-01","2017-03-01","Støvsugning","Rum under 2 kvm.","","",null,0,null,""]
["Forberedende",0,"S200201B","kvm",2.4529003221994494,2.4529003221994494,2.4529003221994494,2.4529003221994494,2.3608280290658801,{"$f":"SUM(K354*$J$2+K354)","v":2.2700269510248847},{"$f":"SUM(L354*$K$2+L354)","v":2.2233368766159498},2.1776071269499999,2.1328179499999997,2.0889499999999996,2.0499999999999998,"2018-03-01","2017-03-01","Støvsugning","Rum 2 - 6 kvm."]
["Forberedende",0,"S200201C","kvm",2.1657315039907337,2.1657315039907337,2.1657315039907337,2.1657315039907337,2.0844384061508503,{"$f":"SUM(K355*$J$2+K355)","v":2.0042676982219714},1.9630437788657897,1.9226677559899998,1.8831221899999999,1.84439,1.81,"2018-03-01","2017-03-01","Støvsugning","Rum 6 - 10 kvm."]
["Forberedende",0,"S200201D","kvm",2.0101817274610121,2.0101817274610121,2.0101817274610121,2.0101817274610121,1.9347273604052091,1.8603147696203934,1.8220516842511199,1.7845755967199999,1.7478703199999999,1.7119199999999999,1.68,"2018-03-01","2017-03-01","Støvsugning","Rum 10 - 15 kvm."]
["Forberedende",0,"S200201E","kvm",1.9383895229088335,1.9383895229088335,1.9383895229088335,1.9383895229088335,1.8656299546764519,1.7938749564196652,1.7569784098135801,1.7208407539800001,1.6854463800000001,1.6507800000000001,1.62,"2018-03-01","2017-03-01","Støvsugning","Rum 15 - 30 kvm."]
["Forberedende",0,"S200201F","kvm",1.8426665835059279,1.8426665835059279,1.8426665835059279,1.8426665835059279,1.7735000803714418,1.705288538818694,1.67021404389686,1.6358609636600001,1.6022144600000001,1.5692600000000001,1.54,"2018-03-01","2017-03-01","Støvsugning","Rum 30 - 50 kvm."]
["Forberedende",0,"S200201G","kvm",1.7230129092522963,1.7230129092522963,1.7230129092522963,1.7230129092522963,1.6583377374901793,1.5945555168174801,1.56175858650096,1.52963622576,1.49817456,1.46736,1.44,"2018-03-01","2017-03-01","Støvsugning","Rum 50 - 100 kvm."]
["Forberedende",0,"S200201H","kvm",1.6751514395508436,1.6751514395508436,1.6751514395508436,1.6751514395508436,1.6122728003376743,1.5502623080169946,1.5183764035426,1.4871463305999999,1.4565585999999999,1.4265999999999999,1.4,"2018-03-01","2017-03-01","Støvsugning","Rum over 100 kvm."]
["Forberedende",0,"S200202A","kvm",8.4834455045824857,8.4834455045824857,8.4834455045824857,8.4834455045824857,8.1650101102815071,7.850971259886065,7.6894919293693098,7.5313339171099996,7.3764289099999996,7.22471,7.09,"2018-03-01","2017-03-01","Svabning, inkl. støvsugning","Rum under 2 kvm, inkl. støvsugning.","","",null,0,null,""]
["Forberedende",0,"S200202B","kvm",6.389506205143932,6.389506205143932,6.389506205143932,6.389506205143932,6.1496691098594152,5.9131433748648226,5.7915214249410605,5.6724010038600001,5.55573066,5.4414600000000002,5.34,"2018-03-01","2017-03-01","Svabning, inkl. støvsugning","Rum 2 - 6 kvm, inkl. støvsugning."]
["Forberedende",0,"S200202C","kvm",5.6596187921967802,5.6596187921967802,5.6596187921967802,5.6596187921967802,5.4471788182837155,5.2376719406574184,5.1299431348260711,5.0244301026700011,4.921087270000001,4.8198700000000008,4.7300000000000004,"2018-03-01","2017-03-01","Svabning, inkl. støvsugning","Rum 6 - 10 kvm, inkl. støvsugning."]
["Forberedende",0,"S200202D","kvm",5.109211890630073,5.109211890630073,5.109211890630073,5.109211890630073,4.9174320410299064,4.7283000394518329,4.6310480308049291,4.5357963083299992,4.4425037299999994,4.3511299999999995,4.2699999999999996,"2018-03-01","2017-03-01","Svabning, inkl. støvsugning","Rum 10 - 15 kvm, inkl. støvsugning."]
["Forberedende",0,"S200202E","kvm",4.8699045421228098,4.8699045421228098,4.8699045421228098,4.8699045421228098,4.6871073552673819,4.5068339954494059,4.41413711601313,4.3233468325300004,4.2344239300000002,4.1473300000000002,4.07,"2018-03-01","2017-03-01","Svabning, inkl. støvsugning","Rum 15 - 30 kvm, inkl. støvsugning."]
["Forberedende",0,"S200202F","kvm",4.6425625610409087,4.6425625610409087,4.6425625610409087,4.6425625610409087,4.4682989037929826,4.2964412536470986,4.2080717469609192,4.1215198305199996,4.0367481199999995,3.9537199999999997,3.88,"2018-03-01","2017-03-01","Svabning, inkl. støvsugning","Rum 30 - 50 kvm, inkl. støvsugning."]
["Forberedende",0,"S200202G","kvm",4.4511166822350985,4.4511166822350985,4.4511166822350985,4.4511166822350985,4.2840391551829633,4.1192684184451567,4.0345430151274799,3.95156024988,3.8702842799999999,3.79068,3.72,"2018-03-01","2017-03-01","Svabning, inkl. støvsugning","Rum 50 -100 kvm, inkl. støvsugning."]
["Forberedende",0,"S200202H","kvm",4.2596708034292883,4.2596708034292883,4.2596708034292883,4.2596708034292883,4.0997794065729432,3.9420955832432147,3.8610142832940397,3.7816006692399999,3.7038204399999999,3.62764,3.56,"2018-03-01","2017-03-01","Svabning, inkl. støvsugning","Rum over 100 kvm, inkl. støvsugning."]
["Forberedende",0,"S200203A","kvm",4.4152205799590103,4.4152205799590103,4.4152205799590103,4.4152205799590103,4.249490452318585,4.0860485118447931,4.0020063779087103,3.9196928285100001,3.8390723100000002,3.7601100000000001,3.69,"2018-03-01","2017-03-01","Maskinslibning, beton, asfalt og træ","Rum under 2 kvm, beton, asfalt og træ."]
["Forberedende",0,"S200203B","kvm",3.3144067768255976,3.3144067768255976,3.3144067768255976,3.3144067768255976,3.1899968978109698,3.0673047094336248,3.0042161698664298,2.9424252398299999,2.8819052300000001,2.8226300000000002,2.77,"2018-03-01","2017-03-01","Maskinslibning, beton, asfalt og træ","Rum 2 - 6 kvm, inkl. støvsugning."]
["Forberedende",0,"S200203C","kvm",2.9434803866393398,2.9434803866393398,2.9434803866393398,2.9434803866393398,2.8329936348790565,2.7240323412298619,2.66800425193914,2.6131285523400001,2.55938154,2.5067399999999997,2.46,"2018-03-01","2017-03-01","Maskinslibning, beton, asfalt og træ","Rum 6 - 10 kvm, beton, asfalt og træ."]
["Forberedende",0,"S200203D","kvm",2.68024230328135,2.68024230328135,2.68024230328135,2.68024230328135,2.5796364805402789,2.4804196928271911,2.4294022456681597,2.3794341289599998,2.33049376,2.2825600000000001,2.2400000000000002,"2018-03-01","2017-03-01","Maskinslibning, beton, asfalt og træ","Rum 10 - 15 kvm, beton, asfalt og træ."]
["Forberedende",0,"S200203E","kvm",2.5486232616023559,2.5486232616023559,2.5486232616023559,2.5486232616023559,2.452957903370891,2.3586133686258566,2.3101012425326704,2.2625869172700002,2.21604987,2.1704699999999999,2.13,"2018-03-01","2017-03-01","Maskinslibning, beton, asfalt og træ","Rum 15 - 30 kvm, beton, asfalt og træ."]
["Forberedende",0,"S200203F","kvm",2.4050388524979973,2.4050388524979973,2.4050388524979973,2.4050388524979973,2.3147630919133757,2.2257337422243997,2.1799546936575904,2.1351172317900002,2.0912019900000001,2.04819,2.0099999999999998,"2018-03-01","2017-03-01","Maskinslibning, beton, asfalt og træ","Rum 30 - 50 kvm, beton, asfalt og træ."]
["Forberedende",0,"S200203G","kvm",2.3212812805204543,2.3212812805204543,2.3212812805204543,2.3212812805204543,2.2341494518964913,2.1482206268235493,2.1040358734804596,2.0607599152599998,2.0183740599999997,1.9768599999999998,1.94,"2018-03-01","2017-03-01","Maskinslibning, beton, asfalt og træ","Rum 50 - 100 kvm, beton, asfalt og træ."]
["Forberedende",0,"S200203H","kvm",2.1537661365653706,2.1537661365653706,2.1537661365653706,2.1537661365653706,2.0729221718627242,1.9931943960218501,1.9521982331262,1.9120452822,1.8727182,1.8342000000000001,1.8,"2018-03-01","2017-03-01","Maskinslibning, beton, asfalt og træ","Rum over 100 kvm, beton, asfalt og træ."]
["Forberedende",0,"S200204A","kvm",7.7894541939114239,7.7894541939114239,7.7894541939114239,7.7894541939114239,7.4970685215701867,7.2087197322790253,7.0604502764730901,6.91523043729,6.7729974899999998,6.6336899999999996,6.51,"2018-03-01","2017-03-01","Maskinslibning, Anhydrit","Rum under 2 kvm, anhydrit."]
["Forberedende",0,"S200204B","kvm",5.8630300384279526,5.8630300384279526,5.8630300384279526,5.8630300384279526,5.64295480118186,5.4259180780594809,5.3143174123990997,5.2050121570999996,5.0979551000000001,4.9931000000000001,4.9000000000000004,"2018-03-01","2017-03-01","Maskinslibning, Anhydrit","Rum 2 - 6 kvm, anhydrit."]
["Forberedende",0,"S200204C","kvm",5.169038727756889,5.169038727756889,5.169038727756889,5.169038727756889,4.9750132124705377,4.7836665504524403,4.68527575950288,4.5889086772800001,4.4945236800000004,4.4020800000000007,4.32,"2018-03-01","2017-03-01","Maskinslibning, Anhydrit","Rum 6 - 10 kvm, anhydrit."]
["Forberedende",0,"S200204D","kvm",4.6425625610409087,4.6425625610409087,4.6425625610409087,4.6425625610409087,4.4682989037929826,4.2964412536470986,4.2080717469609192,4.1215198305199996,4.0367481199999995,3.9537199999999997,3.88,"2018-03-01","2017-03-01","Maskinslibning, Anhydrit","Rum 10 - 15 kvm, anhydrit."]
["Forberedende",0,"S200204E","kvm",4.4630820496604615,4.4630820496604615,4.4630820496604615,4.4630820496604615,4.2955553894710894,4.1303417206452782,4.0453885608670701,3.9621827236700002,3.8806882700000003,3.8008700000000002,3.73,"2018-03-01","2017-03-01","Maskinslibning, Anhydrit","Rum 15 - 30 kvm, anhydrit."]
["Forberedende",0,"S200204F","kvm",4.2955669057053782,4.2955669057053782,4.2955669057053782,4.2955669057053782,4.1343281094373223,3.9753154898435792,3.8935509205128103,3.8134680906100002,3.7350324100000001,3.65821,3.59,"2018-03-01","2017-03-01","Maskinslibning, Anhydrit","Rum 30 - 50 kvm, anhydrit."]
["Forberedende",0,"S200204G","kvm",4.0921556594742032,4.0921556594742032,4.0921556594742032,4.0921556594742032,3.9385521265391756,3.7870693524415149,3.7091766429397794,3.6328860361799995,3.5581645799999997,3.4849799999999997,3.42,"2018-03-01","2017-03-01","Maskinslibning, Anhydrit","Rum 50 - 100 kvm, anhydrit."]
["Forberedende",0,"S200204H","kvm",3.8528483109669405,3.8528483109669405,3.8528483109669405,3.8528483109669405,3.7082274407766511,3.5656033084390875,3.4922657281479799,3.4204365603799998,3.35008478,3.28118,3.22,"2018-03-01","2017-03-01","Maskinslibning, Anhydrit","Rum over 100 kvm, anhydrit."]
["Forberedende",0,"S200205A","kvm",2.8238267123857073,2.8238267123857073,2.8238267123857073,2.8238267123857073,2.7178312919977934,2.6132993192286476,2.5595487945432396,2.5069038144399998,2.4553416399999999,2.4048400000000001,2.36,"2018-03-01","2017-03-01","Primning","Rum under 2 kvm."]
["Forberedende",0,"S200205B","kvm",2.0939392994385546,2.0939392994385546,2.0939392994385546,2.0939392994385546,2.0153410004220929,1.9378278850212429,1.8979705044282498,1.8589329132499999,1.82069825,1.78325,1.75,"2018-03-01","2017-03-01","Primning","Rum 2 - 6 kvm."]
["Forberedende",0,"S200205C","kvm",1.8905280532073807,1.8905280532073807,1.8905280532073807,1.8905280532073807,1.8195650175239468,1.7495817476191797,1.7135962268552201,1.67835085882,1.64383042,1.61002,1.58,"2018-03-01","2017-03-01","Primning","Rum 6 - 10 kvm."]
["Forberedende",0,"S200205D","kvm",1.7110475418269333,1.7110475418269333,1.7110475418269333,1.7110475418269333,1.6468215032020532,1.5834822146173588,1.55091304076137,1.51901375197,1.4877705699999999,1.4571699999999999,1.43,"2018-03-01","2017-03-01","Primning","Rum 10 - 15 kvm."]
["Forberedende",0,"S200205E","kvm",{"$f":"SUM(F389*$E$2+F389)","v":1.555497765297212},{"$f":"SUM(G389*$F$2+G389)","v":1.555497765297212},{"$f":"SUM(H389*$G$2+H389)","v":1.555497765297212},{"$f":"SUM(I389*$H$2+I389)","v":1.555497765297212},{"$f":"SUM(J389*$I$2+J389)","v":1.4971104574564118},1.4395292860157807,1.4099209461466999,1.3809215927,1.3525187000000001,{"$f":"SUM(O389*$N$2+O389)","v":1.3247},1.3,"2018-03-01","2017-03-01","Primning","Rum 15 - 30 kvm."]
["Forberedende",0,"S200205F","kvm",1.4119133561928536,1.4119133561928536,1.4119133561928536,1.4119133561928536,1.3589156459988967,1.3066496596143238,1.2797743972716198,1.2534519072199999,1.2276708199999999,1.20242,1.18,"2018-03-01","2017-03-01","Primning","Rum 30 - 50 kvm."]
["Forberedende",0,"S200205G","kvm",1.340121151640675,1.340121151640675,1.340121151640675,1.340121151640675,1.2898182402701395,1.2402098464135956,1.2147011228340798,1.1897170644799999,1.16524688,1.1412800000000001,1.1200000000000001,"2018-03-01","2017-03-01","Primning","Rum 50 - 100 kvm."]
["Forberedende",0,"S200205H","kvm",1.2563635796631327,1.2563635796631327,1.2563635796631327,1.2563635796631327,1.2092046002532557,1.1626967310127458,1.1387823026569499,1.1153597479499999,1.0924189499999999,1.06995,1.05,"2018-03-01","2017-03-01","Primning","Rum over 100 kvm."]
["Forberedende",0,"S200206A","kvm",22.088068267220407,22.088068267220407,22.088068267220407,22.088068267220407,21.258968495881046,20.441315861424084,20.020877435283136,19.609086616339997,19.205765539999998,18.810739999999999,18.46,"2018-03-01","2017-03-01","Primn..+spartl..+slibn..+støvsug...","Rum under 2 kvm, inkl. slibning og støvsugning."]
["Forberedende",0,"S200206B","kvm",16.560068516702625,16.560068516702625,16.560068516702625,16.560068516702625,15.938468254766724,15.325450244968003,15.010235303592559,14.701503725359998,14.399122159999999,14.102959999999999,13.84,"2018-03-01","2017-03-01","Primn..+spartl..+slibn..+støvsug...","Rum 2 - 6 kvm, inkl. spartling og støvsugning."]
["Forberedende",0,"S200206C","kvm",14.69347119834597,14.69347119834597,14.69347119834597,14.69347119834597,14.141935705819028,13.598015101749066,13.318330168216519,13.04439781412,12.776099719999999,12.51332,12.28,"2018-03-01","2017-03-01","Primn..+spartl..+slibn..+støvsug...","Rum 6 - 10 kvm, inkl. slibning og støvsugning."]
["Forberedende",0,"S200206D","kvm",13.281557842153116,13.281557842153116,13.281557842153116,13.281557842153116,12.783020059820132,12.291365442134742,12.0385557709449,11.790945906899999,11.548428899999999,11.3109,11.1,"2018-03-01","2017-03-01","Primn..+spartl..+slibn..+støvsug...","Rum 10 - 15 kvm, inkl. slibning og støvsugning."]
["Forberedende",0,"S200206E","kvm",12.156813304168981,12.156813304168981,12.156813304168981,12.156813304168981,11.700494036736266,11.250475035323333,11.019074471423441,10.792433370640001,10.570453840000001,10.35304,10.16,"2018-03-01","2017-03-01","Primn..+spartl..+slibn..+støvsug...","Rum 15 - 30 kvm, inkl. slibning og støvsugning."]
["Forberedende",0,"S200206F","kvm",11.020103398759481,11.020103398759481,11.020103398759481,11.020103398759481,10.606451779364274,10.198511326311802,9.9887476261623913,9.7832983605900008,9.5820747900000001,9.3849900000000002,9.2100000000000009,"2018-03-01","2017-03-01","Primn..+spartl..+slibn..+støvsug...","Rum 30 - 50 kvm, inkl. slibning og støvsugning."]
["Forberedende",0,"S200206G","kvm",10.517557966894222,10.517557966894222,10.517557966894222,10.517557966894222,10.122769939262966,9.7334326339066983,9.5332347050996074,9.3371544614099982,9.145107209999999,8.9570099999999986,8.7899999999999991,"2018-03-01","2017-03-01","Primn..+spartl..+slibn..+støvsug...","Rum 50 - 100 kvm, inkl. slibning og støvsugning."]
["Forberedende",0,"S200206H","kvm",9.9073242282007037,9.9073242282007037,9.9073242282007037,9.9073242282007037,9.5354419905685308,9.1686942217005107,8.9801118723805207,8.7954082981199999,8.6145037200000001,8.4373199999999997,8.2799999999999994,"2018-03-01","2017-03-01","Primn..+spartl..+slibn..+støvsug...","Rum over 100 kvm, inkl. slibning og støvsugning."]
["Forberedende",0,"S200207A","kvm",33.108171665979889,33.108171665979889,33.108171665979889,33.108171665979889,31.865420275245324,30.639827187735889,30.009625061445533,29.392384976930003,28.787840330000002,28.195730000000001,27.67,"2018-03-01","2017-03-01","Primn..+spartl.. m/rive+slibn..+støvsug…","Rum under 2 kvm, inkl. slibning og støvsugning."]
["Forberedende",0,"S200207B","kvm",24.8520681424793,24.8520681424793,24.8520681424793,24.8520681424793,23.919218616438211,22.999248669652125,22.526198501128427,22.062878061829998,21.60908723,21.164629999999999,20.77,"2018-03-01","2017-03-01","Primn..+spartl.. m/rive+slibn..+støvsug…","Rum 2 - 6 kvm, inkl. spartling og støvsugning."]
["Forberedende",0,"S200207C","kvm",22.016276062668226,22.016276062668226,22.016276062668226,22.016276062668226,21.189871090152288,20.374876048223353,19.955804160845595,19.545351773599997,19.143341599999996,18.749599999999997,18.399999999999999,"2018-03-01","2017-03-01","Primn..+spartl.. m/rive+slibn..+støvsug…","Rum 6 - 10 kvm, inkl. slibning og støvsugning."]
["Forberedende",0,"S200207D","kvm",19.850544558677502,19.850544558677502,19.850544558677502,19.850544558677502,19.105432684001446,18.37060835000139,17.992760381979814,17.622684017610002,17.260219410000001,16.90521,16.59,"2018-03-01","2017-03-01","Primn..+spartl.. m/rive+slibn..+støvsug…","Rum 10 - 15 kvm, inkl. slibning og støvsugning."]
["Forberedende",0,"S200207E","kvm",18.211289221402748,18.211289221402748,18.211289221402748,18.211289221402748,17.527708586528149,16.853565948584759,16.506920615655982,16.167405108380002,15.834872780000001,15.509180000000001,15.22,"2018-03-01","2017-03-01","Primn..+spartl.. m/rive+slibn..+støvsug…","Rum 15 - 30 kvm, inkl. slibning og støvsugning."]
["Forberedende",0,"S200207F","kvm",16.560068516702625,16.560068516702625,16.560068516702625,16.560068516702625,15.938468254766724,15.325450244968003,15.010235303592559,14.701503725359998,14.399122159999999,14.102959999999999,13.84,"2018-03-01","2017-03-01","Primn..+spartl.. m/rive+slibn..+støvsug…","Rum 30 - 50 kvm, inkl. slibning og støvsugning."]
["Forberedende",0,"S200207G","kvm",15.710527429501845,15.710527429501845,15.710527429501845,15.710527429501845,15.120815620309763,14.539245788759388,14.240201556081672,13.947308086270002,13.660438870000002,13.379470000000001,13.13,"2018-03-01","2017-03-01","Primn..+spartl.. m/rive+slibn..+støvsug…","Rum 50 - 100 kvm, inkl. slibning og støvsugning."]
["Forberedende",0,"S200207H","kvm",14.896882444577145,14.896882444577145,14.896882444577145,14.896882444577145,14.337711688717174,13.786261239151129,13.502704445789549,13.224979868549999,12.952967549999999,12.686549999999999,12.45,"2018-03-01","2017-03-01","Primn..+spartl.. m/rive+slibn..+støvsug…","Rum over 100 kvm, inkl. slibning og støvsugning."]
["Forberedende",0,"S200208A","kvm",35.800379336686603,35.800379336686603,35.800379336686603,35.800379336686603,34.456572990073731,33.131320182763204,32.449872852853282,31.78244157968,31.128738080000002,30.488480000000003,29.92,"2018-03-01","2017-03-01","Aftagning og afrensning af belægning","Rum under 2 kvm, inkl. afrensning."]
["Forberedende",0,"S200208B","kvm",26.850284502514953,26.850284502514953,26.850284502514953,26.850284502514953,25.842429742555296,24.8484901370724,24.33740463963996,23.836831184760001,23.34655356,22.86636,22.44,"2018-03-01","2017-03-01","Aftagning og afrensning af belægning","Rum 2 - 6 kvm, inkl. afrensning."]
["Forberedende",0,"S200208C","kvm",23.787150441621982,23.787150441621982,23.787150441621982,23.787150441621982,22.894273764794978,22.013724773841325,21.56094493030492,21.11747789452,20.68313212,20.257719999999999,19.88,"2018-03-01","2017-03-01","Aftagning og afrensning af belægning","Rum 6 - 10 kvm, inkl. afrensning."]
["Forberedende",0,"S200208D","kvm",21.489799895952252,21.489799895952252,21.489799895952252,21.489799895952252,20.683156781474739,19.887650751418018,19.478600148303642,19.077962926840002,18.685566040000001,18.30124,17.96,"2018-03-01","2017-03-01","Aftagning og afrensning af belægning","Rum 10 - 15 kvm, inkl. afrensning."]
["Forberedende",0,"S200208E","kvm",19.706960149573142,19.706960149573142,19.706960149573142,19.706960149573142,18.967237872543929,18.237728723599933,17.862613833104731,17.495214332130001,17.13537153,16.78293,16.47,"2018-03-01","2017-03-01","Aftagning og afrensning af belægning","Rum 15 - 30 kvm, inkl. afrensning."]
["Forberedende",0,"S200208F","kvm",17.888224300917944,17.888224300917944,17.888224300917944,17.888224300917944,17.216770260748742,16.554586789181482,16.214090880687053,15.880598316050001,15.55396505,15.23405,14.95,"2018-03-01","2017-03-01","Aftagning og afrensning af belægning","Rum 30 - 50 kvm, inkl. afrensning."]
["Forberedende",0,"S200208G","kvm",16.990821744015701,16.990821744015701,16.990821744015701,16.990821744015701,16.353052689139268,15.724089124172373,15.4006749502178,15.083912781800001,14.7736658,14.469799999999999,14.2,"2018-03-01","2017-03-01","Aftagning og afrensning af belægning","Rum 50 -100 kvm, inkl. afrensning."]
["Forberedende",0,"S200208H","kvm",16.117349921964188,16.117349921964188,16.117349921964188,16.117349921964188,15.512367586106052,14.915738063563511,14.608950111227729,14.308472195129999,14.01417453,13.72593,13.47,"2018-03-01","2017-03-01","Aftagning og afrensning af belægning","Rum over 100 kvm, inkl. afrensning."]
["Forberedende",0,"S200209A","kvm",21.047081301213812,21.047081301213812,21.047081301213812,21.047081301213812,20.257056112814062,19.477938570013521,19.077314955938807,{"$f":"SUM(M417*$L$2+M417)","v":18.684931396609997},{"$f":"SUM(N417*$M$2+N417)","v":18.300618409999998},17.924209999999999,17.59,"2018-03-01","2017-03-01","Aftagning af ekstra lag belægning","Rum under 2 kvm.  Belægning."]
["Forberedende",0,"S200209B","kvm",15.794285001479382,15.794285001479382,15.794285001479382,15.794285001479382,15.201429260326643,14.616758904160234,{"$f":"SUM(L418*$K$2+L418)","v":14.316120376258798},14.021665402799998,13.733266799999999,13.450799999999999,13.2,"2018-03-01","2017-03-01","Aftagning af ekstra lag belægning","Rum 2 -  6 kvm.  Belægning."]
["Forberedende",0,"S200209C","kvm",13.999479887674907,13.999479887674907,13.999479887674907,13.999479887674907,13.473994117107706,{"$f":"SUM(K419*$J$2+K419)","v":12.955763574142026},12.6892885153203,12.4282943343,12.1726683,11.9223,11.7,"2018-03-01","2017-03-01","Aftagning af ekstra lag belægning","Rum 6 - 10 kvm.  Belægning."]
["Forberedende",0,"S200209D","kvm",12.647393368608869,12.647393368608869,12.647393368608869,12.647393368608869,12.172659642549441,11.704480425528308,11.463741846746629,11.22795479603,10.99701743,10.77083,10.57,"2018-03-01","2017-03-01","Aftagning af ekstra lag belægning","Rum 10 - 15 kvm.  Belægning."]
["Forberedende",0,"S200209E","kvm",11.594441035176914,11.594441035176914,11.594441035176914,11.594441035176914,11.159231025194334,10.730029831917628,10.509333821662711,10.293177102510001,10.08146631,9.8741099999999999,9.69,"2018-03-01","2017-03-01","Aftagning af ekstra lag belægning","Rum 15 - 30 kvm.  Belægning."]
["Forberedende",0,"S200209F","kvm",10.529523334319588,10.529523334319588,10.529523334319588,10.529523334319588,10.134286173551095,9.7445059361068225,9.5440802508391993,9.3477769351999989,9.1555111999999994,8.9672000000000001,8.8000000000000007,"2018-03-01","2017-03-01","Aftagning af ekstra lag belægning","Rum 30 - 50 kvm.  Belægning."]
["Forberedende",0,"S200209G","kvm",9.9671510653275188,9.9671510653275188,9.9671510653275188,9.9671510653275188,9.5930231620091622,9.2240607327011173,9.0343396010784698,8.8485206670699998,8.6665236700000001,8.48827,8.33,"2018-03-01","2017-03-01","Aftagning af ekstra lag belægning","Rum 50 - 100 kvm.  Belægning."]
["Forberedende",0,"S200209H","kvm",9.500501735738359,9.500501735738359,9.500501735738359,9.500501735738359,9.1438900247722419,8.7922019468963857,8.6113633172344617,8.4342441892600011,8.2607680600000002,8.0908600000000011,7.94,"2018-03-01","2017-03-01","Aftagning af ekstra lag belægning","Rum over 100 kvm.  Belægning."]
["Forberedende",0,"S200210A","kvm",57.565382683422207,57.565382683422207,57.565382683422207,57.565382683422207,55.40460316017537,53.27365688478401,52.177920553167496,51.104721403690007,50.053595890000004,49.024090000000001,48.11,"2018-03-01","2017-03-01","Aftagning af masonit, afrensning af søm","Rum under 2 kvm, inkl. afrensning af søm."]
["Forberedende",0,"S200210B","kvm",43.183011038135675,43.183011038135675,43.183011038135675,43.183011038135675,41.56208954584762,39.963547640238097,39.141574574180311,38.336507908110001,37.547999910000001,36.775710000000004,36.090000000000003,"2018-03-01","2017-03-01","Aftagning af masonit, afrensning af søm","Rum 2 - 6 kvm, inkl. afrensning af søm."]
["Forberedende",0,"S200210C","kvm",38.301141128587496,38.301141128587496,38.301141128587496,38.301141128587496,36.863465956292103,35.445640342588561,34.716591912427582,34.002538601789993,33.303171989999996,32.618189999999998,32.01,"2018-03-01","2017-03-01","Aftagning af masonit, afrensning af søm","Rum 6 - 10 kvm, inkl. afrensning af søm."]
["Forberedende",0,"S200210D","kvm",34.544015757023473,34.544015757023473,34.544015757023473,34.544015757023473,33.247368389820473,31.968623451750453,31.311090550196329,30.667081831729998,30.036319129999999,29.418530000000001,28.87,"2018-03-01","2017-03-01","Aftagning af masonit, afrensning af søm","Rum 10 - 15 kvm, inkl. afrensning af søm."]
["Forberedende",0,"S200210E","kvm",31.63643147266022,31.63643147266022,31.63643147266022,31.63643147266022,30.448923457805794,29.277811017120957,28.67562293547596,28.085820700759999,27.50814956,26.942360000000001,26.44,"2018-03-01","2017-03-01","Aftagning af masonit, afrensning af søm","Rum 15 - 30 kvm, inkl. afrensning af søm."]
["Forberedende",0,"S200210F","kvm",28.752777923147697,28.752777923147697,28.752777923147697,28.752777923147697,27.673510994367369,26.609145186891702,26.061846412234772,25.525804517370002,25.000787970000001,24.48657,24.03,"2018-03-01","2017-03-01","Aftagning af masonit, afrensning af søm","Rum 30 - 50 kvm, inkl. afrensning af søm."]
["Forberedende",0,"S200210G","kvm",27.340864566954846,27.340864566954846,27.340864566954846,27.340864566954846,26.314595348368474,25.302495527277379,24.782072014963152,24.272352610150001,23.773117150000001,23.28415,22.85,"2018-03-01","2017-03-01","Aftagning af masonit, afrensning af søm","Rum 50 - 100 kvm, inkl. afrensning af søm."]
["Forberedende",0,"S200210H","kvm",25.893055108485896,25.893055108485896,25.893055108485896,25.893055108485896,24.921130999505195,23.962625961062688,23.46976098047276,22.987033281559999,22.51423436,22.051159999999999,21.64,"2018-03-01","2017-03-01","Aftagning af masonit, afrensning af søm","Rum over 100 kvm, inkl. afrensning af søm."]
["Forberedende",0,"S200211A","kvm",33.145157694208329,33.145157694208329,33.145157694208329,33.145157694208329,31.901017992500801,30.67405576202,30.043149620000001,29.425219999999999,28.82,0,0,"2018-03-01","2017-03-01","Aftagning af hulkehl t.o.m. 15 cm","Aftagning og afrensning af hulkehl t.o.m. 15 cm. "]
["Forberedende",0,"S200211B","kvm",24.864618644995982,24.864618644995982,24.864618644995982,24.864618644995982,23.931298022132804,23.010863482820003,22.537574420000002,22.074020000000001,21.62,0,0,"2018-03-01","2017-03-01","Aftagning af hulkehl t.o.m. 15 cm","Aftagning og afrensning af hulkehl t.o.m. 15 cm. "]
["Forberedende",0,"S200211C","kvm",22.046935218527889,22.046935218527889,22.046935218527889,22.046935218527889,21.219379421104801,20.403249443370001,19.983593970000001,19.572570000000002,19.170000000000002,0,0,"2018-03-01","2017-03-01","Aftagning af hulkehl t.o.m. 15 cm","Aftagning og afrensning af hulkehl t.o.m. 15 cm. "]
["Forberedende",0,"S200211D","kvm",19.884794466789099,19.884794466789099,19.884794466789099,19.884794466789099,19.138396984397595,18.402304792689996,18.023804889999997,17.653089999999999,17.29,0,0,"2018-03-01","2017-03-01","Aftagning af hulkehl t.o.m. 15 cm","Aftagning og afrensning af hulkehl t.o.m. 15 cm. "]
["Forberedende",0,"S200211E","kvm",18.228686656946635,18.228686656946635,18.228686656946635,18.228686656946635,17.544452990324,16.869666336849999,16.522689849999999,16.182849999999998,15.85,0,0,"2018-03-01","2017-03-01","Aftagning af hulkehl t.o.m. 15 cm","Aftagning og afrensning af hulkehl t.o.m. 15 cm. "]
["Forberedende",0,"S200211F","kvm",16.572578847104165,16.572578847104165,16.572578847104165,16.572578847104165,15.950508996250401,15.33702788101,15.021574810000001,14.71261,14.41,0,0,"2018-03-01","2017-03-01","Aftagning af hulkehl t.o.m. 15 cm","Aftagning og afrensning af hulkehl t.o.m. 15 cm. "]
["Forberedende",0,"S200211G","kvm",15.744524942182931,15.744524942182931,15.744524942182931,15.744524942182931,15.1535369992136,14.57070865309,14.27101729,13.97749,13.69,0,0,"2018-03-01","2017-03-01","Aftagning af hulkehl t.o.m. 15 cm","Aftagning og afrensning af hulkehl t.o.m. 15 cm. "]
["Forberedende",0,"S200211H","kvm",14.916471037261696,14.916471037261696,14.916471037261696,14.916471037261696,14.356565002176801,13.804389425170001,13.52045977,13.242370000000001,12.97,0,0,"2018-03-01","2017-03-01","Aftagning af hulkehl t.o.m. 15 cm","Aftagning og afrensning af hulkehl t.o.m. 15 cm. "]
["Forberedende",0,"S200212A","kvm",39.263555991681912,39.263555991681912,39.263555991681912,39.263555991681912,37.789755526161606,36.336303390540003,35.588935740000004,34.856940000000002,34.14,0,0,"2018-03-01","2017-03-01","Aftagning af hulkehl t.o.m. 30 cm","Aftagning og afrensning af hulkehl t.o.m. 30 cm. "]
["Forberedende",0,"S200212B","kvm",29.45341736810116,29.45341736810116,29.45341736810116,29.45341736810116,28.347851172378402,27.257549204210001,26.69691401,26.14781,25.61,0,0,"2018-03-01","2017-03-01","Aftagning af hulkehl t.o.m. 30 cm","Aftagning og afrensning af hulkehl t.o.m. 30 cm. "]
["Forberedende",0,"S200212C","kvm",26.106699502377833,26.106699502377833,26.106699502377833,26.106699502377833,25.126756017687999,24.1603423247,23.6634107,23.1767,22.7,0,0,"2018-03-01","2017-03-01","Aftagning af hulkehl t.o.m. 30 cm","Aftagning og afrensning af hulkehl t.o.m. 30 cm. "]
["Forberedende",0,"S200212D","kvm",23.553533295537356,23.553533295537356,23.553533295537356,23.553533295537356,22.669425693491199,21.797524705280001,21.349191680000001,20.910080000000001,20.48,0,0,"2018-03-01","2017-03-01","Aftagning af hulkehl t.o.m. 30 cm","Aftagning og afrensning af hulkehl t.o.m. 30 cm. "]
["Forberedende",0,"S200212E","kvm",21.598406020028889,21.598406020028889,21.598406020028889,21.598406020028889,20.787686256043205,19.988159861580005,19.577041980000004,19.174380000000003,18.78,0,0,"2018-03-01","2017-03-01","Aftagning af hulkehl t.o.m. 30 cm","Aftagning og afrensning af hulkehl t.o.m. 30 cm. "]
["Forberedende",0,"S200212F","kvm",19.631777995840956,19.631777995840956,19.631777995840956,19.631777995840956,18.894877763080803,18.168151695270002,17.794467870000002,17.428470000000001,17.07,0,0,"2018-03-01","2017-03-01","Aftagning af hulkehl t.o.m. 30 cm","Aftagning og afrensning af hulkehl t.o.m. 30 cm. "]
["Forberedende",0,"S200212G","kvm",18.654214358086715,18.654214358086715,18.654214358086715,18.654214358086715,17.954008044356801,17.26346927342,16.908393020000002,16.56062,16.22,0,0,"2018-03-01","2017-03-01","Aftagning af hulkehl t.o.m. 30 cm","Aftagning og afrensning af hulkehl t.o.m. 30 cm. "]
["Forberedende",0,"S200212H","kvm",17.665149971653015,17.665149971653015,17.665149971653015,17.665149971653015,17.002069270118398,16.348143528959998,16.01189376,15.682559999999999,15.36,0,0,"2018-03-01","2017-03-01","Aftagning af hulkehl t.o.m. 30 cm","Aftagning og afrensning af hulkehl t.o.m. 30 cm. "]
["Belægning",0,"S200213A","kvm",61.681469077747131,61.681469077747131,61.681469077747131,61.681469077747131,59.366187755290788,57.082872841625758,55.908788287586439,54.758852387449991,{"$f":"SUM(N449*$M$2+N449)","v":53.632568449999994},52.529449999999997,51.55,"2018-03-01","2017-03-01","Lægning af vinyl","Rum under 2 kvm. Linoleum/vinyl, klæbning, almindelig tilskæring, div. Tillæg"]
["Belægning",0,"S200213B","kvm",41.36427518948048,41.36427518948048,41.36427518948048,41.36427518948048,39.811621934052432,38.280405705819646,37.493051621762632,36.721891892030001,35.966593430000003,35.22683,34.57,"2018-03-01","2017-03-01","Lægning af vinyl","Rum 2 - 6 kvm. Linoleum/vinyl, klæbning, almindelig tilskæring, div. Tillæg"]
["Belægning",0,"S200213C","kvm",31.959496393145031,31.959496393145031,31.959496393145031,31.959496393145031,30.759861783585208,29.576790176524238,28.968452670444893,28.372627493090004,27.789057290000002,27.217490000000002,26.71,"2018-03-01","2017-03-01","Lægning af vinyl","Rum 6 - 10 kvm. Linoleum/vinyl, klæbning, almindelig tilskæring, div. Tillæg"]
["Belægning",0,"S200213D","kvm",24.983687184158295,24.983687184158295,24.983687184158295,24.983687184158295,24.045897193607598,23.121054993853459,22.645499504263917,22.179725273519995,21.723531119999997,21.276719999999997,20.88,"2018-03-01","2017-03-01","Lægning af vinyl","Rum 10 - 15 kvm. Linoleum/vinyl, klæbning, almindelig tilskæring, div. Tillæg"]
["Belægning",0,"S200213E","kvm",{"$f":"SUM(F453*$E$2+F453)","v":21.956449225541416},{"$f":"SUM(G453*$F$2+G453)","v":21.956449225541416},{"$f":"SUM(H453*$G$2+H453)","v":21.956449225541416},{"$f":"SUM(I453*$H$2+I453)","v":21.956449225541416},{"$f":"SUM(J453*$I$2+J453)","v":21.13228991871166},20.31950953722275,19.90157643214765,19.49223940465,19.091321650000001,{"$f":"SUM(O453*$N$2+O453)","v":18.698650000000001},18.350000000000001,"2018-03-01","2017-03-01","Lægning af vinyl","Rum 15 - 30 kvm. Linoleum/vinyl, klæbning, almindelig tilskæring, div. Tillæg"]
["Belægning",0,"S200213F","kvm",18.905280532073807,18.905280532073807,18.905280532073807,18.905280532073807,18.195650175239468,17.495817476191796,17.135962268552198,16.7835085882,16.438304200000001,16.100200000000001,15.8,"2018-03-01","2017-03-01","Lægning af vinyl","Rum 30 - 50 kvm. Linoleum/vinyl, klæbning, almindelig tilskæring, div. Tillæg"]
["Belægning",0,"S200213G","kvm",16.787410497784524,16.787410497784524,16.787410497784524,16.787410497784524,16.15727670624112,15.535842986770309,15.216300672644769,14.903330727369999,14.596797969999999,14.296569999999999,14.03,"2018-03-01","2017-03-01","Lægning af vinyl","Rum 50 - 100 kvm. Linoleum/vinyl, klæbning, almindelig tilskæring, div. Tillæg"]
["Belægning",0,"S200213H","kvm",15.375497141591671,15.375497141591671,15.375497141591671,15.375497141591671,14.798361060242224,14.229193327155985,13.936526275373149,13.649878820149999,13.369127149999999,13.094149999999999,12.85,"2018-03-01","2017-03-01","Lægning af vinyl","Rum over 100 kvm. Linoleum/vinyl, klæbning, almindelig tilskæring, div. Tillæg"]
["Belægning",0,"S200214A","kvm",7.9928654401425963,7.9928654401425963,7.9928654401425963,7.9928654401425963,7.6928445044683311,7.3969658696810878,7.2448245540461196,7.0958124917199994,6.9498653199999998,6.8069199999999999,6.68,"2018-03-01","2017-03-01","Opskæring af vinyl","Rum under 2 kvm (20% tillæg)"]
["Belægning",0,"S200214B","kvm",4.9656274815257166,4.9656274815257166,4.9656274815257166,4.9656274815257166,4.7792372295723933,4.5954204130503777,4.5009014819298505,4.4083266228500007,4.3176558500000004,4.2288500000000004,4.1500000000000004,"2018-03-01","2017-03-01","Opskæring af vinyl","Rum 2 - 6 kvm (20% tillæg)"]
["Belægning",0,"S200214C","kvm",3.793021473840124,3.793021473840124,3.793021473840124,3.793021473840124,3.6506462693360193,3.51023679743848,3.4380379994500294,3.3673241914299994,3.2980648299999995,3.2302299999999997,3.17,"2018-03-01","2017-03-01","Opskæring af vinyl","Rum 6 - 10 kvm (20% tillæg)"]
["Belægning",0,"S200214D","kvm",3.1229608980197869,3.1229608980197869,3.1229608980197869,3.1229608980197869,3.0057371492009497,2.8901318742316824,2.8306874380329896,2.7724656591899994,2.7154413899999996,2.6595899999999997,2.61,"2018-03-01","2017-03-01","Opskæring af vinyl","Rum 10 - 15 kvm (20% tillæg)"]
["Belægning",0,"S200214E","kvm",2.8956189169378872,2.8956189169378872,2.8956189169378872,2.8956189169378872,2.7869286977265517,2.6797391324293764,2.6246220689807802,2.5706386571800004,2.5177655800000003,2.4659800000000001,2.42,"2018-03-01","2017-03-01","Opskæring af vinyl","Rum 15 - 30 kvm (20% tillæg)"]
["Belægning",0,"S200214F","kvm",2.6204154661545345,2.6204154661545345,2.6204154661545345,2.6204154661545345,2.522055309099648,2.4250531818265846,2.3751745169702101,2.3263217600099999,2.2784738099999999,2.2316099999999999,2.19,"2018-03-01","2017-03-01","Opskæring af vinyl","Rum 30 - 50 kvm (20% tillæg)"]
["Belægning",0,"S200214G","kvm",2.5486232616023559,2.5486232616023559,2.5486232616023559,2.5486232616023559,2.452957903370891,2.3586133686258566,2.3101012425326704,2.2625869172700002,2.21604987,2.1704699999999999,2.13,"2018-03-01","2017-03-01","Opskæring af vinyl","Rum 50 - 100 kvm (20% tillæg)"]
["Belægning",0,"S200214H","kvm",2.3571773827965448,2.3571773827965448,2.3571773827965448,2.3571773827965448,2.2686981547608709,2.1814405334239142,2.1365725106992302,2.0926273366300001,2.0495860299999999,2.0074299999999998,1.97,"2018-03-01","2017-03-01","Opskæring af vinyl","Rum over 100 kvm (20% tillæg)"]
["Belægning",0,"S200215A","m",92.005989435692825,92.005989435692825,92.005989435692825,92.005989435692825,88.552444115200018,85.146580880000016,83.395280000000014,81.680000000000007,80,0,0,"2018-03-01","2017-03-01","Hulkehl t.o.m. 15 cm pr. m.","Hulkehl t.o.m. 15 cm inklusive limning og afskæring af top med +/- 5 mm"]
["Belægning",0,"S200215B","m",69.004492076769594,69.004492076769594,69.004492076769594,69.004492076769594,66.414333086399992,63.859935659999998,62.546459999999996,61.26,60,0,0,"2018-03-01","2017-03-01","Hulkehl t.o.m. 15 cm pr. m.","Hulkehl t.o.m. 15 cm inklusive limning og afskæring af top med +/- 5 mm"]
["Belægning",0,"S200215C","m",61.183982974735706,61.183982974735706,61.183982974735706,61.183982974735706,58.887375336607995,56.622476285199994,55.457861199999996,54.3172,53.2,0,0,"2018-03-01","2017-03-01","Hulkehl t.o.m. 15 cm pr. m.","Hulkehl t.o.m. 15 cm inklusive limning og afskæring af top med +/- 5 mm"]
["Belægning",0,"S200215D","m",55.203593661415681,55.203593661415681,55.203593661415681,55.203593661415681,53.131466469119999,51.087948527999998,50.037168000000001,49.008000000000003,48,0,0,"2018-03-01","2017-03-01","Hulkehl t.o.m. 15 cm pr. m.","Hulkehl t.o.m. 15 cm inklusive limning og afskæring af top med +/- 5 mm"]
["Belægning",0,"S200215E","m",50.603294189631043,50.603294189631043,50.603294189631043,50.603294189631043,48.703844263360004,46.830619484000003,45.867404000000001,44.923999999999999,44,0,0,"2018-03-01","2017-03-01","Hulkehl t.o.m. 15 cm pr. m.","Hulkehl t.o.m. 15 cm inklusive limning og afskæring af top med +/- 5 mm"]
["Belægning",0,"S200215F","m",46.002994717846413,46.002994717846413,46.002994717846413,46.002994717846413,44.276222057600009,42.573290440000008,41.697640000000007,40.840000000000003,40,0,0,"2018-03-01","2017-03-01","Hulkehl t.o.m. 15 cm pr. m.","Hulkehl t.o.m. 15 cm inklusive limning og afskæring af top med +/- 5 mm"]
["Belægning",0,"S200215G","m",43.70284498195408,43.70284498195408,43.70284498195408,43.70284498195408,42.062410954720001,40.444625918,39.612757999999999,38.798000000000002,38,0,0,"2018-03-01","2017-03-01","Hulkehl t.o.m. 15 cm pr. m.","Hulkehl t.o.m. 15 cm inklusive limning og afskæring af top med +/- 5 mm"]
["Belægning",0,"S200215H","m",41.402695246061761,41.402695246061761,41.402695246061761,41.402695246061761,39.84859985184,38.315961395999999,37.527875999999999,36.756,36,0,0,"2018-03-01","2017-03-01","Hulkehl t.o.m. 15 cm pr. m.","Hulkehl t.o.m. 15 cm inklusive limning og afskæring af top med +/- 5 mm"]
["Belægning",0,"S200216A","stk",54.858571201031836,54.858571201031836,54.858571201031836,54.858571201031836,52.799394803688003,50.7686488497,49.724435700000001,48.701700000000002,47.7,0,0,"2018-03-01","2017-03-01","Indvendige hulkehlhjørne t.o.m. 15 cm","Indvendige hulkehlhjørner t.o.m. 15 cm inkl. opskæring, fræsning og svejsning og afskæring af tråd"]
["Belægning",0,"S200216B","stk",41.149678775113593,41.149678775113593,41.149678775113593,41.149678775113593,39.60508063052319,38.081808298579993,37.298538979999996,36.531379999999999,35.78,0,0,"2018-03-01","2017-03-01","Indvendige hulkehlhjørne t.o.m. 15 cm","Indvendige hulkehlhjørner t.o.m. 15 cm inkl. opskæring, fræsning og svejsning og afskæring af tråd"]
["Belægning",0,"S200216C","stk",36.48037481125219,36.48037481125219,36.48037481125219,36.48037481125219,35.111044091676796,33.760619318919993,33.066228519999996,32.386119999999998,31.72,0,0,"2018-03-01","2017-03-01","Indvendige hulkehlhjørne t.o.m. 15 cm","Indvendige hulkehlhjørner t.o.m. 15 cm inkl. opskæring, fræsning og svejsning og afskæring af tråd"]
["Belægning",0,"S200216D","stk",32.915142720619102,32.915142720619102,32.915142720619102,32.915142720619102,31.679636882212804,30.461189309820004,29.834661420000003,29.221020000000003,28.62,0,0,"2018-03-01","2017-03-01","Indvendige hulkehlhjørne t.o.m. 15 cm","Indvendige hulkehlhjørner t.o.m. 15 cm inkl. opskæring, fræsning og svejsning og afskæring af tråd"]
["Belægning",0,"S200216E","stk",30.177964534907236,30.177964534907236,30.177964534907236,30.177964534907236,29.045201669785598,27.928078528639997,27.353651839999998,26.791039999999999,26.24,0,0,"2018-03-01","2017-03-01","Indvendige hulkehlhjørne t.o.m. 15 cm","Indvendige hulkehlhjørner t.o.m. 15 cm inkl. opskæring, fræsning og svejsning og afskæring af tråd"]
["Belægning",0,"S200216F","stk",27.429285600515918,27.429285600515918,27.429285600515918,27.429285600515918,26.399697401844001,25.38432442485,24.86221785,24.350850000000001,23.85,0,0,"2018-03-01","2017-03-01","Indvendige hulkehlhjørne t.o.m. 15 cm","Indvendige hulkehlhjørner t.o.m. 15 cm inkl. opskæring, fræsning og svejsning og afskæring af tråd"]
["Belægning",0,"S200216G","stk",26.060696507659987,26.060696507659987,26.060696507659987,26.060696507659987,25.082479795630402,24.11776903426,23.621713060000001,23.135860000000001,22.66,0,0,"2018-03-01","2017-03-01","Indvendige hulkehlhjørne t.o.m. 15 cm","Indvendige hulkehlhjørner t.o.m. 15 cm inkl. opskæring, fræsning og svejsning og afskæring af tråd"]
["Belægning",0,"S200216H","stk",24.692107414804049,24.692107414804049,24.692107414804049,24.692107414804049,23.765262189416795,22.851213643669997,22.381208269999998,21.920869999999997,21.47,0,0,"2018-03-01","2017-03-01","Indvendige hulkehlhjørne t.o.m. 15 cm","Indvendige hulkehlhjørner t.o.m. 15 cm inkl. opskæring, fræsning og svejsning og afskæring af tråd"]
["Belægning",0,"S200217A","stk",109.83214988885828,109.83214988885828,109.83214988885828,109.83214988885828,105.70948016252001,101.64373092550001,99.553115500000004,97.505499999999998,95.5,0,0,"2018-03-01","2017-03-01","Udvendige hulkehlhjørner t.o.m. 15 cm","Udvendige hulkehlhjørner t.o.m. 15 cm, inkl. opskæring, fræsning og svejsning og afskæring af tråd"]
["Belægning",0,"S200217B","stk",82.379862790983452,82.379862790983452,82.379862790983452,82.379862790983452,79.287644649647206,76.23811985543,74.670048829999999,73.134230000000002,71.63,0,0,"2018-03-01","2017-03-01","Udvendige hulkehlhjørner t.o.m. 15 cm","Udvendige hulkehlhjørner t.o.m. 15 cm, inkl. opskæring, fræsning og svejsning og afskæring af tråd"]
["Belægning",0,"S200217C","stk",73.041254863260619,73.041254863260619,73.041254863260619,73.041254863260619,70.299571571954402,67.595741896109999,66.205427909999997,64.843710000000002,63.51,0,0,"2018-03-01","2017-03-01","Udvendige hulkehlhjørner t.o.m. 15 cm","Udvendige hulkehlhjørner t.o.m. 15 cm, inkl. opskæring, fræsning og svejsning og afskæring af tråd"]
["Belægning",0,"S200217D","stk",65.899289933314961,65.899289933314961,65.899289933314961,65.899289933314961,63.425688097511994,60.986238555299991,59.731869299999993,58.503299999999996,57.3,0,0,"2018-03-01","2017-03-01","Udvendige hulkehlhjørner t.o.m. 15 cm","Udvendige hulkehlhjørner t.o.m. 15 cm, inkl. opskæring, fræsning og svejsning og afskæring af tråd"]
["Belægning",0,"S200217E","stk",60.413432813211791,60.413432813211791,60.413432813211791,60.413432813211791,58.145748617143205,55.909373670330005,54.759425730000004,53.633130000000001,52.53,0,0,"2018-03-01","2017-03-01","Udvendige hulkehlhjørner t.o.m. 15 cm","Udvendige hulkehlhjørner t.o.m. 15 cm, inkl. opskæring, fræsning og svejsning og afskæring af tråd"]
["Belægning",0,"S200217F","stk",54.916074944429141,54.916074944429141,54.916074944429141,54.916074944429141,52.854740081260005,50.821865462750004,49.776557750000002,48.752749999999999,47.75,0,0,"2018-03-01","2017-03-01","Udvendige hulkehlhjørner t.o.m. 15 cm","Udvendige hulkehlhjørner t.o.m. 15 cm, inkl. opskæring, fræsning og svejsning og afskæring af tråd"]
["Belægning",0,"S200217G","stk",52.167396010037812,52.167396010037812,52.167396010037812,52.167396010037812,50.209235813318394,48.278111358959997,47.285123759999998,46.312559999999998,45.36,0,0,"2018-03-01","2017-03-01","Udvendige hulkehlhjørner t.o.m. 15 cm","Udvendige hulkehlhjørner t.o.m. 15 cm, inkl. opskæring, fræsning og svejsning og afskæring af tråd"]
["Belægning",0,"S200217H","stk",49.43021782432595,49.43021782432595,49.43021782432595,49.43021782432595,47.574800600891194,45.745000577779997,44.804114179999999,43.882579999999997,42.98,0,0,"2018-03-01","2017-03-01","Udvendige hulkehlhjørner t.o.m. 15 cm","Udvendige hulkehlhjørner t.o.m. 15 cm, inkl. opskæring, fræsning og svejsning og afskæring af tråd"]
["Belægning",0,"S200218A","stk",54.973578687826439,54.973578687826439,54.973578687826439,54.973578687826439,52.910085358831992,50.875082075799995,49.828679799999996,48.803799999999995,47.8,0,0,"2018-03-01","2017-03-01","Lige samling i hulkehl t.o.m. 15 cm","Lige samlinger i hulkehlen t.o.m. 15 cm, på væg inkl. opskæring, fræsning og svejsning og afskæring af tråd"]
["Belægning",0,"S200218B","stk",41.230184015869838,41.230184015869838,41.230184015869838,41.230184015869838,39.682564019124001,38.15631155685,37.371509850000002,36.602850000000004,35.85,0,0,"2018-03-01","2017-03-01","Lige samling i hulkehl t.o.m. 15 cm","Lige samlinger i hulkehlen t.o.m. 15 cm, på væg inkl. opskæring, fræsning og svejsning og afskæring af tråd"]
["Belægning",0,"S200218C","stk",36.560880052008422,36.560880052008422,36.560880052008422,36.560880052008422,35.188527480277592,33.835122577189992,33.139199389999995,32.457589999999996,31.79,0,0,"2018-03-01","2017-03-01","Lige samling i hulkehl t.o.m. 15 cm","Lige samlinger i hulkehlen t.o.m. 15 cm, på væg inkl. opskæring, fræsning og svejsning og afskæring af tråd"]
["Belægning",0,"S200218D","stk",32.984147212695866,32.984147212695866,32.984147212695866,32.984147212695866,31.746051215299197,30.525049245479998,29.89720788,29.28228,28.68,0,0,"2018-03-01","2017-03-01","Lige samling i hulkehl t.o.m. 15 cm","Lige samlinger i hulkehlen t.o.m. 15 cm, på væg inkl. opskæring, fræsning og svejsning og afskæring af tråd"]
["Belægning",0,"S200218E","stk",30.235468278304541,30.235468278304541,30.235468278304541,30.235468278304541,29.100546947357596,27.981295141689998,27.405773889999999,26.842089999999999,26.29,0,0,"2018-03-01","2017-03-01","Lige samling i hulkehl t.o.m. 15 cm","Lige samlinger i hulkehlen t.o.m. 15 cm, på væg inkl. opskæring, fræsning og svejsning og afskæring af tråd"]
["Belægning",0,"S200218F","stk",27.48678934391322,27.48678934391322,27.48678934391322,27.48678934391322,26.455042679415996,25.437541037899997,24.914339899999998,24.401899999999998,23.9,0,0,"2018-03-01","2017-03-01","Lige samling i hulkehl t.o.m. 15 cm","Lige samlinger i hulkehlen t.o.m. 15 cm, på væg inkl. opskæring, fræsning og svejsning og afskæring af tråd"]
["Belægning",0,"S200218G","stk",26.118200251057292,26.118200251057292,26.118200251057292,26.118200251057292,25.1378250732024,24.170985647310001,23.673835110000002,23.186910000000001,22.71,0,0,"2018-03-01","2017-03-01","Lige samling i hulkehl t.o.m. 15 cm","Lige samlinger i hulkehlen t.o.m. 15 cm, på væg inkl. opskæring, fræsning og svejsning og afskæring af tråd"]
["Belægning",0,"S200218H","stk",24.738110409521902,24.738110409521902,24.738110409521902,24.738110409521902,23.809538411474399,22.89378693411,22.422905910000001,21.96171,21.51,0,0,"2018-03-01","2017-03-01","Lige samling i hulkehl t.o.m. 15 cm","Lige samlinger i hulkehlen t.o.m. 15 cm, på væg inkl. opskæring, fræsning og svejsning og afskæring af tråd"]
["Belægning",0,"S200219A","kvm",21.4419384262508,21.4419384262508,21.4419384262508,21.4419384262508,20.637091844322232,19.843357542617529,19.435217965345277,19.035473031679999,18.64395008,18.260480000000001,17.920000000000002,"2018-03-01","2017-03-01","Trådsvejsning/trådfugning, 200 cm","Rum under 2 kvm. Trådsvejsning/trådfugning af 200 cm banebredde"]
["Belægning",0,"S200219B","kvm",10.756865315401487,10.756865315401487,10.756865315401487,10.756865315401487,10.353094625025493,9.954898677909128,9.7501456198914092,9.5496039372099997,9.3531870099999992,9.1608099999999997,8.99,"2018-03-01","2017-03-01","Trådsvejsning/trådfugning, 200 cm","Rum 2 - 6 kvm. Trådsvejsning/trådfugning af 200 cm banebredde"]
["Belægning",0,"S200219C","kvm",9.3688826940593621,9.3688826940593621,9.3688826940593621,9.3688826940593621,9.0172114476028504,8.6703956226950485,8.4920623140989697,8.3173969775700005,8.1463241699999998,7.9787699999999999,7.83,"2018-03-01","2017-03-01","Trådsvejsning/trådfugning, 200 cm","Rum 6 - 10 kvm. Trådsvejsning/trådfugning af 200 cm banebredde"]
["Belægning",0,"S200219D","kvm",7.968934705291872,7.968934705291872,7.968934705291872,7.968934705291872,7.6698120358920807,7.3748192652808466,7.223133462566941,7.0745675441400007,6.9290573400000008,6.7865400000000005,6.66,"2018-03-01","2017-03-01","Trådsvejsning/trådfugning, 200 cm","Rum 10 - 15 kvm. Trådsvejsning/trådfugning af 200 cm banebredde"]
["Belægning",0,"S200219E","kvm",7.2031511900686267,7.2031511900686267,7.2031511900686267,7.2031511900686267,6.9327730414519984,6.6661279244730753,6.5290185352331784,6.3947292215799987,6.2632019799999989,6.1343799999999993,6.02,"2018-03-01","2017-03-01","Trådsvejsning/trådfugning, 200 cm","Rum 15 - 30 kvm. Trådsvejsning/trådfugning af 200 cm banebredde"]
["Belægning",0,"S200219F","kvm",6.4373676748453841,6.4373676748453841,6.4373676748453841,6.4373676748453841,6.1957340470119195,5.9574365836653076,5.8349036078994194,5.7148908990199994,5.5973466199999997,5.4822199999999999,5.38,"2018-03-01","2017-03-01","Trådsvejsning/trådfugning, 200 cm","Rum 30 - 50 kvm. Trådsvejsning/trådfugning af 200 cm banebredde"]
["Belægning",0,"S200219G","kvm",5.8271339361518635,5.8271339361518635,5.8271339361518635,5.8271339361518635,5.6084060983174817,5.3926981714591173,5.2817807751803301,5.1731447357300002,5.0667431299999999,4.9625300000000001,4.87,"2018-03-01","2017-03-01","Trådsvejsning/trådfugning, 200 cm","Rum 50 -100 kvm. Trådsvejsning/trådfugning af 200 cm banebredde"]
["Belægning",0,"S200219H","kvm",5.109211890630073,5.109211890630073,5.109211890630073,5.109211890630073,4.9174320410299064,4.7283000394518329,4.6310480308049291,4.5357963083299992,4.4425037299999994,4.3511299999999995,4.2699999999999996,"2018-03-01","2017-03-01","Trådsvejsning/trådfugning, 200 cm","Rum over 100 kvm. Trådsvejsning/trådfugning af 200 cm banebredde"]
["Belægning",0,"S200220A","kvm",23.763219706771253,23.763219706771253,23.763219706771253,23.763219706771253,22.871241296218724,21.99157816944108,21.53925383882574,21.096232946939999,20.662324139999999,20.23734,19.86,"2018-03-01","2017-03-01","Trådsvejsning/trådfugning, 180 cm","Rum under 2 kvm. Trådsvejsning/trådfugning af 180 cm banebredde"]
["Belægning",0,"S200220B","kvm",11.905540588236351,11.905540588236351,11.905540588236351,11.905540588236351,11.458653116685612,11.017935689120781,10.791318010892049,10.569361421049999,10.351970049999998,10.139049999999999,9.9499999999999993,"2018-03-01","2017-03-01","Trådsvejsning/trådfugning, 180 cm","Rum 2 - 6 kvm. Trådsvejsning/trådfugning af 180 cm banebredde"]
["Belægning",0,"S200220C","kvm",10.409869660065958,10.409869660065958,10.409869660065958,10.409869660065958,10.019123830669834,9.6337729141056094,9.4356247934432993,9.241552197299999,9.0514712999999993,8.8652999999999995,8.6999999999999993,"2018-03-01","2017-03-01","Trådsvejsning/trådfugning, 180 cm","Rum 6 - 10 kvm. Trådsvejsning/trådfugning af 180 cm banebredde"]
["Belægning",0,"S200220D","kvm",8.8543718947687431,8.8543718947687431,8.8543718947687431,8.8543718947687431,8.5220133732134205,8.1942436280898274,8.0257038472965991,7.8606306045999998,7.6989526000000001,7.5406000000000004,7.4,"2018-03-01","2017-03-01","Trådsvejsning/trådfugning, 180 cm","Rum 10 - 15 kvm. Trådsvejsning/trådfugning af 180 cm banebredde"]
["Belægning",0,"S200220E","kvm",7.9928654401425963,7.9928654401425963,7.9928654401425963,7.9928654401425963,7.6928445044683311,7.3969658696810878,7.2448245540461196,7.0958124917199994,6.9498653199999998,6.8069199999999999,6.68,"2018-03-01","2017-03-01","Trådsvejsning/trådfugning, 180 cm","Rum 15 - 30 kvm. Trådsvejsning/trådfugning af 180 cm banebredde"]
["Belægning",0,"S200220F","kvm",7.1552897203671755,7.1552897203671755,7.1552897203671755,7.1552897203671755,6.8867081042994949,6.6218347156725912,6.4856363522748204,6.3522393264200003,6.2215860200000002,6.0936200000000005,5.98,"2018-03-01","2017-03-01","Trådsvejsning/trådfugning, 180 cm","Rum 30 - 50 kvm. Trådsvejsning/trådfugning af 180 cm banebredde"]
["Belægning",0,"S200220G","kvm",6.4493330422707471,6.4493330422707471,6.4493330422707471,6.4493330422707471,6.2072502813000456,5.9685098858654282,5.8457491536390087,5.7255133728099992,5.6077506099999992,5.4924099999999996,5.39,"2018-03-01","2017-03-01","Trådsvejsning/trådfugning, 180 cm","Rum 50 -100 kvm. Trådsvejsning/trådfugning af 180 cm banebredde"]
["Belægning",0,"S200220H","kvm",5.6237226899206894,5.6237226899206894,5.6237226899206894,5.6237226899206894,5.4126301154193355,5.204452034057053,5.0974064976072997,4.9925626812999999,4.8898752999999999,4.7892999999999999,4.7,"2018-03-01","2017-03-01","Trådsvejsning/trådfugning, 180 cm","Rum over 100 kvm. Trådsvejsning/trådfugning af 180 cm banebredde"]
["Belægning",0,"S200221A","kvm",28.501505207215072,28.501505207215072,28.501505207215072,28.501505207215072,27.43167007431672,26.376605840689155,25.834089951703383,25.302732567780001,24.782304180000001,24.272580000000001,23.82,"2018-03-01","2017-03-01","Trådsvejsning/trådfugning, 150 cm","Rum under 2 kvm. Trådsvejsning/trådfugning af 150 cm banebredde"]
["Belægning",0,"S200221B","kvm",14.27468333845826,14.27468333845826,14.27468333845826,14.27468333845826,13.738867505734611,13.210449524744817,12.938736067330868,12.672611231469999,12.411960069999999,12.15667,11.93,"2018-03-01","2017-03-01","Trådsvejsning/trådfugning, 150 cm","Rum 2 - 6 kvm. Trådsvejsning/trådfugning af 150 cm banebredde"]
["Belægning",0,"S200221C","kvm",12.443982122377696,12.443982122377696,12.443982122377696,12.443982122377696,11.976883659651294,11.516234288126245,11.2793675691736,11.0473727416,10.820149600000001,10.5976,10.4,"2018-03-01","2017-03-01","Trådsvejsning/trådfugning, 150 cm","Rum 6 - 10 kvm. Trådsvejsning/trådfugning af 150 cm banebredde"]
["Belægning",0,"S200221D","kvm",10.601315538871766,10.601315538871766,10.601315538871766,10.601315538871766,10.203383579279851,9.8109457493075496,9.6091535252767386,9.4115117779399995,9.2179351399999998,9.02834,8.86,"2018-03-01","2017-03-01","Trådsvejsning/trådfugning, 150 cm","Rum 10 - 15 kvm. Trådsvejsning/trådfugning af 150 cm banebredde"]
["Belægning",0,"S200221E","kvm",{"$f":"SUM(F517*$E$2+F517)","v":9.6201554099919893},{"$f":"SUM(G517*$F$2+G517)","v":9.6201554099919893},{"$f":"SUM(H517*$G$2+H517)","v":9.6201554099919893},{"$f":"SUM(I517*$H$2+I517)","v":9.6201554099919893},{"$f":"SUM(J517*$I$2+J517)","v":9.2590523676535028},8.9029349688975987,8.7198187746303617,8.5404689271600009,8.3648079600000003,{"$f":"SUM(O517*$N$2+O517)","v":8.1927599999999998},8.0399999999999991,"2018-03-01","2017-03-01","Trådsvejsning/trådfugning, 150 cm","Rum 15 - 30 kvm. Trådsvejsning/trådfugning af 150 cm banebredde"]
["Belægning",0,"S200221F","kvm",8.5911338114107565,8.5911338114107565,8.5911338114107565,8.5911338114107565,8.2686562188746446,7.9506309796871584,7.7871018410256205,7.6269361812200005,7.4700648200000002,7.3164199999999999,7.18,"2018-03-01","2017-03-01","Trådsvejsning/trådfugning, 150 cm","Rum 30 - 50 kvm. Trådsvejsning/trådfugning af 150 cm banebredde"]
["Belægning",0,"S200221G","kvm",7.7535580916353339,7.7535580916353339,7.7535580916353339,7.7535580916353339,7.4625198187058075,7.1754998256786608,7.0279136392543204,6.8833630159200005,6.7417855200000005,6.6031200000000005,6.48,"2018-03-01","2017-03-01","Trådsvejsning/trådfugning, 150 cm","Rum 50 -100 kvm. Trådsvejsning/trådfugning af 150 cm banebredde"]
["Belægning",0,"S200221H","kvm",6.7843633301809172,6.7843633301809172,6.7843633301809172,6.7843633301809172,6.5297048413675816,6.2785623474688288,6.1494244343475311,6.0229426389300009,5.8990623300000005,5.77773,5.67,"2018-03-01","2017-03-01","Trådsvejsning/trådfugning, 150 cm","Rum over 100 kvm. Trådsvejsning/trådfugning af 150 cm banebredde"]
["Belægning",0,"S200222A","kvm",34.244881571389399,34.244881571389399,34.244881571389399,34.244881571389399,32.959462532617323,31.691790896747428,31.039951906706587,30.401519986980006,29.776219380000004,29.163780000000003,28.62,"2018-03-01","2017-03-01","Trådsvejsning/trådfugning, 125 cm","Rum under 2 kvm. Trådsvejsning/trådfugning af 125 cm banebredde"]
["Belægning",0,"S200222B","kvm",17.194232990246871,17.194232990246871,17.194232990246871,17.194232990246871,16.548828672037413,15.912335261574436,15.585049227790828,15.264494836229998,14.950533629999999,14.64303,14.37,"2018-03-01","2017-03-01","Trådsvejsning/trådfugning, 125 cm","Rum 2 - 6 kvm. Trådsvejsning/trådfugning af 125 cm banebredde"]
["Belægning",0,"S200222C","kvm",14.968674649129326,14.968674649129326,14.968674649129326,14.968674649129326,14.406809094445935,13.852701052351859,13.56777772022709,13.28871471129,13.015391490000001,12.74769,12.51,"2018-03-01","2017-03-01","Trådsvejsning/trådfugning, 125 cm","Rum 6 - 10 kvm. Trådsvejsning/trådfugning af 125 cm banebredde"]
["Belægning",0,"S200222D","kvm",12.743116308011775,12.743116308011775,12.743116308011775,12.743116308011775,12.264789516854451,11.79306684312928,11.550506212663349,11.312934586349998,11.080249349999999,10.852349999999999,10.65,"2018-03-01","2017-03-01","Trådsvejsning/trådfugning, 125 cm","Rum 10 - 15 kvm. Trådsvejsning/trådfugning af 125 cm banebredde"]
["Belægning",0,"S200222E","kvm",11.534614198050097,11.534614198050097,11.534614198050097,11.534614198050097,11.101649853753703,10.674663320917022,10.455106092964762,10.240064733560002,10.029446360000001,9.8231600000000014,9.64,"2018-03-01","2017-03-01","Trådsvejsning/trådfugning, 125 cm","Rum 15 - 30 kvm. Trådsvejsning/trådfugning af 125 cm banebredde","","",null,0,null,""]
["Belægning",0,"S200222F","kvm",10.290215985812326,10.290215985812326,10.290215985812326,10.290215985812326,9.9039614877885711,9.5230398921043946,9.3271693360473993,9.1353274593999991,8.9474313999999993,8.763399999999999,8.6,"2018-03-01","2017-03-01","Trådsvejsning/trådfugning, 125 cm","Rum 30 - 50 kvm. Trådsvejsning/trådfugning af 125 cm banebredde","","",null,0,null,""]
["Belægning",0,"S200222G","kvm",9.2970904895071822,9.2970904895071822,9.2970904895071822,9.2970904895071822,8.9481140418740921,8.6039558094943196,8.4269890396614304,8.2536621348299999,8.0839002299999994,7.9176299999999999,7.77,"2018-03-01","2017-03-01","Trådsvejsning/trådfugning, 125 cm","Rum 50 -100 kvm. Trådsvejsning/trådfugning af 125 cm banebredde","","",null,0,null,""]
["Belægning",0,"S200222H","kvm",8.1364498492469561,8.1364498492469561,8.1364498492469561,8.1364498492469561,7.8310393159258478,7.5298454960825456,7.3749711029212,7.2232821771999998,7.0747131999999997,6.9291999999999998,6.8,"2018-03-01","2017-03-01","Trådsvejsning/trådfugning, 125 cm","Rum over 100 kvm. Trådsvejsning/trådfugning af 125 cm banebredde","","",null,0,null,""]
["Afdækning",0,"S200223A","kvm",6.2578871634649378,6.2578871634649378,6.2578871634649378,6.2578871634649378,6.0229905326900264,5.7913370506634871,5.6722204218055703,{"$f":"SUM(M529*$L$2+M529)","v":5.5555537921700004},{"$f":"SUM(N529*$M$2+N529)","v":5.4412867700000005},5.3293700000000008,5.23,"2018-03-01","2017-03-01","Afdækning af gulv, minimums bredde 90 cm","Rum under 2 kvm. Afdækning med papir/pap/folie med en minimumsbredde på 90 cm inkl. tape i samlinger","","",null,0,null,""]
["Afdækning",0,"S200223B","kvm",4.7023893981677238,4.7023893981677238,4.7023893981677238,4.7023893981677238,4.525880075233613,4.3518077646477051,{"$f":"SUM(L530*$K$2+L530)","v":4.2622994756588692},4.1746321994699995,4.0887680699999995,4.00467,3.93,"2018-03-01","2017-03-01","Afdækning af gulv, minimums bredde 90 cm","Rum 2 - 6 kvm. Afdækning med papir/pap/folie med en minimumsbredde på 90 cm inkl. tape i samlinger","","",null,0,null,""]
["Afdækning",0,"S200223C","kvm",4.1639478640263832,4.1639478640263832,4.1639478640263832,4.1639478640263832,4.0076495322679335,{"$f":"SUM(K531*$J$2+K531)","v":3.8535091656422438},3.7742499173773201,3.6966208789200001,3.6205885200000001,3.5461200000000002,3.48,"2018-03-01","2017-03-01","Afdækning af gulv, minimums bredde 90 cm","Rum 6 - 10 kvm. Afdækning med papir/pap/folie med en minimumsbredde på 90 cm inkl. tape i samlinger","","",null,0,null,""]
["Afdækning",0,"S200223D","kvm",3.7690907389893984,3.7690907389893984,3.7690907389893984,3.7690907389893984,3.6276138007597676,3.488090193038238,3.4163469079708499,3.3460792438499998,3.2772568499999997,3.2098499999999999,3.15,"2018-03-01","2017-03-01","Afdækning af gulv, minimums bredde 90 cm","Rum 10 - 15 kvm. Afdækning med papir/pap/folie med en minimumsbredde på 90 cm inkl. tape i samlinger","","",null,0,null,""]
["Afdækning",0,"S200223E","kvm",3.4460258185045927,3.4460258185045927,3.4460258185045927,3.4460258185045927,3.3166754749803586,3.1891110336349602,3.12351717300192,3.05927245152,2.9963491200000001,2.93472,2.88,"2018-03-01","2017-03-01","Afdækning af gulv, minimums bredde 90 cm","Rum 15 - 30 kvm. Afdækning med papir/pap/folie med en minimumsbredde på 90 cm inkl. tape i samlinger","","",null,0,null,""]
["Afdækning",0,"S200223F","kvm",3.1229608980197869,3.1229608980197869,3.1229608980197869,3.1229608980197869,3.0057371492009497,2.8901318742316824,2.8306874380329896,2.7724656591899994,2.7154413899999996,2.6595899999999997,2.61,"2018-03-01","2017-03-01","Afdækning af gulv, minimums bredde 90 cm","Rum 30 - 50 kvm. Afdækning med papir/pap/folie med en minimumsbredde på 90 cm inkl. tape i samlinger","","",null,0,null,""]
["Afdækning",0,"S200223G","kvm",2.9793764889154293,2.9793764889154293,2.9793764889154293,2.9793764889154293,2.8675423377434353,2.7572522478302264,2.7005408891579101,2.6449959737099999,2.5905935100000002,2.5373100000000002,2.4900000000000002,"2018-03-01","2017-03-01","Afdækning af gulv, minimums bredde 90 cm","Rum 50 - 100 kvm. Afdækning med papir/pap/folie med en minimumsbredde på 90 cm inkl. tape i samlinger","","",null,0,null,""]
["Afdækning",0,"S200223H","kvm",2.8238267123857073,2.8238267123857073,2.8238267123857073,2.8238267123857073,2.7178312919977934,2.6132993192286476,2.5595487945432396,2.5069038144399998,2.4553416399999999,2.4048400000000001,2.36,"2018-03-01","2017-03-01","Afdækning af gulv, minimums bredde 90 cm","Rum over 100 kvm. Afdækning med papir/pap/folie med en minimumsbredde på 90 cm inkl. tape i samlinger","","",null,0,null,""]
["Afdækning",0,"S200224A","kvm",7.0356360461135443,7.0356360461135443,7.0356360461135443,7.0356360461135443,6.7715457614182331,6.5111016936713781,6.3771808948789204,6.2460145885200005,6.1175461200000001,5.9917199999999999,5.88,"2018-03-01","2017-03-01","Aftagning af gulvafdækning","Rum under 2 kvm. Aftagning af afdækning med papir/pap/folie med en minimumsbredde på 90 cm inkl. tape i samlinger jf. pkt. 23, inkl. 1 gang støvsugning","","",null,0,null,""]
["Afdækning",0,"S200224B","kvm",5.276727034585158,5.276727034585158,5.276727034585158,5.276727034585158,5.0786593210636743,4.8833262702535327,4.7828856711591898,4.6845109413900001,4.5881595900000001,4.4937899999999997,4.41,"2018-03-01","2017-03-01","Aftagning af gulvafdækning","Rum 2 - 6 kvm. Aftagning af afdækning med papir/pap/folie med en minimumsbredde på 90 cm inkl. tape i samlinger jf. pkt. 23, inkl. 1 gang støvsugning","","",null,0,null,""]
["Afdækning",0,"S200224C","kvm",4.6664932958916365,4.6664932958916365,4.6664932958916365,4.6664932958916365,4.4913313723692365,4.3185878580473425,4.2297628384401005,4.1427647781000001,4.0575561000000002,3.9741,3.9,"2018-03-01","2017-03-01","Aftagning af gulvafdækning","Rum 2 - 6 kvm. Aftagning af afdækning med papir/pap/folie med en minimumsbredde på 90 cm inkl. tape i samlinger jf. pkt. 23, inkl. 1 gang støvsugning","","",null,0,null,""]
["Afdækning",0,"S200224D","kvm",4.2357400685785622,4.2357400685785622,4.2357400685785622,4.2357400685785622,4.076746937996691,3.9199489788429718,3.8393231918148598,3.7603557216599999,3.68301246,3.6072600000000001,3.54,"2018-03-01","2017-03-01","Aftagning af gulvafdækning","Rum 2 - 6 kvm. Aftagning af afdækning med papir/pap/folie med en minimumsbredde på 90 cm inkl. tape i samlinger jf. pkt. 23, inkl. 1 gang støvsugning","","",null,0,null,""]
["Afdækning",0,"S200224E","kvm",3.8528483109669405,3.8528483109669405,3.8528483109669405,3.8528483109669405,3.7082274407766511,3.5656033084390875,3.4922657281479799,3.4204365603799998,3.35008478,3.28118,3.22,"2018-03-01","2017-03-01","Aftagning af gulvafdækning","Rum 2 - 6 kvm. Aftagning af afdækning med papir/pap/folie med en minimumsbredde på 90 cm inkl. tape i samlinger jf. pkt. 23, inkl. 1 gang støvsugning","","",null,0,null,""]
["Afdækning",0,"S200224F","kvm",3.5178180230567722,3.5178180230567722,3.5178180230567722,3.5178180230567722,3.3857728807091165,3.2555508468356891,3.1885904474394602,3.1230072942600002,3.05877306,2.99586,2.94,"2018-03-01","2017-03-01","Aftagning af gulvafdækning","Rum 2 - 6 kvm. Aftagning af afdækning med papir/pap/folie med en minimumsbredde på 90 cm inkl. tape i samlinger jf. pkt. 23, inkl. 1 gang støvsugning","","",null,0,null,""]
["Afdækning",0,"S200224G","kvm",3.3383375116763245,3.3383375116763245,3.3383375116763245,3.3383375116763245,3.2130293663872229,3.0894513138338682,3.0259072613456102,2.96367018741,2.9027132099999999,2.84301,2.79,"2018-03-01","2017-03-01","Aftagning af gulvafdækning","Rum 2 - 6 kvm. Aftagning af afdækning med papir/pap/folie med en minimumsbredde på 90 cm inkl. tape i samlinger jf. pkt. 23, inkl. 1 gang støvsugning","","",null,0,null,""]
["Afdækning",0,"S200224H","kvm",3.170822367721239,3.170822367721239,3.170822367721239,3.170822367721239,3.0518020863534545,2.9344250830321679,2.8740696209913494,2.8149555543499996,2.7570573499999997,2.7003499999999998,2.65,"2018-03-01","2017-03-01","Aftagning af gulvafdækning","Rum over 100 kvm. Aftagning af afdækning med papir/pap/folie med en minimumsbredde på 90 cm inkl. tape i samlinger jf. pkt. 23, inkl. 1 gang støvsugning","","",null,0,null,""]
["Afdækning",0,"S200225A","kvm",21.226561812594262,21.226561812594262,21.226561812594262,21.226561812594262,20.42979962713596,19.644038103015347,19.239998142032661,18.84426850346,18.45667826,18.077059999999999,17.739999999999998,"2018-03-01","2017-03-01","Afdækning med masonit","Rum under 2 kvm. Afdækning med masonit, groft tilskåret med tape langs vægge og i samlinger","","",null,0,null,""]
["Afdækning",0,"S200225B","kvm",15.925904043158379,15.925904043158379,15.925904043158379,15.925904043158379,15.328107837496034,14.738565228361571,14.43542137939429,14.138512614490001,13.847710690000001,13.562890000000001,13.31,"2018-03-01","2017-03-01","Afdækning med masonit","Rum 2 - 6 kvm. Afdækning med masonit, groft tilskåret med tape langs vægge og i samlinger","","",null,0,null,""]
["Afdækning",0,"S200225C","kvm",14.107168194503176,14.107168194503176,14.107168194503176,14.107168194503176,13.577640225700844,13.055423293943118,12.786898426976609,12.523896598409999,12.266304209999999,12.014009999999999,11.79,"2018-03-01","2017-03-01","Afdækning med masonit","Rum 6 - 10 kvm. Afdækning med masonit, groft tilskåret med tape langs vægge og i samlinger","","",null,0,null,""]
["Afdækning",0,"S200225D","kvm",12.719185573161049,12.719185573161049,12.719185573161049,12.719185573161049,12.241757048278199,11.770920238729037,11.52881512118417,11.29168963877,11.05944137,10.83197,10.63,"2018-03-01","2017-03-01","Afdækning med masonit","Rum 10 - 15 kvm. Afdækning med masonit, groft tilskåret med tape langs vægge og i samlinger","","",null,0,null,""]
["Afdækning",0,"S200225E","kvm",11.690163974579814,11.690163974579814,11.690163974579814,11.690163974579814,11.251360899499341,10.818616249518596,10.596098187579429,10.378156892829999,10.164698229999999,9.9556299999999993,9.77,"2018-03-01","2017-03-01","Afdækning med masonit","Rum 15 - 30 kvm. Afdækning med masonit, groft tilskåret med tape langs vægge og i samlinger","","",null,0,null,""]
["Afdækning",0,"S200225F","kvm",10.613280906297131,10.613280906297131,10.613280906297131,10.613280906297131,10.21489981356798,9.8220190515076737,9.6199990710163306,9.4221342517300002,9.2283391300000002,9.0385299999999997,8.8699999999999992,"2018-03-01","2017-03-01","Afdækning med masonit","Rum 30 - 50 kvm. Afdækning med masonit, groft tilskåret med tape langs vægge og i samlinger","","",null,0,null,""]
["Afdækning",0,"S200225G","kvm",10.062874004730425,10.062874004730425,10.062874004730425,10.062874004730425,9.6851530363141727,9.3126471503020891,9.1211039669951894,8.9335004573900001,8.7497555899999995,8.5697899999999994,8.41,"2018-03-01","2017-03-01","Afdækning med masonit","Rum 50 -100 kvm. Afdækning med masonit, groft tilskåret med tape langs vægge og i samlinger","","",null,0,null,""]
["Afdækning",0,"S200225H","kvm",9.5722939402905318,9.5722939402905318,9.5722939402905318,9.5722939402905318,9.2129874305009931,8.8586417600971092,8.6764365916719974,8.4979790319999982,8.3231919999999988,8.1519999999999992,8,"2018-03-01","2017-03-01","Afdækning med masonit","Rum over 100 kvm. Afdækning med masonit, groft tilskåret med tape langs vægge og i samlinger","","",null,0,null,""]
["Afdækning",0,"S200226A","kvm",14.27468333845826,14.27468333845826,14.27468333845826,14.27468333845826,13.738867505734611,13.210449524744817,12.938736067330868,12.672611231469999,12.411960069999999,12.15667,11.93,"2018-03-01","2017-03-01","Aftagning af masonitafdækning","Rum under 2 kvm. Aftagning af masonit jf. pkt. 25, inkl. 1 gang støvsugning","","",null,0,null,""]
["Afdækning",0,"S200226B","kvm",10.732934580550763,10.732934580550763,10.732934580550763,10.732934580550763,10.330062156449243,9.9327520735088868,9.7284545284122306,9.5283589896300001,9.3323790300000002,9.1404300000000003,8.9700000000000006,"2018-03-01","2017-03-01","Aftagning af masonitafdækning","Rum 2 -  6 kvm. Aftagning af masonit jf. pkt. 25, inkl. 1 gang støvsugning","","",null,0,null,""]
["Afdækning",0,"S200226C","kvm",9.5363978380144463,9.5363978380144463,9.5363978380144463,9.5363978380144463,9.1784387276366175,8.8254218534967475,8.6438999544532304,8.4661116106299996,8.2919800299999995,8.1214300000000001,7.97,"2018-03-01","2017-03-01","Aftagning af masonitafdækning","Rum 2 -  6 kvm. Aftagning af masonit jf. pkt. 25, inkl. 1 gang støvsugning","","",null,0,null,""]
["Afdækning",0,"S200226D","kvm",8.5911338114107565,8.5911338114107565,8.5911338114107565,8.5911338114107565,8.2686562188746446,7.9506309796871584,7.7871018410256205,7.6269361812200005,7.4700648200000002,7.3164199999999999,7.18,"2018-03-01","2017-03-01","Aftagning af masonitafdækning","Rum 2 -  6 kvm. Aftagning af masonit jf. pkt. 25, inkl. 1 gang støvsugning","","",null,0,null,""]
["Afdækning",0,"S200226E","kvm",7.8612463984636021,7.8612463984636021,7.8612463984636021,7.8612463984636021,7.5661659272989432,7.2751595454797533,7.1255235509106303,6.9789652800300006,6.8354214300000002,6.6948300000000005,6.57,"2018-03-01","2017-03-01","Aftagning af masonitafdækning","Rum 2 -  6 kvm. Aftagning af masonit jf. pkt. 25, inkl. 1 gang støvsugning","","",null,0,null,""]
["Afdækning",0,"S200226F","kvm",7.1552897203671755,7.1552897203671755,7.1552897203671755,7.1552897203671755,6.8867081042994949,6.6218347156725912,6.4856363522748204,6.3522393264200003,6.2215860200000002,6.0936200000000005,5.98,"2018-03-01","2017-03-01","Aftagning af masonitafdækning","Rum 2 -  6 kvm. Aftagning af masonit jf. pkt. 25, inkl. 1 gang støvsugning","","",null,0,null,""]
["Afdækning",0,"S200226G","kvm",6.8082940650316441,6.8082940650316441,6.8082940650316441,6.8082940650316441,6.5527373099438346,6.3007089518690718,6.1711155258267105,6.0441875865100005,5.9198703100000003,5.7981100000000003,5.69,"2018-03-01","2017-03-01","Aftagning af masonitafdækning","Rum 2 -  6 kvm. Aftagning af masonit jf. pkt. 25, inkl. 1 gang støvsugning","","",null,0,null,""]
["Afdækning",0,"S200226H","kvm",6.4254023074200219,6.4254023074200219,6.4254023074200219,6.4254023074200219,6.1842178127237943,5.946363281465187,5.8240580621598301,5.7042684252300004,5.5869426300000002,5.4720300000000002,5.37,"2018-03-01","2017-03-01","Aftagning af masonitafdækning","Rum over 100 kvm. Aftagning af masonit jf. pkt. 25, inkl. 1 gang støvsugning","","",null,0,null,""]
["Tillægspriser som stk-, meterpriser og procenttillæg",0,"S200227","m",2.3001497358923197,2.3001497358923197,2.3001497358923197,2.3001497358923197,2.2138111028799998,{"$f":"SUM(K561*$J$2+K561)","v":2.1286645219999998},{"$f":"SUM(L561*$K$2+L561)","v":2.0848819999999999},{"$f":"SUM(M561*$L$2+M561)","v":2.0419999999999998},2,0,0,"2018-03-01","2017-03-01","Primning for hulkehl","Primining for hulkehl t.o.m. 30 cm. "]
["Tillægspriser som stk-, meterpriser og procenttillæg",0,"S200228","%",7.5639200000000004E-2,7.5639200000000004E-2,7.5639200000000004E-2,7.5639200000000004E-2,7.2800000000000004E-2,{"$f":"SUM($M$562)","v":7.0000000000000007E-2},{"$f":"SUM($M$562)","v":7.0000000000000007E-2},{"$f":"SUM($M$562)","v":7.0000000000000007E-2},7.0000000000000007E-2,0,0,"2018-03-01","2017-03-01","Tillæg pr. påbegyndt cm over 15 cm","Tillæg pr. påbegyndt cm over 15 cm +/- 5 mm"]
["Tillægspriser som stk-, meterpriser og procenttillæg",0,"S200229","m",7.7630053586365806,7.7630053586365806,7.7630053586365806,7.7630053586365806,7.4716124722200004,{"$f":"SUM(K563*$J$2+K563)","v":7.1842427617500002},{"$f":"SUM(L563*$K$2+L563)","v":7.0364767500000003},{"$f":"SUM(M563*$L$2+M563)","v":6.89175},6.75,0,0,"2018-03-01","2017-03-01","Skæring af overkant på hulkehl","Skæring af overkant på hulkehl der skal stå synlig, vandret eller fast højde fra gulv"]
["Tillægspriser som stk-, meterpriser og procenttillæg",0,"S200230","m",6.0378930567173406,6.0378930567173406,6.0378930567173406,6.0378930567173406,5.8112541450600004,5.5877443702500003,5.47281525,5.3602499999999997,5.25,0,0,"2018-03-01","2017-03-01","Tillæg for hulkehl på færdigbehandlet væg","Tillæg for hulkehl på færdigbehandlet væg"]
["Tillægspriser som stk-, meterpriser og procenttillæg",0,"S200231","stk",333.52171170438641,333.52171170438641,333.52171170438641,333.52171170438641,321.00260991760001,308.65635569,302.30788999999999,{"$f":"SUM(M565*$L$2+M565)","v":296.08999999999997},290,0,0,"2018-03-01","2017-03-01","Spartling af lokalfald","Spartling af lokalfald, med standfast materiale, omkring afløb under 1,5. m2"]
["Tillægspriser som stk-, meterpriser og procenttillæg",0,"S200232","stk",389.30034279977514,389.30034279977514,389.30034279977514,389.30034279977514,374.68752916244,360.27647034850003,352.86627850000002,{"$f":"SUM(M566*$L$2+M566)","v":345.60849999999999},338.5,0,0,"2018-03-01","2017-03-01","Spartling af lokalfald, afgrænset af 3 vægge","Hvis op til de 1,5 m2 på de 3 af siderne er afgrænset af fast væg, betales arbejdet i pkt. 20 med"]
["Tillægspriser som stk-, meterpriser og procenttillæg",0,"S200233","m",8.3380427926096612,8.3380427926096612,8.3380427926096612,8.3380427926096612,8.0250652479400006,7.7164088922500005,7.5576972500000004,{"$f":"SUM(M567*$L$2+M567)","v":7.4022500000000004},7.25,0,0,"2018-03-01","2017-03-01","Spartling af gipsvæg","Spartling af gipsvæg for hulkehl t.o.m. 30 cm."]
["Tillægspriser som stk-, meterpriser og procenttillæg",0,"S200234","m",16.676085585219322,16.676085585219322,16.676085585219322,16.676085585219322,16.050130495880001,15.432817784500001,15.115394500000001,14.804500000000001,14.5,0,0,"2018-03-01","2017-03-01","Spartling af murstensvæg","Spartling af murstensvæg for hulkehl t.o.m. 30 cm."]
["Tillægspriser som stk-, meterpriser og procenttillæg",0,"S200235","m",106.95696271899288,106.95696271899288,106.95696271899288,106.95696271899288,102.94221628392,98.982900272999998,96.947012999999998,94.953000000000003,93,0,0,"2018-03-01","2017-03-01","T.o.m. Ø160 mm afløb","Runde afløb t.o.m. Ø 160 mm, inklusiv ekstra limning med kontaktlim ved flancen, monteret med klemring og rist inkl. skruer."]
["Tillægspriser som stk-, meterpriser og procenttillæg",0,"S200236","cm",1.1500748679461599,1.1500748679461599,1.1500748679461599,1.1500748679461599,1.1069055514399999,1.0643322609999999,1.042441,1.0209999999999999,1,0,0,"2018-03-01","2017-03-01","Firkantede gulvafløb","For firkantede gulvafløb betales der flanceomkreds inklusiv ekstra limning ved flancen, monteret med flance og rist inkl. skruer"]
["Tillægspriser som stk-, meterpriser og procenttillæg",0,"S200237","stk",51.178331623604123,51.178331623604123,51.178331623604123,51.178331623604123,49.257297039080001,47.362785614499998,46.388624499999999,45.4345,44.5,0,0,"2018-03-01","2017-03-01","Rørkraver/manchet","Rørkraver/manchet t.o.m. Ø 120 mm svejset omkring røret "]
["Tillægspriser som stk-, meterpriser og procenttillæg",0,"S200238","stk",51.178331623604123,51.178331623604123,51.178331623604123,51.178331623604123,49.257297039080001,47.362785614499998,46.388624499999999,45.4345,44.5,0,0,"2018-03-01","2017-03-01","Opkant t.o.m. 10 cm","Opkant t.o.m. højde på 10 cm og længde t.o.m.1,5 m, inkl. fastgørelse med monteringslim"]
["Tillægspriser som stk-, meterpriser og procenttillæg",0,"S200239","stk",24.439090943855899,24.439090943855899,24.439090943855899,24.439090943855899,23.5217429681,22.617060546249999,22.151871249999999,21.696249999999999,21.25,0,0,"2018-03-01","2017-03-01","Skæring af hjørne ved opkant","Tillæg for skæring af hjørner ved opkant i pkt. 28, inkl. fastgørelse med monteringslim, pr. hjørne"]
["Tillægspriser som stk-, meterpriser og procenttillæg",0,"S200240","m",92.005989435692825,92.005989435692825,92.005989435692825,92.005989435692825,88.552444115200018,85.146580880000016,83.395280000000014,81.680000000000007,80,0,0,"2018-03-01","2017-03-01","Nedsænkning med trekantliste","Nedsænkninger med trekantliste t.o.m. 22 mm, inkl. montering af trekantliste og merarbejde ved montering af vinyl"]
["Tillægspriser som stk-, meterpriser og procenttillæg",0,"S200241","stk",86.255615095962,86.255615095962,86.255615095962,86.255615095962,83.017916357999994,79.824919574999996,78.183075000000002,76.575000000000003,75,0,0,"2018-03-01","2017-03-01","Tillæg for hjørner ved nedsænkning","Tillæg for hjørner ved nedsænkning"]
["Tillægspriser som stk-, meterpriser og procenttillæg",0,"S200242","%",0.37819599999999998,0.37819599999999998,0.37819599999999998,0.37819599999999998,0.36399999999999999,{"$f":"SUM($M$576)","v":0.35},{"$f":"SUM($M$576)","v":0.35},{"$f":"SUM($M$576)","v":0.35},0.35,0,0,"2018-03-01","2017-03-01","Tillæg for montering med kontaktlim","Ved kontaktlim tillægges pkt. 13, 32, 33, 34, 35 og 36"]
["Tillægspriser som stk-, meterpriser og procenttillæg",0,"S200243","%",0.10805600000000001,0.10805600000000001,0.10805600000000001,0.10805600000000001,0.10400000000000001,{"$f":"SUM($M$577)","v":0.1},{"$f":"SUM($M$577)","v":0.1},{"$f":"SUM($M$577)","v":0.1},0.1,0,0,"2018-03-01","2017-03-01","Tillæg for skridsikkert","Ved skridsikkert tillægges pkt. 13, 32, 33, 34, 35 og 36"]
["Tillægspriser som stk-, meterpriser og procenttillæg",0,"S20014401","m",58.570473547152723,58.570473547152723,58.570473547152723,58.570473547152723,56.371966840377979,{"$f":"SUM(K578*$J$2+K578)","v":54.203814269594211},{"$f":"SUM(L578*$K$2+L578)","v":53.088946395293057},{"$f":"SUM(M578*$L$2+M578)","v":51.997009202050009},{"$f":"SUM(N578*$M$2+N578)","v":50.927531050000006},49.880050000000004,48.95,"2018-03-01","2017-03-01","Gulvskinne m/forboring, plugs, skrue, klæbning","Gulvskinne fastgjort med forboring, plugs, skrue og klæbning pr. m. / pr. samling / pr. gering","","",null,null,null,""]
["Tillægspriser som stk-, meterpriser og procenttillæg",0,"S20014402","stk",58.570473547152723,58.570473547152723,58.570473547152723,58.570473547152723,56.371966840377979,54.203814269594211,53.088946395293057,51.997009202050009,50.927531050000006,49.880050000000004,48.95,"2018-03-01","2017-03-01","Pr. samling/gering m/forboring, plugs, skrue, klæbning","Gulvskinne fastgjort med forboring, plugs, skrue og klæbning pr. m. / pr. samling / pr. gering","","",null,null,null,""]
["Tillægspriser som stk-, meterpriser og procenttillæg",0,"S20014501","m",39.066924643810744,39.066924643810744,39.066924643810744,39.066924643810744,37.600504950732187,36.154331683396336,35.410706839761346,34.682376924349995,33.969027349999998,33.270350000000001,32.65,"2018-03-01","2017-03-01","Gulvskinne i underlag af træ, inkl. klæbning","Gulvskinne fastgjort i underlag af træ, inkl. klæbning pr. m. / pr. samling / pr. gering","","",null,null,null,""]
["Tillægspriser som stk-, meterpriser og procenttillæg",0,"S20014502","stk",{"$f":"SUM(F581*$E$2+F581)","v":39.066924643810744},{"$f":"SUM(G581*$F$2+G581)","v":39.066924643810744},{"$f":"SUM(H581*$G$2+H581)","v":39.066924643810744},{"$f":"SUM(I581*$H$2+I581)","v":39.066924643810744},{"$f":"SUM(J581*$I$2+J581)","v":37.600504950732187},36.154331683396336,35.410706839761346,34.682376924349995,33.969027349999998,{"$f":"SUM(O581*$N$2+O581)","v":33.270350000000001},32.65,"2018-03-01","2017-03-01","Pr. samling/gering i underlag af træ, inkl. klæbning","Gulvskinne fastgjort i underlag af træ, inkl. klæbning pr. m. / pr. samling / pr. gering","","",null,null,null,""]
["Tillægspriser som stk-, meterpriser og procenttillæg",0,"S20014601","m",35.142284128291628,35.142284128291628,35.142284128291628,35.142284128291628,33.823180104226786,32.522288561756525,31.853367837175831,31.198205521230001,30.556518629999999,29.92803,29.37,"2018-03-01","2017-03-01","Gulvskinne med dobbeltklæbende tape","Gulvskinne monteret med dobbeltklæbende tape, pr. m / pr. samling / pr. gering","","",null,null,null,""]
["Tillægspriser som stk-, meterpriser og procenttillæg",0,"S20014602","stk",35.142284128291628,35.142284128291628,35.142284128291628,35.142284128291628,33.823180104226786,32.522288561756525,31.853367837175831,31.198205521230001,30.556518629999999,29.92803,29.37,"2018-03-01","2017-03-01","Samling/gering med dobbeltklæbende tape","Gulvskinne monteret med dobbeltklæbende tape, pr. m / pr. samling / pr. gering","","",null,null,null,""]
["Belægning",null,"S200247A","kvm",7.9875427424000005,7.9875427424000005,7.9875427424000005,7.9875427424000005,7.6877216000000006,7.3920400000000006,7.24,null,null,null,null,null,null,"Opskæring af linoleum/vinyl (20 %), pr. m2 ","Vægareal under 6 kvm (20% tillæg)"]
["Belægning",null,"S200247B","kvm",4.9646329199999997,4.9646329199999997,4.9646329199999997,4.9646329199999997,4.7782799999999996,4.5945,4.5,null,null,null,null,null,null,"Opskæring af linoleum/vinyl (20 %), pr. m2 ","Vægareal  6 - 15 kvm (20% tillæg)"]
["Belægning",null,"S200247C","kvm",3.7951860543999998,3.7951860543999998,3.7951860543999998,3.7951860543999998,3.6527295999999998,3.5122399999999998,3.44,null,null,null,null,null,null,"Opskæring af linoleum/vinyl (20 %), pr. m2 ","Vægareal  15 - 20 kvm (20% tillæg)"]
["Belægning",null,"S200247D","kvm",3.1222024808,3.1222024808,3.1222024808,3.1222024808,3.0050072000000001,2.8894299999999999,2.83,null,null,null,null,null,null,"Opskæring af linoleum/vinyl (20 %), pr. m2 ","Vægareal  20 - 30 kvm (20% tillæg)"]
["Belægning",null,"S200247E","kvm",2.8905196111999998,2.8905196111999998,2.8905196111999998,2.8905196111999998,2.7820207999999997,2.67502,2.62,null,null,null,null,null,null,"Opskæring af linoleum/vinyl (20 %), pr. m2 ","Vægareal  30 - 50 kvm (20% tillæg)"]
["Belægning",null,"S200247F","kvm",2.6257391887999999,2.6257391887999999,2.6257391887999999,2.6257391887999999,2.5271792,2.42998,2.38,null,null,null,null,null,null,"Opskæring af linoleum/vinyl (20 %), pr. m2 ","Vægareal  50 - 70 kvm (20% tillæg)"]
["Belægning",null,"S200247G","kvm",2.5485115656000001,2.5485115656000001,2.5485115656000001,2.5485115656000001,2.4528504,2.3585099999999999,2.31,null,null,null,null,null,null,"Opskæring af linoleum/vinyl (20 %), pr. m2 ","Vægareal  70 - 100 kvm (20% tillæg)"]
["Belægning",null,"S200247H","kvm",2.3609587664,2.3609587664,2.3609587664,2.3609587664,2.2723376000000002,2.1849400000000001,2.14,null,null,null,null,null,null,"Opskæring af linoleum/vinyl (20 %), pr. m2 ","Vægareal  over 100 kvm (20% tillæg)"]
["Belægning",null,"S200248A","kvm",74.017160578400009,74.017160578400009,74.017160578400009,74.017160578400009,71.238845600000005,68.498890000000003,67.09,null,null,null,null,null,null,"Opsætning af vinyl t.o.m. 2,0 mm på væg, med enkelklæbning pr. m2","Vægareal under 6 kvm Vinyl, klæbning, almindelig tilskæring, div. Tillæg"]
["Belægning",null,"S200248B","kvm",49.635296682399996,49.635296682399996,49.635296682399996,49.635296682399996,47.772181599999996,45.93479,44.99,null,null,null,null,null,null,"Opsætning af vinyl t.o.m. 2,0 mm på væg, med enkelklæbning pr. m2","Vægareal  6 - 15 kvm Vinyl, klæbning, almindelig tilskæring, div. Tillæg"]
["Belægning",null,"S200248C","kvm",38.349031177599997,38.349031177599997,38.349031177599997,38.349031177599997,36.909558399999995,35.489959999999996,34.76,null,null,null,null,null,null,"Opsætning af vinyl t.o.m. 2,0 mm på væg, med enkelklæbning pr. m2","Vægareal  15 - 20 kvm Vinyl, klæbning, almindelig tilskæring, div. Tillæg"]
["Belægning",null,"S200248D","kvm",31.0896345968,31.0896345968,31.0896345968,31.0896345968,29.922651200000001,28.77178,28.18,null,null,null,null,null,null,"Opsætning af vinyl t.o.m. 2,0 mm på væg, med enkelklæbning pr. m2","Vægareal  20 - 30 kvm Vinyl, klæbning, almindelig tilskæring, div. Tillæg"]
["Belægning",null,"S200248E","kvm",26.3456520288,26.3456520288,26.3456520288,26.3456520288,25.3567392,24.38148,23.88,null,null,null,null,null,null,"Opsætning af vinyl t.o.m. 2,0 mm på væg, med enkelklæbning pr. m2","Vægareal  30 - 50 kvm Vinyl, klæbning, almindelig tilskæring, div. Tillæg"]
["Belægning",null,"S200248F","kvm",22.693888703199999,22.693888703199999,22.693888703199999,22.693888703199999,21.842048800000001,21.00197,20.57,null,null,null,null,null,null,"Opsætning af vinyl t.o.m. 2,0 mm på væg, med enkelklæbning pr. m2","Vægareal  50 - 70 kvm Vinyl, klæbning, almindelig tilskæring, div. Tillæg"]
["Belægning",null,"S200248G","kvm",20.145377137600001,20.145377137600001,20.145377137600001,20.145377137600001,19.389198400000001,18.643460000000001,18.260000000000002,null,null,null,null,null,null,"Opsætning af vinyl t.o.m. 2,0 mm på væg, med enkelklæbning pr. m2","Vægareal  70 - 100 kvm Vinyl, klæbning, almindelig tilskæring, div. Tillæg"]
["Belægning",null,"S200248H","kvm",18.457401944800001,18.457401944800001,18.457401944800001,18.457401944800001,17.764583200000001,17.081330000000001,16.73,null,null,null,null,null,null,"Opsætning af vinyl t.o.m. 2,0 mm på væg, med enkelklæbning pr. m2","Vægareal  over 100 kvm Vinyl, klæbning, almindelig tilskæring, div. Tillæg"]
["Tillægspriser som stk-, meterpriser og procenttillæg",null,"S200249A","m",110.4134361408,110.4134361408,110.4134361408,110.4134361408,106.2689472,102.18168,100.08,null,null,null,null,null,null,"Indvendigt/udvendigt lodret hjørne på væg med enkeltklæbning pr. m","Vægareal under 6 kvm "]
["Tillægspriser som stk-, meterpriser og procenttillæg",null,"S200249B","m",82.810077105600016,82.810077105600016,82.810077105600016,82.810077105600016,79.70171040000001,76.636260000000007,75.06,null,null,null,null,null,null,"Indvendigt/udvendigt lodret hjørne på væg med enkeltklæbning pr. m","Vægareal  6 - 15 kvm "]
["Tillægspriser som stk-, meterpriser og procenttillæg",null,"S200249C","m",73.421404627999991,73.421404627999991,73.421404627999991,73.421404627999991,70.665451999999988,67.947549999999993,66.55,null,null,null,null,null,null,"Indvendigt/udvendigt lodret hjørne på væg med enkeltklæbning pr. m","Vægareal  15 - 20 kvm "]
["Tillægspriser som stk-, meterpriser og procenttillæg",null,"S200249D","m",66.250268187999993,66.250268187999993,66.250268187999993,66.250268187999993,63.763491999999992,61.311049999999994,60.05,null,null,null,null,null,null,"Indvendigt/udvendigt lodret hjørne på væg med enkeltklæbning pr. m","Vægareal  20 - 30 kvm "]
["Tillægspriser som stk-, meterpriser og procenttillæg",null,"S200249E","m",60.722976870399997,60.722976870399997,60.722976870399997,60.722976870399997,58.443673599999997,56.195839999999997,55.04,null,null,null,null,null,null,"Indvendigt/udvendigt lodret hjørne på væg med enkeltklæbning pr. m","Vægareal  30 - 50 kvm "]
["Tillægspriser som stk-, meterpriser og procenttillæg",null,"S200249F","m",55.206718070400001,55.206718070400001,55.206718070400001,55.206718070400001,53.1344736,51.09084,50.04,null,null,null,null,null,null,"Indvendigt/udvendigt lodret hjørne på væg med enkeltklæbning pr. m","Vægareal  50 - 70 kvm "]
["Tillægspriser som stk-, meterpriser og procenttillæg",null,"S200249G","m",52.4485886704,52.4485886704,52.4485886704,52.4485886704,50.479873599999998,48.538339999999998,47.54,null,null,null,null,null,null,"Indvendigt/udvendigt lodret hjørne på væg med enkeltklæbning pr. m","Vægareal  70 - 100 kvm "]
["Tillægspriser som stk-, meterpriser og procenttillæg",null,"S200249H","m",49.690459270399998,49.690459270399998,49.690459270399998,49.690459270399998,47.825273599999996,45.985839999999996,45.04,null,null,null,null,null,null,"Indvendigt/udvendigt lodret hjørne på væg med enkeltklæbning pr. m","Vægareal  over 100 kvm "]
["Tillægspriser som stk-, meterpriser og procenttillæg",null,"S200250A","m",149.06034529360002,149.06034529360002,149.06034529360002,149.06034529360002,143.46520240000001,137.94731000000002,135.11000000000001,null,null,null,null,null,null,"Udvendigt lodret hjørne på væg med kontaktlim pr. m","Vægareal under 6 kvm, prisen er inkl. tillæg for kontaktlim "]
["Tillægspriser som stk-, meterpriser og procenttillæg",null,"S200250B","m",111.7925008408,111.7925008408,111.7925008408,111.7925008408,107.59624720000001,103.45793,101.33,null,null,null,null,null,null,"Udvendigt lodret hjørne på væg med kontaktlim pr. m","Vægareal  6 - 15 kvm, prisen er inkl. tillæg for kontaktlim "]
["Tillægspriser som stk-, meterpriser og procenttillæg",null,"S200250C","m",99.127170635999988,99.127170635999988,99.127170635999988,99.127170635999988,95.406323999999984,91.73684999999999,89.85,null,null,null,null,null,null,"Udvendigt lodret hjørne på væg med kontaktlim pr. m","Vægareal  15 - 20 kvm, prisen er inkl. tillæg for kontaktlim "]
["Tillægspriser som stk-, meterpriser og procenttillæg",null,"S200250D","m",89.42958766560001,89.42958766560001,89.42958766560001,89.42958766560001,86.072750400000004,82.762259999999998,81.06,null,null,null,null,null,null,"Udvendigt lodret hjørne på væg med kontaktlim pr. m","Vægareal  20 - 30 kvm, prisen er inkl. tillæg for kontaktlim "]
["Tillægspriser som stk-, meterpriser og procenttillæg",null,"S200250E","m",81.98263828559999,81.98263828559999,81.98263828559999,81.98263828559999,78.905330399999997,75.870509999999996,74.31,null,null,null,null,null,null,"Udvendigt lodret hjørne på væg med kontaktlim pr. m","Vægareal  30 - 50 kvm, prisen er inkl. tillæg for kontaktlim "]
["Tillægspriser som stk-, meterpriser og procenttillæg",null,"S200250F","m",74.524656387999997,74.524656387999997,74.524656387999997,74.524656387999997,71.727291999999991,68.968549999999993,67.55,null,null,null,null,null,null,"Udvendigt lodret hjørne på væg med kontaktlim pr. m","Vægareal  50 - 70 kvm, prisen er inkl. tillæg for kontaktlim "]
["Tillægspriser som stk-, meterpriser og procenttillæg",null,"S200250G","m",70.806697956800008,70.806697956800008,70.806697956800008,70.806697956800008,68.148891200000008,65.527780000000007,64.180000000000007,null,null,null,null,null,null,"Udvendigt lodret hjørne på væg med kontaktlim pr. m","Vægareal  70 - 100 kvm, prisen er inkl. tillæg for kontaktlim "]
["Tillægspriser som stk-, meterpriser og procenttillæg",null,"S200250H","m",67.077707008000004,67.077707008000004,67.077707008000004,67.077707008000004,64.559871999999999,62.076799999999999,60.8,null,null,null,null,null,null,"Udvendigt lodret hjørne på væg med kontaktlim pr. m","Vægareal  over 100 kvm, prisen er inkl. tillæg for kontaktlim "]
["Tillægspriser som stk-, meterpriser og procenttillæg",null,"S200251A","stk.",169.49256788879995,169.49256788879995,169.49256788879995,169.49256788879995,163.13047919999997,156.85622999999998,153.63,null,null,null,null,null,null,"Udskæring for lem, pr. stk","Vægareal under 6 kvm "]
["Tillægspriser som stk-, meterpriser og procenttillæg",null,"S200251B","stk.",84.751800203199991,84.751800203199991,84.751800203199991,84.751800203199991,81.570548799999997,78.433219999999992,76.819999999999993,null,null,null,null,null,null,"Udskæring for lem, pr. stk","Vægareal  6 - 15 kvm "]
["Tillægspriser som stk-, meterpriser og procenttillæg",null,"S200251C","stk.",56.497522629599999,56.497522629599999,56.497522629599999,56.497522629599999,54.376826399999999,52.285409999999999,51.21,null,null,null,null,null,null,"Udskæring for lem, pr. stk","Vægareal  15 - 20 kvm "]
["Tillægspriser som stk-, meterpriser og procenttillæg",null,"S200251D","stk.",42.475192759999999,42.475192759999999,42.475192759999999,42.475192759999999,40.880839999999999,39.308500000000002,38.5,null,null,null,null,null,null,"Udskæring for lem, pr. stk","Vægareal  20 - 30 kvm "]
["Tillægspriser som stk-, meterpriser og procenttillæg",null,"S200251E","stk.",35.403348978400004,35.403348978400004,35.403348978400004,35.403348978400004,34.074445600000004,32.763890000000004,32.090000000000003,null,null,null,null,null,null,"Udskæring for lem, pr. stk","Vægareal  30 - 50 kvm "]
["Tillægspriser som stk-, meterpriser og procenttillæg",null,"S200251F","stk.",32.181853839200002,32.181853839200002,32.181853839200002,32.181853839200002,30.973872800000002,29.782570000000003,29.17,null,null,null,null,null,null,"Udskæring for lem, pr. stk","Vægareal  50 - 70 kvm "]
["Tillægspriser som stk-, meterpriser og procenttillæg",null,"S200251G","stk.",30.571106269600001,30.571106269600001,30.571106269600001,30.571106269600001,29.423586400000001,28.291910000000001,27.71,null,null,null,null,null,null,"Udskæring for lem, pr. stk","Vægareal  70 - 100 kvm "]
["Tillægspriser som stk-, meterpriser og procenttillæg",null,"S200251H","stk.",27.515098894400001,27.515098894400001,27.515098894400001,27.515098894400001,26.482289600000001,25.463740000000001,24.94,null,null,null,null,null,null,"Udskæring for lem, pr. stk","Vægareal  over 100 kvm "]
["Tillægspriser som stk-, meterpriser og procenttillæg",null,"S200252A","m",42.342802548800002,42.342802548800002,42.342802548800002,42.342802548800002,40.753419200000003,39.185980000000001,38.380000000000003,null,null,null,null,null,null,"Lodrette svejsninger inkl. fræsning, pr. m. ","Vægareal under 6 kvm "]
["Tillægspriser som stk-, meterpriser og procenttillæg",null,"S200252B","m",21.171401274400001,21.171401274400001,21.171401274400001,21.171401274400001,20.376709600000002,19.59299,19.190000000000001,null,null,null,null,null,null,"Lodrette svejsninger inkl. fræsning, pr. m. ","Vægareal  6 - 15 kvm "]
["Tillægspriser som stk-, meterpriser og procenttillæg",null,"S200252C","m",14.110590010399997,14.110590010399997,14.110590010399997,14.110590010399997,13.580933599999998,13.058589999999999,12.79,null,null,null,null,null,null,"Lodrette svejsninger inkl. fræsning, pr. m. ","Vægareal  15 - 20 kvm "]
["Tillægspriser som stk-, meterpriser og procenttillæg",null,"S200252D","m",10.6132819312,10.6132819312,10.6132819312,10.6132819312,10.214900799999999,9.8220199999999984,9.6199999999999992,null,null,null,null,null,null,"Lodrette svejsninger inkl. fræsning, pr. m. ","Vægareal  20 - 30 kvm "]
["Tillægspriser som stk-, meterpriser og procenttillæg",null,"S200252E","m",8.8480791151999991,8.8480791151999991,8.8480791151999991,8.8480791151999991,8.5159567999999997,8.1884199999999989,8.02,null,null,null,null,null,null,"Lodrette svejsninger inkl. fræsning, pr. m. ","Vægareal  30 - 50 kvm "]
["Tillægspriser som stk-, meterpriser og procenttillæg",null,"S200252F","m",8.0427053304000005,8.0427053304000005,8.0427053304000005,8.0427053304000005,7.7408136000000001,7.4430899999999998,7.29,null,null,null,null,null,null,"Lodrette svejsninger inkl. fræsning, pr. m. ","Vægareal  50 - 70 kvm "]
["Tillægspriser som stk-, meterpriser og procenttillæg",null,"S200252G","m",7.6345021792000001,7.6345021792000001,7.6345021792000001,7.6345021792000001,7.3479327999999997,7.0653199999999998,6.92,null,null,null,null,null,null,"Lodrette svejsninger inkl. fræsning, pr. m. ","Vægareal  70 - 100 kvm "]
["Tillægspriser som stk-, meterpriser og procenttillæg",null,"S200252H","m",6.873258464800001,6.873258464800001,6.873258464800001,6.873258464800001,6.6152632000000011,6.3608300000000009,6.23,null,null,null,null,null,null,"Lodrette svejsninger inkl. fræsning, pr. m. ","Vægareal  over 100 kvm "]
["Tillægspriser som stk-, meterpriser og procenttillæg",null,"S200253A","m",52.934019444799993,52.934019444799993,52.934019444799993,52.934019444799993,50.947083199999994,48.987579999999994,47.98,null,null,null,null,null,null,"Vandrette svejsninger inkl. fræsning, pr. m.","Vægareal under 6 kvm "]
["Tillægspriser som stk-, meterpriser og procenttillæg",null,"S200253B","m",26.467009722399997,26.467009722399997,26.467009722399997,26.467009722399997,25.473541599999997,24.493789999999997,23.99,null,null,null,null,null,null,"Vandrette svejsninger inkl. fræsning, pr. m.","Vægareal  6 - 15 kvm "]
["Tillægspriser som stk-, meterpriser og procenttillæg",null,"S200253C","m",17.6409956424,17.6409956424,17.6409956424,17.6409956424,16.9788216,16.325790000000001,15.99,null,null,null,null,null,null,"Vandrette svejsninger inkl. fræsning, pr. m.","Vægareal  15 - 20 kvm "]
["Tillægspriser som stk-, meterpriser og procenttillæg",null,"S200253D","m",13.261086155200001,13.261086155200001,13.261086155200001,13.261086155200001,12.7633168,12.27242,12.02,null,null,null,null,null,null,"Vandrette svejsninger inkl. fræsning, pr. m.","Vægareal  20 - 30 kvm "]
["Tillægspriser som stk-, meterpriser og procenttillæg",null,"S200253E","m",11.054582635199997,11.054582635199997,11.054582635199997,11.054582635199997,10.639636799999998,10.230419999999999,10.02,null,null,null,null,null,null,"Vandrette svejsninger inkl. fræsning, pr. m.","Vægareal  30 - 50 kvm "]
["Tillægspriser som stk-, meterpriser og procenttillæg",null,"S200253F","m",10.050623533599998,10.050623533599998,10.050623533599998,10.050623533599998,9.6733623999999985,9.3013099999999991,9.11,null,null,null,null,null,null,"Vandrette svejsninger inkl. fræsning, pr. m.","Vægareal  50 - 70 kvm "]
["Tillægspriser som stk-, meterpriser og procenttillæg",null,"S200253G","m",9.5431277239999996,9.5431277239999996,9.5431277239999996,9.5431277239999996,9.1849159999999994,8.8316499999999998,8.65,null,null,null,null,null,null,"Vandrette svejsninger inkl. fræsning, pr. m.","Vægareal  70 - 100 kvm "]
["Tillægspriser som stk-, meterpriser og procenttillæg",null,"S200253H","m",8.5943312104000018,8.5943312104000018,8.5943312104000018,8.5943312104000018,8.271733600000001,7.9535900000000002,7.79,null,null,null,null,null,null,"Vandrette svejsninger inkl. fræsning, pr. m.","Vægareal  over 100 kvm "]
["Tillægspriser som stk-, meterpriser og procenttillæg",null,"S200254","m",7.7668923903999998,7.7668923903999998,7.7668923903999998,7.7668923903999998,7.4753536,7.1878400000000005,7.04,null,null,null,null,null,null,"Skæring af underkant på vinyl, ned til senere overkant hulkehl eller skæring der skal stå synlig uden på hulkehl, vandret eller fast højde fra gulv, pr. m.","Prisen er pr. meter"]
["Tillægspriser som stk-, meterpriser og procenttillæg",null,"S200255","m",7.7668923903999998,7.7668923903999998,7.7668923903999998,7.7668923903999998,7.4753536,7.1878400000000005,7.04,null,null,null,null,null,null,"Tillæg for skæring af vinyl på væg i fast højde på færdigbehandlet pr. m. ","Prisen er pr. meter"]
["Tillægspriser som stk-, meterpriser og procenttillæg",null,"S200256","m",5.2514783775999998,5.2514783775999998,5.2514783775999998,5.2514783775999998,5.0543583999999999,{"$f":"SUM(K642*$J$2+K642)","v":4.8599600000000001},4.76,null,null,null,null,null,null,"Tillæg for tæt tilskæring af vinyl på væg mod færdigbehandlet loft, pr. m.","Prisen er pr. meter"]
["Tillægspriser som stk-, meterpriser og procenttillæg",null,"S200257","stk",50.120727456799997,50.120727456799997,50.120727456799997,50.120727456799997,48.2393912,46.384030000000003,45.43,null,null,null,null,null,null,"Rørkraver/manchet t.o.m. Ø120 mm, svejset omkring rør, pr. stk.","Prisen er pr. stk."]
["Tillægspriser som stk-, meterpriser og procenttillæg",null,"S200258","stk",25.098977540000003,25.098977540000003,25.098977540000003,25.098977540000003,24.156860000000002,23.22775,22.75,null,null,null,null,null,null,"Tillæg for udskæring for el-udtag, tæt tilskåret t.o.m. 90 cm2, pr. stk.","Prisen er pr. stk."]
["Tillægspriser som stk-, meterpriser og procenttillæg",null,"S200259","stk",25.098977540000003,25.098977540000003,25.098977540000003,25.098977540000003,24.156860000000002,23.22775,22.75,null,null,null,null,null,null,"Tillæg for udskæring for koblingsdåse til rør t.o.m. Ø 65 mm pr. stk.","Prisen er pr. stk."]
["Tillægspriser som stk-, meterpriser og procenttillæg",null,"S200260","%",null,null,null,null,null,null,0.35,null,null,null,null,null,null,"Ved kontaktlim tillægges pkt. 6 og 10."]
["Tillægspriser som stk-, meterpriser og procenttillæg",null,"S200261","%",null,null,null,null,null,null,0.1,null,null,null,null,null,null,"Ved skridsikkert vinyl tillægges pkt. 47, 48, 49, 50, 51, 54, 55, 56, 57 58 og 59."]
[null,null,"S200262"]
[null,0,"S200301A","kvm",3.6614024321611298,3.6614024321611298,3.6614024321611298,3.6614024321611298,3.5239676921666314,{"$f":"SUM(K649*$J$2+K649)","v":3.3884304732371455},{"$f":"SUM(L649*$K$2+L649)","v":3.3187369963145401},{"$f":"SUM(M649*$L$2+M649)","v":3.2504769797400002},{"$f":"SUM(N649*$M$2+N649)","v":3.18362094},3.1181399999999999,3.06,"2018-03-01","2017-03-01","Støvsugning","Reposer t.o.m. 2 kvm","","",null,0,null,""]
[null,0,"S200301B","kvm",2.7520345078335282,2.7520345078335282,2.7520345078335282,2.7520345078335282,2.6487338862690359,2.5468595060279191,2.4944755201056994,2.4431689716999996,2.3929176999999995,2.3436999999999997,2.2999999999999998,"2018-03-01","2017-03-01","Støvsugning","Reposer over 2 t.o.m. 6 kvm.","","",null,0,null,""]
[null,0,"S200301C","kvm",2.4289695873487234,2.4289695873487234,2.4289695873487234,2.4289695873487234,2.3377955604896279,2.2478803466246422,2.2016457851367699,2.1563621793699999,2.1120099699999999,2.0685699999999998,2.0299999999999998,"2018-03-01","2017-03-01","Støvsugning","Reposer over 6 t.o.m. 8 kvm","","",null,0,null,""]
[null,0,"S200301D","stk",2.2734198108190018,2.2734198108190018,2.2734198108190018,2.2734198108190018,2.1880845147439865,2.1039274180230638,2.0606536905220998,2.0182700200999997,1.9767580999999999,1.9360999999999999,1.9,"2018-03-01","2017-03-01","Støvsugning","Pr. trin","","",null,0,null,""]
[null,0,"S200302A","kvm",4.8579391746974467,4.8579391746974467,4.8579391746974467,4.8579391746974467,4.6755911209792558,4.4957606932492844,4.4032915702735398,4.3127243587399997,4.2240199399999998,4.1371399999999996,4.0599999999999996,"2018-03-01","2017-03-01","Svabning og støvsugning","Reposer t.o.m. 2 kvm","","",null,0,null,""]
[null,0,"S200302B","kvm",3.6494370647357659,3.6494370647357659,3.6494370647357659,3.6494370647357659,3.5124514578785044,3.3773571710370236,3.3078914505749495,3.2398545059499995,3.1732169499999996,3.1079499999999998,3.05,"2018-03-01","2017-03-01","Svabning og støvsugning","Reposer over 2 t.o.m. 6 kvm.","","",null,0,null,""]
[null,0,"S200302C","kvm",3.230649204848056,3.230649204848056,3.230649204848056,3.230649204848056,3.1093832577940868,2.9897915940327757,2.9282973496893003,2.8680679233000004,2.8090773000000002,2.7513000000000001,2.7,"2018-03-01","2017-03-01","Svabning og støvsugning","Reposer over 6 t.o.m. 8 kvm","","",null,0,null,""]
[null,0,"S200302D","kvm",2.9793764889154293,2.9793764889154293,2.9793764889154293,2.9793764889154293,2.8675423377434353,2.7572522478302264,2.7005408891579101,2.6449959737099999,2.5905935100000002,2.5373100000000002,2.4900000000000002,"2018-03-01","2017-03-01","Svabning og støvsugning","Pr. trin","","",null,0,null,""]
[null,0,"S200303A","kvm",39.366058829444825,39.366058829444825,39.366058829444825,39.366058829444825,37.888410807935344,36.431164238399369,35.681845483251095,34.947938769099999,34.229127099999999,33.525100000000002,32.9,"2018-03-01","2017-03-01","Aftagning og afrensning af belægning","Reposer t.o.m. 2 kvm","","",null,0,null,""]
[null,0,"S200303B","kvm",29.542492173221667,29.542492173221667,29.542492173221667,29.542492173221667,28.433582457383704,27.339983132099714,26.777652431047713,26.226887787510002,25.68745131,25.159110000000002,24.69,"2018-03-01","2017-03-01","Aftagning og afrensning af belægning","Reposer over 2 t.o.m. 6 kvm.","","",null,0,null,""]
[null,0,"S200303C","kvm",26.192189294119977,26.192189294119977,26.192189294119977,26.192189294119977,25.209036856708352,24.239458516065724,23.740899623962513,23.252595126310002,22.774334110000002,22.305910000000001,21.89,"2018-03-01","2017-03-01","Aftagning og afrensning af belægning","Reposer over 6 t.o.m. 8 kvm","","",null,0,null,""]
[null,0,"S200303D","stk",22.255583411175493,22.255583411175493,22.255583411175493,22.255583411175493,21.420195775914816,20.596342092225786,20.172715075637402,19.757801249400003,19.351421400000003,18.953400000000002,18.600000000000001,"2018-03-01","2017-03-01","Aftagning og afrensning af belægning","Pr. trin","","",null,0,null,""]
[null,0,"S200304A","kvm",23.164951335503098,23.164951335503098,23.164951335503098,23.164951335503098,22.295429581812414,21.437913059435012,20.996976551846242,20.565109257440003,20.142124640000002,19.72784,19.36,"2018-03-01","2017-03-01","Aftagning ekstra lag beklædning","Reposer t.o.m. 2 kvm","","",null,0,null,""]
[null,0,"S200304B","kvm",17.36174813420196,17.36174813420196,17.36174813420196,17.36174813420196,16.710055952071183,16.067361492376136,15.736886868145088,15.413209469289999,15.096189489999999,14.785689999999999,14.51,"2018-03-01","2017-03-01","Aftagning ekstra lag beklædning","Reposer over 2 t.o.m. 6 kvm.","","",null,0,null,""]
[null,0,"S200304C","kvm",15.399427876442395,15.399427876442395,15.399427876442395,15.399427876442395,14.821393528818474,14.251339931556226,13.958217366852328,13.671123767729998,13.389935129999998,13.114529999999998,12.87,"2018-03-01","2017-03-01","Aftagning ekstra lag beklædning","Reposer over 6 t.o.m. 8 kvm","","",null,0,null,""]
[null,0,"S200304D","stk",13.078146595921945,13.078146595921945,13.078146595921945,13.078146595921945,12.587244076921987,12.103119304732679,11.85418149337187,11.61036385247,11.37156107,11.13767,10.93,"2018-03-01","2017-03-01","Aftagning ekstra lag beklædning","Pr. trin","","",null,0,null,""]
[null,0,"S200305A","kvm",63.332689782447254,63.332689782447254,63.332689782447254,63.332689782447254,60.955428087052219,58.61098854524252,57.405473599649874,56.224753770470002,55.068319070000001,53.935670000000002,52.93,"2018-03-01","2017-03-01","Aftagning af masonit og afrensning af søm","Reposer t.o.m. 2 kvm","","",null,0,null,""]
[null,0,"S200305B","kvm",47.502508678691783,47.502508678691783,47.502508678691783,47.502508678691783,45.719450123861193,43.96100973448192,43.056816586172303,42.171220946300004,41.303840300000005,40.454300000000003,39.700000000000003,"2018-03-01","2017-03-01","Aftagning af masonit og afrensning af søm","Reposer over 2 t.o.m. 6 kvm.","","",null,0,null,""]
[null,0,"S200305C","kvm",42.118093337278353,42.118093337278353,42.118093337278353,42.118093337278353,40.537144694204379,38.97802374442729,38.176321003356797,37.391107740799995,36.622044799999998,35.8688,35.200000000000003,"2018-03-01","2017-03-01","Aftagning af masonit og afrensning af søm","Reposer over 6 t.o.m. 8 kvm","","",null,0,null,""]
[null,0,"S200305D","stk",35.76448323441052,35.76448323441052,35.76448323441052,35.76448323441052,34.422024287209354,33.098100276162839,32.417336215634514,31.750574158310002,31.09752611,30.457910000000002,29.89,"2018-03-01","2017-03-01","Aftagning af masonit og afrensning af søm","Pr. trin","","",null,0,null,""]
[null,0,"S200306A","kvm",48.854595197757824,48.854595197757824,48.854595197757824,48.854595197757824,47.020784598419468,45.212292883095643,44.282363254745974,43.371560484570004,42.479491170000003,41.60577,40.83,"2018-03-01","2017-03-01","Støvbinding, spartling, slibning og støvsugning","Reposer t.o.m. 2 kvm","","",null,0,null,""]
[null,0,"S200306B","kvm",32.186838374226923,32.186838374226923,32.186838374226923,32.186838374226923,30.978670235059596,29.787182918326536,29.174518039497098,28.574454495099999,27.986733099999999,27.411099999999998,26.9,"2018-03-01","2017-03-01","Støvbinding, spartling, slibning og støvsugning","Reposer over 2 t.o.m. 6 kvm.","","",null,0,null,""]
[null,0,"S200306C","kvm",28.537401309491155,28.537401309491155,28.537401309491155,28.537401309491155,27.466218777181094,26.409825747289513,25.866626588922148,25.33459998915,24.813516150000002,24.303150000000002,23.85,"2018-03-01","2017-03-01","Støvbinding, spartling, slibning og støvsugning","Reposer over 6 t.o.m. 8 kvm","","",null,0,null,""]
[null,0,"S200306D","stk",13.724276436891557,13.724276436891557,13.724276436891557,13.724276436891557,13.209120728480807,12.701077623539238,12.439840963309733,12.183977437130002,11.933376530000002,11.687930000000001,11.47,"2018-03-01","2017-03-01","Støvbinding, spartling, slibning og støvsugning","Pr. trin","","",null,0,null,""]
[null,0,"S200307A","kvm",49.907547531189785,49.907547531189785,49.907547531189785,49.907547531189785,48.034213215774578,46.186743476706326,45.236771279829895,44.306338178090002,43.395042289999999,42.502490000000002,41.71,"2018-03-01","2017-03-01","Korkment, lægning inkl. klæbning","Reposer t.o.m. 2 kvm","","",null,0,null,""]
[null,0,"S200307B","kvm",31.803946616615299,31.803946616615299,31.803946616615299,31.803946616615299,30.610150737839557,29.432837247922652,28.827460575830219,28.234535333819998,27.653805419999998,27.085019999999997,26.58,"2018-03-01","2017-03-01","Korkment, lægning inkl. klæbning","Reposer over 2 t.o.m. 6 kvm.","","",null,0,null,""]
[null,0,"S200307C","kvm",24.134146096957519,24.134146096957519,24.134146096957519,24.134146096957519,23.228244559150642,22.334850537644847,21.875465756753034,21.425529634430003,20.984847830000003,20.553230000000003,20.170000000000002,"2018-03-01","2017-03-01","Korkment, lægning inkl. klæbning","Reposer over 6 t.o.m. 8 kvm","","",null,0,null,""]
[null,0,"S200307D","kvm",15.590873755248207,15.590873755248207,15.590873755248207,15.590873755248207,15.005653277428497,14.428512766758169,14.131746098685769,13.841083348369999,13.556398969999998,13.277569999999999,13.03,"2018-03-01","2017-03-01","Korkment, lægning inkl. klæbning","Pr. trin","","",null,0,null,""]
[null,0,"S200308A","kvm",82.704619644110224,82.704619644110224,82.704619644110224,82.704619644110224,79.600211399528604,76.538664807239044,74.96441215204608,73.422538836480001,71.912378880000006,70.433280000000011,69.12,"2018-03-01","2017-03-01","Maskinsømning af træfiberplader","Reposer t.o.m. 2 kvm, inkl. alle tillæg","","",null,0,null,""]
[null,0,"S200308B","kvm",56.368845940885898,56.368845940885898,56.368845940885898,56.368845940885898,54.25297973136275,52.166326664771873,51.093365979208492,50.042474024690001,49.013196890000003,48.005090000000003,47.11,"2018-03-01","2017-03-01","Maskinsømning af træfiberplader","Reposer over 2 t.o.m. 6 kvm, inkl. alle tillæg","","",null,0,null,""]
[null,0,"S200308C","kvm",45.911114811118473,45.911114811118473,45.911114811118473,45.911114811118473,44.187790963540401,42.48826054186577,41.614359002806829,40.758431932229996,39.920109629999999,39.099029999999999,38.369999999999997,"2018-03-01","2017-03-01","Maskinsømning af træfiberplader","Reposer over 6 t.o.m. 8 kvm, inkl. alle tillæg","","",null,0,null,""]
[null,0,"S200308D","stk",14.466129217264074,14.466129217264074,14.466129217264074,14.466129217264074,13.923127254344633,13.387622359946763,13.112264799164311,12.842570812110001,12.578423910000001,12.319710000000001,12.09,"2018-03-01","2017-03-01","Maskinsømning af træfiberplader","Pr. trin, inkl. alle tillæg","","",null,0,null,""]
[null,0,"S200309A","kvm",103.51239359681679,103.51239359681679,103.51239359681679,103.51239359681679,99.626942826580162,95.795137333250153,93.824816193193101,91.895020757290013,90.004917490000011,88.153690000000012,86.51,"2018-03-01","2017-03-01","Limning af træfiberplader","Reposer t.o.m. 2 kvm, inkl. alle tillæg","","",null,0,null,""]
[null,0,"S200309B","kvm",70.440118033112995,70.440118033112995,70.440118033112995,70.440118033112995,67.796071254199219,65.188530052114629,63.84772776896633,62.534503201729997,61.248289129999996,59.988529999999997,58.87,"2018-03-01","2017-03-01","Limning af træfiberplader","Reposer over 2 t.o.m. 6 kvm, inkl. alle tillæg","","",null,0,null,""]
[null,0,"S200309C","kvm",57.433763641743219,57.433763641743219,57.433763641743219,57.433763641743219,55.277924583005984,53.151850560582673,52.058619550031999,50.987874192,49.939152,48.911999999999999,48,"2018-03-01","2017-03-01","Limning af træfiberplader","Reposer over 6 t.o.m. 8 kvm, inkl. alle tillæg","","",null,0,null,""]
[null,0,"S200309D","stk",18.067704812298381,18.067704812298381,18.067704812298381,18.067704812298381,17.389513775070625,16.720686322183294,16.376774066780897,16.039935422899998,15.710024899999999,15.386899999999999,15.1,"2018-03-01","2017-03-01","Limning af træfiberplader","Pr. trin, inkl. alle tillæg","","",null,0,null,""]
[null,0,"S200310A","kvm",75.788637272250313,75.788637272250313,75.788637272250313,75.788637272250313,72.943827980991642,70.138296135568893,68.695686714563067,67.28274898586001,65.898872660000009,64.54346000000001,63.34,"2018-03-01","2017-03-01","Linoleum/vinyl/gummi, lægning, klæbning","Reposer t.o.m. 2 kvm, banevarer, inkl. alle tillæg","","",null,0,null,""]
[null,0,"S200310B","kvm",51.21177258055436,51.21177258055436,51.21177258055436,51.21177258055436,49.28948275318033,47.393733416519545,46.418935765445198,45.464187821199999,44.529077199999996,43.613199999999999,42.8,"2018-03-01","2017-03-01","Linoleum/vinyl/gummi, lægning, klæbning","Reposer over 2 t.o.m. 6 kvm, banevarer, inkl. alle tillæg","","",null,0,null,""]
[null,0,"S200310C","kvm",41.328379087204382,41.328379087204382,41.328379087204382,41.328379087204382,39.777073231188048,38.247185799219274,37.460514984543856,36.690024470659999,35.935381460000002,35.196260000000002,34.54,"2018-03-01","2017-03-01","Linoleum/vinyl/gummi, lægning, klæbning","Reposer over 6 t.o.m. 8 kvm, banevarer, inkl. alle tillæg","","",null,0,null,""]
[null,0,"S200310D","stk",26.036639517590256,26.036639517590256,26.036639517590256,26.036639517590256,25.059325810962712,24.095505587464146,23.599907529347842,23.114502967040004,22.639082240000004,22.173440000000003,21.76,"2018-03-01","2017-03-01","Linoleum/vinyl/gummi, lægning, klæbning","Pr. trin, banevarer, inkl. alle tillæg","","",null,0,null,""]
[null,0,"S200311A","kvm",75.788637272250313,75.788637272250313,75.788637272250313,75.788637272250313,72.943827980991642,70.138296135568893,68.695686714563067,67.28274898586001,65.898872660000009,64.54346000000001,63.34,"2018-03-01","2017-03-01","Tæpper, lægning, klæbning, tæt tilskæring","Reposer t.o.m. 2 kvm, banevarer, inkl. alle tillæg","","",null,0,null,""]
[null,0,"S200311B","kvm",51.21177258055436,51.21177258055436,51.21177258055436,51.21177258055436,49.28948275318033,47.393733416519545,46.418935765445198,45.464187821199999,44.529077199999996,43.613199999999999,42.8,"2018-03-01","2017-03-01","Tæpper, lægning, klæbning, tæt tilskæring","Reposer over 2 t.o.m. 6 kvm, banevarer, inkl. alle tillæg","","",null,0,null,""]
[null,0,"S200311C","kvm",41.328379087204382,41.328379087204382,41.328379087204382,41.328379087204382,39.777073231188048,38.247185799219274,37.460514984543856,36.690024470659999,35.935381460000002,35.196260000000002,34.54,"2018-03-01","2017-03-01","Tæpper, lægning, klæbning, tæt tilskæring","Reposer over 6 t.o.m. 8 kvm, banevarer, inkl. alle tillæg","","",null,0,null,""]
[null,0,"S200311D","stk",26.036639517590256,26.036639517590256,26.036639517590256,26.036639517590256,25.059325810962712,24.095505587464146,23.599907529347842,23.114502967040004,22.639082240000004,22.173440000000003,21.76,"2018-03-01","2017-03-01","Tæpper, lægning, klæbning, tæt tilskæring","Pr. trin, banevarer, inkl. alle tillæg","","",null,0,null,""]
[null,0,"S200312A","kvm",95.292186175592292,95.292186175592292,95.292186175592292,95.292186175592292,91.715289870637434,88.187778721766762,86.373926270094771,84.59738126356001,82.857376360000004,81.15316,79.64,"2018-03-01","2017-03-01","Fliser, linoleum/vinyl/gummi, klæbning,","Reposer t.o.m. 2 kvm, inkl. alle tillæg","","",null,0,null,""]
[null,0,"S200312B","kvm",64.995875854572731,64.995875854572731,64.995875854572731,64.995875854572731,62.556184653101759,60.150177551059386,58.913004457452878,57.70127762728,56.514473680000002,55.352080000000001,54.32,"2018-03-01","2017-03-01","Fliser, linoleum/vinyl/gummi, klæbning,","Reposer over 2 t.o.m. 6 kvm, inkl. alle tillæg","","",null,0,null,""]
[null,0,"S200312C","kvm",52.228828811710237,52.228828811710237,52.228828811710237,52.228828811710237,50.268362667671063,48.33496410352987,47.340807153310351,46.367098093350002,45.413416349999999,44.479349999999997,43.65,"2018-03-01","2017-03-01","Fliser, linoleum/vinyl/gummi, klæbning,","Reposer over 6 t.o.m. 8 kvm, inkl. alle tillæg","","",null,0,null,""]
[null,0,"S200312D","stk",30.798855752884791,30.798855752884791,30.798855752884791,30.798855752884791,29.642787057636948,28.502679863112451,27.916434733704655,27.342247535459997,26.779870259999996,26.229059999999997,25.74,"2018-03-01","2017-03-01","Fliser, linoleum/vinyl/gummi, klæbning,","Pr. trin, inkl. alle tillæg","","",null,0,null,""]
[null,0,"S200313A","kvm",8.8663372621941097,8.8663372621941097,8.8663372621941097,8.8663372621941097,8.5335296075015492,8.2053169302899516,8.0365493930361911,7.8712530783900005,7.7093565900000005,7.5507900000000001,7.41,"2018-03-01","2017-03-01","Tillæg til pkt. 10, for tæt tilskæring","Reposer t.o.m. 2 kvm","","",null,0,null,""]
[null,0,"S200313B","kvm",7.717661989359244,7.717661989359244,7.717661989359244,7.717661989359244,7.4279711158414283,7.1422799190782964,6.9953770020355499,6.8514955945500002,6.7105735500000003,6.5725500000000006,6.45,"2018-03-01","2017-03-01","Tillæg til pkt. 10, for tæt tilskæring","Reposer over 2 t.o.m. 6 kvm.","","",null,0,null,""]
[null,0,"S200313C","kvm",6.7723979627555533,6.7723979627555533,6.7723979627555533,6.7723979627555533,6.5181886070794546,6.2674890452687064,6.13857888860794,6.0123201651400002,5.8886583400000001,5.7675400000000003,5.66,"2018-03-01","2017-03-01","Tillæg til pkt. 10, for tæt tilskæring","Reposer over 6 t.o.m. 8 kvm","","",null,0,null,""]
[null,0,"S200313D","stk",11.941436690512443,11.941436690512443,11.941436690512443,11.941436690512443,11.493201819549993,11.051155595721147,10.823854648110819,10.601228842419999,10.38318202,10.16962,9.98,"2018-03-01","2017-03-01","Tillæg til pkt. 10, for tæt tilskæring","Pr. trin","","",null,0,null,""]
[null,0,"S200314A","kvm",50.481885167607203,50.481885167607203,50.481885167607203,50.481885167607203,48.586992461604623,46.718261982312136,45.757357475330203,44.816216920009992,43.894433809999995,42.991609999999994,42.19,"2018-03-01","2017-03-01","Montering af lister","Reposer t.o.m. 2 kvm","","",null,0,null,""]
[null,0,"S200314B","kvm",30.045037605086925,30.045037605086925,30.045037605086925,30.045037605086925,28.917264297485008,27.805061824504815,27.233165352110493,26.673031686690003,26.124418890000001,25.58709,25.11,"2018-03-01","2017-03-01","Montering af lister","Reposer over 2 t.o.m. 6 kvm.","","",null,0,null,""]
[null,0,"S200314C","kvm",19.958232865505767,19.958232865505767,19.958232865505767,19.958232865505767,19.209078792594578,18.470268069802479,18.09037029363612,17.718286281720001,17.353855320000001,16.996919999999999,16.68,"2018-03-01","2017-03-01","Montering af lister","Reposer over 6 t.o.m. 8 kvm","","",null,0,null,""]
[null,0,"S200314D","kvm",35.920033010940223,35.920033010940223,35.920033010940223,35.920033010940223,34.571735332954979,33.242053204764403,32.558328310249173,31.888666317579997,31.232777979999998,30.59038,30.02,"2018-03-01","2017-03-01","Montering af lister","Pr. trin","","",null,0,null,""]
[null,0,"S200315A","kvm",86.306195239144529,86.306195239144529,86.306195239144529,86.306195239144529,83.066597920254594,79.871728769475567,78.228921419662655,76.619903447269991,75.043979869999987,73.500469999999993,72.13,"2018-03-01","2017-03-01","Montering af udv. vaskekant (pr. 7-tal)","Reposer t.o.m. 2 kvm","","",null,0,null,""]
[null,0,"S200315B","kvm",43.183011038135675,43.183011038135675,43.183011038135675,43.183011038135675,41.56208954584762,39.963547640238097,39.141574574180311,38.336507908110001,37.547999910000001,36.775710000000004,36.090000000000003,"2018-03-01","2017-03-01","Montering af udv. vaskekant (pr. 7-tal)","Reposer over 2 t.o.m. 6 kvm.","","",null,0,null,""]
[null,0,"S200315C","kvm",24.636691528822769,24.636691528822769,24.636691528822769,24.636691528822769,23.711926399251944,22.799929230049944,22.330978677815811,21.87167353361,21.421815410000001,20.981210000000001,20.59,"2018-03-01","2017-03-01","Montering af udv. vaskekant (pr. 7-tal)","Reposer over 6 t.o.m. 8 kvm","","",null,0,null,""]
[null,0,"S200315D","kvm",69.243581290576657,69.243581290576657,69.243581290576657,69.243581290576657,66.644447825386578,64.081199832102484,62.763173195007326,61.472255822729998,60.207890129999996,58.969529999999999,57.87,"2018-03-01","2017-03-01","Montering af udv. vaskekant (pr. 7-tal)","Pr. trin","","",null,0,null,""]
[null,0,"S200316A","kvm",59.300360960099866,59.300360960099866,59.300360960099866,59.300360960099866,57.074457131953672,54.879285703801607,53.750524685408038,52.644980103240002,51.56217444,50.501640000000002,49.56,"2018-03-01","2017-03-01","Montering af trappebånd","Reposer t.o.m. 2 kvm","","",null,0,null,""]
[null,0,"S200316B","kvm",{"$f":"SUM(F710*$E$2+F710)","v":33.861989813777775},{"$f":"SUM(G710*$F$2+G710)","v":33.861989813777775},{"$f":"SUM(H710*$G$2+H710)","v":33.861989813777775},{"$f":"SUM(I710*$H$2+I710)","v":33.861989813777775},{"$f":"SUM(J710*$I$2+J710)","v":32.590943035397281},31.33744522634354,30.692894443039705,30.061600825700005,29.443291700000003,{"$f":"SUM(O710*$N$2+O710)","v":28.837700000000002},28.3,"2018-03-01","2017-03-01","Montering af trappebånd","Reposer over 2 t.o.m. 6 kvm.","","",null,0,null,""]
[null,0,"S200316C","kvm",21.860726286138508,21.860726286138508,21.860726286138508,21.860726286138508,21.040160044406647,20.230923119621778,19.814812066230928,19.407259614329998,19.008089729999998,18.61713,18.27,"2018-03-01","2017-03-01","Montering af trappebånd","Reposer over 6 t.o.m. 8 kvm","","",null,0,null,""]
[null,0,"S200316D","stk",45.659842095185851,45.659842095185851,45.659842095185851,45.659842095185851,43.945950043489752,42.25572119566322,41.386602542275433,40.535359982639996,39.701625839999998,38.885039999999996,38.159999999999997,"2018-03-01","2017-03-01","Montering af trappebånd","Pr. trin","","",null,0,null,""]
[null,0,"S200317A","kvm",4.7023893981677238,4.7023893981677238,4.7023893981677238,4.7023893981677238,4.525880075233613,{"$f":"SUM(K713*$J$2+K713)","v":4.3518077646477051},{"$f":"SUM(L713*$K$2+L713)","v":4.2622994756588692},{"$f":"SUM(M713*$L$2+M713)","v":4.1746321994699995},{"$f":"SUM(N713*$M$2+N713)","v":4.0887680699999995},4.00467,3.93,"2018-03-01","2017-03-01","Afdækning med papir, pap, folie.","Reposer t.o.m. 2 kvm, minimum 150 cm bredde","","",null,0,null,""]
[null,0,"S200317B","kvm",3.5297833904821352,3.5297833904821352,3.5297833904821352,3.5297833904821352,3.3972891149972426,3.2666241490358101,3.1994359931790499,3.13362976805,3.06917705,3.0060500000000001,2.95,"2018-03-01","2017-03-01","Afdækning med papir, pap, folie.","Reposer over 2 t.o.m. 6 kvm, minimum 150 cm bredde","","",null,0,null,""]
[null,0,"S200317C","kvm",3.1349262654451513,3.1349262654451513,3.1349262654451513,3.1349262654451513,3.0172533834890771,2.9012051764318048,2.8415329837725807,2.7830881329800006,2.7258453800000004,2.6697800000000003,2.62,"2018-03-01","2017-03-01","Afdækning med papir, pap, folie.","Reposer over 6 t.o.m. 8 kvm, minimum 150 cm bredde","","",null,0,null,""]
[null,0,"S200317D","stk",2.6563115684306235,2.6563115684306235,2.6563115684306235,2.6563115684306235,2.5566040119640263,2.4582730884269486,2.4077111541889802,2.3581891813800002,2.3096857800000001,2.2621800000000003,2.2200000000000002,"2018-03-01","2017-03-01","Afdækning med papir, pap, folie.","Pr. trin, minimum 150 cm bredde","","",null,0,null,""]
[null,0,"S200318A","kvm",23.320501112032819,23.320501112032819,23.320501112032819,23.320501112032819,22.445140627558054,21.58186598803659,21.137968646460912,20.703201416710002,20.27737651,19.860309999999998,19.489999999999998,"2018-03-01","2017-03-01","Afdækning med masonit","Reposer t.o.m. 2 kvm, groft tilskåret med tape i samlinger","","",null,0,null,""]
[null,0,"S200318B","kvm",17.50533254330632,17.50533254330632,17.50533254330632,17.50533254330632,16.8482507635287,16.200241118777598,15.867033417020172,15.540679154770002,15.221037370000001,14.907970000000001,14.63,"2018-03-01","2017-03-01","Afdækning med masonit","Reposer over 2 t.o.m. 6 kvm, groft tilskåret med tape i samlinger","","",null,0,null,""]
[null,0,"S200318C","kvm",15.519081550696033,15.519081550696033,15.519081550696033,15.519081550696033,14.936555871699742,14.362072953557444,14.066672824248231,13.777348505630002,13.493975030000001,13.216430000000001,12.97,"2018-03-01","2017-03-01","Afdækning med masonit","Reposer over 6 t.o.m. 8 kvm, groft tilskåret med tape i samlinger","","",null,0,null,""]
[null,0,"S200318D","stk",13.18583490275021,13.18583490275021,13.18583490275021,13.18583490275021,12.690890185515121,12.20277902453377,11.951791405028178,11.705966116579997,11.465196979999998,11.229379999999999,11.02,"2018-03-01","2017-03-01","Afdækning med masonit","Pr. trin, groft tilskåret med tape i samlinger","","",null,0,null,""]
[null,0,"S200319","m",9.1415407129774593,9.1415407129774593,9.1415407129774593,9.1415407129774593,8.7984029961284502,8.4600028808927412,8.2859969450467599,8.1155699755599997,7.9486483599999991,7.7851599999999994,7.64,"2018-03-01","2017-03-01","Aftagning af forkantskinner","Aftagning af forkantskinner","","",null,0,null,""]
[null,0,"S200320","stk",63.356620517297983,63.356620517297983,63.356620517297983,63.356620517297983,60.978460555628473,58.633135149642762,57.42716469112905,56.245998718050004,55.089127050000002,53.956050000000005,52.95,"2018-03-01","2017-03-01","Indklinkning med maskine t.o.m. 25 mm.","Pr. trin, Indklinkning med maskine optil 25 mm","","",null,0,null,""]
[null,0,"S200321","stk",7.717661989359244,7.717661989359244,7.717661989359244,7.717661989359244,7.4279711158414283,7.1422799190782964,6.9953770020355499,6.8514955945500002,6.7105735500000003,6.5725500000000006,6.45,"2018-03-01","2017-03-01","Montering af opforingsliste","Pr. trin, Montering af opforingsliste/reparation af vinkel","","",null,0,null,""]
[null,0,"S200322","stk",20.041990437483307,20.041990437483307,20.041990437483307,20.041990437483307,19.28969243261146,18.547781185203327,18.166289113813249,17.792643598249999,17.42668325,17.068249999999999,16.75,"2018-03-01","2017-03-01","Montering af forkantskinne, uden falsning","Pr. trin, Montering af forkantskinner uden falsning","","",null,0,null,""]
[null,0,"S200322A","stk",4.8579391746974467,4.8579391746974467,4.8579391746974467,4.8579391746974467,4.6755911209792558,4.4957606932492844,4.4032915702735398,4.3127243587399997,4.2240199399999998,4.1371399999999996,4.0599999999999996,"2018-03-01","2017-03-01","Limning under skinner inden montering","Limning under skinner inden montering betales med et tillæg til punkt 22","","",null,0,null,""]
[null,0,"S200323","stk",30.09289907478837,30.09289907478837,30.09289907478837,30.09289907478837,28.963329234637506,27.849355033305294,27.276547535068847,26.715521581849998,26.166034849999999,25.627849999999999,25.15,"2018-03-01","2017-03-01","Metalskinner","Metalskinner inkl. limning og propning/indlæg","","",null,0,null,""]
[null,0,"S200324","stk",40.622422409107955,40.622422409107955,40.622422409107955,40.622422409107955,39.097615408188602,37.59386096941212,36.820627785908052,36.063298517050001,35.321546050000002,34.595050000000001,33.950000000000003,"2018-03-01","2017-03-01","Metalskinner inkl. boring i hårdt gulv","Metalskinner inkl. boring i hårdt gulv og propning/indlæg","","",null,0,null,""]
[null,0,"S200325","stk",20.041990437483307,20.041990437483307,20.041990437483307,20.041990437483307,19.28969243261146,18.547781185203327,18.166289113813249,17.792643598249999,17.42668325,17.068249999999999,16.75,"2018-03-01","2017-03-01","Montering af plastforkant","Pr. trin, Plast / gummi, inkl. opspartling af baglap.","","",null,0,null,""]
[null,0,"S200326A","%",null,null,null,null,null,{"$f":"SUM($O$729)","v":0.1},0.1,0.1,0.1,{"$f":"SUM($O$729)","v":0.1},0.1,"2018-03-01","2017-03-01","Etagetillæg 1. etage","For 1. etage ved mindre sammenhængede arbejder, tillægget beregnes af alle satser. Tillægget skal dække tørretiden for lim, primer, spartelmasse og lign.","","",null,10,null,""]
[null,0,"S200326B","%",null,null,null,null,null,{"$f":"SUM($O$730)","v":0.05},0.05,0.05,0.05,{"$f":"SUM($O$730)","v":0.05},0.05,"2018-03-01","2017-03-01","Etagetillæg 2. etage","For 2. etage ved mindre sammenhængede arbejder, tillægget beregnes af alle satser. Tillægget skal dække tørretiden for lim, primer, spartelmasse og lign.","","",null,10,null,""]
[null,0,"S200327","%",null,null,null,null,null,{"$f":"SUM($O$731)","v":0.15},0.15,0.15,0.15,{"$f":"SUM($O$731)","v":0.15},0.15,"2018-03-01","2017-03-01","Tillæg for uafspærret trappe","Tillægget beregnes af alle satser.","","",null,10,null,""]
[null,0,"S200328","%",null,null,null,null,null,{"$f":"SUM($O$732)","v":0.3},0.3,0.3,0.3,{"$f":"SUM($O$732)","v":0.3},0.3,"2018-03-01","2017-03-01","Tillæg for skæve trin","Beregnes af satserne for lige trin.","","",null,10,null,""]
[null,0,"S200329","%",null,null,null,null,null,{"$f":"SUM($O$733)","v":0.35},0.35,0.35,0.35,{"$f":"SUM($O$733)","v":0.35},0.35,"2018-03-01","2017-03-01","Ved kontaktklæbning tillægges","Tillægget beregnes af alle satser.","","",null,10,null,""]
[null,0,"S200330","%",null,null,null,null,null,{"$f":"SUM($O$734)","v":1},1,1,1,{"$f":"SUM($O$734)","v":1},1,"2018-03-01","2017-03-01","Tillæg for klodstrin","Tillægget beregnes af alle satser i kolonne D.","","",null,10,null,""]
[null,0,"S20033101","%",null,null,null,null,null,{"$f":"SUM($O$735)","v":0.01},0.01,0.01,0.01,{"$f":"SUM($O$735)","v":0.01},0.01,"2018-03-01","2017-03-01","Overlængde ved trin, t.o.m. 101 cm","Ved trinlængde over 100cm t.o.m. 101cm","","",null,10,null,""]
[null,0,"S20033102","%",null,null,null,null,null,{"$f":"SUM($O$736)","v":0.02},0.02,0.02,0.02,{"$f":"SUM($O$736)","v":0.02},0.02,"2018-03-01","2017-03-01","Overlængde ved trin, t.o.m. 102 cm","Ved trinlængde over 101cm t.o.m. 102cm","","",null,10,null,""]
[null,0,"S20033103","%",null,null,null,null,null,{"$f":"SUM($O$737)","v":0.03},0.03,0.03,0.03,{"$f":"SUM($O$737)","v":0.03},0.03,"2018-03-01","2017-03-01","Overlængde ved trin, t.o.m. 103 cm","Ved trinlængde over 102cm t.o.m. 103cm","","",null,10,null,""]
[null,0,"S20033104","%",null,null,null,null,null,{"$f":"SUM($O$738)","v":0.04},0.04,0.04,0.04,{"$f":"SUM($O$738)","v":0.04},0.04,"2018-03-01","2017-03-01","Overlængde ved trin, t.o.m. 104 cm","Ved trinlængde over 103cm t.o.m. 104cm","","",null,10,null,""]
[null,0,"S20033105","%",null,null,null,null,null,{"$f":"SUM($O$739)","v":0.05},0.05,0.05,0.05,{"$f":"SUM($O$739)","v":0.05},0.05,"2018-03-01","2017-03-01","Overlængde ved trin, t.o.m. 105 cm","Ved trinlængde over 104cm t.o.m. 105cm","","",null,10,null,""]
[null,0,"S20033106","%",null,null,null,null,null,{"$f":"SUM($O$740)","v":0.06},0.06,0.06,0.06,{"$f":"SUM($O$740)","v":0.06},0.06,"2018-03-01","2017-03-01","Overlængde ved trin, t.o.m. 106 cm","Ved trinlængde over 105cm t.o.m. 106cm","","",null,10,null,""]
[null,0,"S20033107","%",null,null,null,null,null,{"$f":"SUM($O$741)","v":7.0000000000000007E-2},7.0000000000000007E-2,7.0000000000000007E-2,7.0000000000000007E-2,{"$f":"SUM($O$741)","v":7.0000000000000007E-2},7.0000000000000007E-2,"2018-03-01","2017-03-01","Overlængde ved trin, t.o.m. 107 cm","Ved trinlængde over 106cm t.o.m. 107cm","","",null,10,null,""]
[null,0,"S20033108","%",null,null,null,null,null,{"$f":"SUM($O$742)","v":0.08},0.08,0.08,0.08,{"$f":"SUM($O$742)","v":0.08},0.08,"2018-03-01","2017-03-01","Overlængde ved trin, t.o.m. 108 cm","Ved trinlængde over 107cm t.o.m. 108cm","","",null,10,null,""]
[null,0,"S20033109","%",null,null,null,null,null,{"$f":"SUM($O$743)","v":0.09},0.09,0.09,0.09,{"$f":"SUM($O$743)","v":0.09},0.09,"2018-03-01","2017-03-01","Overlængde ved trin, t.o.m. 109 cm","Ved trinlængde over 108cm t.o.m. 109cm","","",null,10,null,""]
[null,0,"S20033110","%",null,null,null,null,null,{"$f":"SUM($O$744)","v":0.1},0.1,0.1,0.1,{"$f":"SUM($O$744)","v":0.1},0.1,"2018-03-01","2017-03-01","Overlængde ved trin, t.o.m. 110 cm","Ved trinlængde over 109cm t.o.m. 110cm","","",null,10,null,""]
[null,0,"S2003P01","",null,null,null,null,null,0,0,0,0,0,0,"2018-03-01","2017-03-01","Satserne dækker reposer t.o.m. 8 kvm","Ovenstående priser gælder for reposer optil 8 m2 pr. repose.","","",null,50,null,""]
[null,0,"S2003P02","",null,null,null,null,null,0,0,0,0,0,0,"2018-03-01","2017-03-01","Mindste mål på reposer er 2 kvm","Mindste mål på reposer er 2 kvm pr. reposer","","",null,50,null,""]
[null,0,"S2003P03","",null,null,null,null,null,0,0,0,0,0,0,"2018-03-01","2017-03-01","Leveres tilskåret for tilpasning","Ved brug af banevarer og træfiberplader skal materialerne leveres tilskåret for tilpasning.","","",null,50,null,""]
[null,0,"S2003P04","",null,null,null,null,null,0,0,0,0,0,0,"2018-03-01","2017-03-01","Trinlængder under 1 m beregnes som 1 m.","Trinlængder under 1 meter beregnes som 1 meter.","","",null,50,null,""]
[null,0,"S2003P05","",null,null,null,null,null,0,0,0,0,0,0,"2018-03-01","2017-03-01","Stødtrin betales som trin.","Stødtrin betales som trin.","","",null,50,null,""]

{"sheet":"Montør 3","index":18,"n_rows":61,"n_cols":11,"rows_kept":61,"cut":false,"hidden":false,"merged":[[0,9,0,11],[1,10,1,11]]}
[null,null,null,null,null,null,null,null,null,"ARBEJDSSEDDEL "]
[null,null,null,null,null,null,null,null,null,"NR.",{"$f":"Skurbog!C1","v":0}]
[]
[null,"Arbejdssted:",{"$f":"Skurbog!C2","v":0},null,null,null,null,null,"Udføres:"]
[]
[]
[null,"Kontaktperson:",null,null,null,"Tlf:"]
[null,"Fakturaadr:"]
[null,null,null,null,null,null,null,null,"Udstedt dato:",null,{"$f":"TODAY()","v":"2025-07-14"}]
[]
[null,"Att:",null,null,null,"Mærke/Rekv.",null,null,"Sagsansvarlig",null,{"$f":"Skurbog!C3","v":0}]
[null,"Udleveret","Enhed","Art",null,"Retur","Brugt","Arbejdets beskrivelse:"]
[null,null,null,"Primer"]
[]
[]
[]
[null,null,null,"Spartelmasse"]
[]
[]
[]
[]
[null,null,null,"Underlag"]
[]
[]
[]
[]
[null,null,null,"Lim"]
[]
[]
[]
[]
[null,null,null,"Lister"]
[]
[]
[]
[]
[null,null,null,"Vinylprofiler"]
[]
[null,"Dato","Montør","Løn nr.","Akkord","Timeløn","sats","Overtid","Km","bemærkning."]
[null,{"$f":"Skurbog!A30","v":"00:00:00"},{"$f":"Skurbog!A72","v":"Montør 3"},null,{"$f":"Skurbog!F30","v":0},{"$f":"Skurbog!G30","v":0}]
[null,{"$f":"Skurbog!A31","v":"00:00:00"},null,null,{"$f":"Skurbog!F31","v":0},{"$f":"Skurbog!G31","v":0}]
[null,{"$f":"Skurbog!A32","v":"00:00:00"},null,null,{"$f":"Skurbog!F32","v":0},{"$f":"Skurbog!G32","v":0}]
[null,{"$f":"Skurbog!A33","v":"00:00:00"},null,null,{"$f":"Skurbog!F33","v":0},{"$f":"Skurbog!G33","v":0}]
[null,{"$f":"Skurbog!A34","v":"00:00:00"},null,null,{"$f":"Skurbog!F34","v":0},{"$f":"Skurbog!G34","v":0}]
[null,{"$f":"Skurbog!A35","v":"00:00:00"},null,null,{"$f":"Skurbog!F35","v":0},{"$f":"Skurbog!G35","v":0}]
[null,{"$f":"Skurbog!A36","v":"00:00:00"},null,null,{"$f":"Skurbog!F36","v":0},{"$f":"Skurbog!G36","v":0}]
[null,{"$f":"Skurbog!A37","v":"00:00:00"},null,null,{"$f":"Skurbog!F37","v":0},{"$f":"Skurbog!G37","v":0}]
[null,{"$f":"Skurbog!A38","v":"00:00:00"},null,null,{"$f":"Skurbog!F38","v":0},{"$f":"Skurbog!G38","v":0}]
[null,{"$f":"Skurbog!A39","v":"00:00:00"},null,null,{"$f":"Skurbog!F39","v":0},{"$f":"Skurbog!G39","v":0}]
[null,{"$f":"Skurbog!A40","v":"00:00:00"},null,null,{"$f":"Skurbog!F40","v":0},{"$f":"Skurbog!G40","v":0}]
[null,{"$f":"Skurbog!A41","v":"00:00:00"},null,null,{"$f":"Skurbog!F41","v":0},{"$f":"Skurbog!G41","v":0}]
[null,{"$f":"Skurbog!A42","v":"00:00:00"},null,null,{"$f":"Skurbog!F42","v":0},{"$f":"Skurbog!G42","v":0}]
[null,{"$f":"Skurbog!A43","v":"00:00:00"},null,null,{"$f":"Skurbog!F43","v":0},{"$f":"Skurbog!G43","v":0}]
[null,{"$f":"Skurbog!A44","v":"00:00:00"},null,null,{"$f":"Skurbog!F44","v":0},{"$f":"Skurbog!G44","v":0}]
[null,{"$f":"Skurbog!A45","v":"00:00:00"},null,null,{"$f":"Skurbog!F45","v":0},{"$f":"Skurbog!G45","v":0}]
[null,{"$f":"Skurbog!A46","v":"00:00:00"},null,null,{"$f":"Skurbog!F46","v":0},{"$f":"Skurbog!G46","v":0}]
[null,{"$f":"Skurbog!A47","v":"00:00:00"},null,null,{"$f":"Skurbog!F47","v":0},{"$f":"Skurbog!G47","v":0}]
[null,{"$f":"Skurbog!A48","v":"00:00:00"},null,null,{"$f":"Skurbog!F48","v":0},{"$f":"Skurbog!G48","v":0}]
[null,{"$f":"Skurbog!A49","v":"00:00:00"},null,null,{"$f":"Skurbog!F49","v":0},{"$f":"Skurbog!G49","v":0}]
[null,null,null,null,{"$f":"SUM(E40:E59)","v":0},{"$f":"SUM(F40:F59)","v":0},null,{"$f":"SUM(H40:H59)","v":0},{"$f":"SUM(I40:I59)","v":0}]
[null,null,null,null,null,null,null,null,null,null,"Se akkord vedlagt"]

{"sheet":"Montør 4","index":19,"n_rows":70,"n_cols":11,"rows_kept":70,"cut":false,"hidden":false,"merged":[[0,9,0,11],[1,10,1,11]]}
[null,null,null,null,null,null,null,null,null,"ARBEJDSSEDDEL "]
[null,null,null,null,null,null,null,null,null,"NR.",{"$f":"Skurbog!C1","v":0}]
[]
[null,"Arbejdssted:",{"$f":"Skurbog!C2","v":0},null,null,null,null,null,"Udføres:"]
[]
[]
[null,"Kontaktperson:",null,null,null,"Tlf:"]
[null,"Fakturaadr:"]
[null,null,null,null,null,null,null,null,"Udstedt dato:",null,{"$f":"TODAY()","v":"2025-07-14"}]
[]
[null,"Att:",null,null,null,"Mærke/Rekv.",null,null,"Sagsansvarlig",null,{"$f":"Skurbog!C1","v":0}]
[null,"Udleveret","Enhed","Art",null,"Retur","Brugt","Arbejdets beskrivelse:"]
[null,null,null,"Primer"]
[]
[]
[]
[null,null,null,"Spartelmasse"]
[]
[]
[]
[]
[null,null,null,"Underlag"]
[]
[]
[]
[]
[null,null,null,"Lim"]
[]
[]
[]
[]
[null,null,null,"Lister"]
[]
[]
[]
[]
[null,null,null,"Vinylprofiler"]
[]
[]
[]
[]
[null,null,null,"Belægning"]
[]
[]
[]
[null,null,null,null,null,null,null,"Affald",null,null,"Stribber"]
[null,null,null,null,null,null,null,"Bortkørsel",null,null,"Special"]
[]
[null,"Dato","Montør","Løn nr.","Akkord","Timeløn","sats","Overtid","Km","bemærkning."]
[null,{"$f":"Skurbog!A30","v":"00:00:00"},{"$f":"Skurbog!A73","v":"Montør 4"},null,{"$f":"Skurbog!H30","v":0},{"$f":"Skurbog!I30","v":0}]
[null,{"$f":"Skurbog!A31","v":"00:00:00"},null,null,{"$f":"Skurbog!H31","v":0},{"$f":"Skurbog!I31","v":0}]
[null,{"$f":"Skurbog!A32","v":"00:00:00"},null,null,{"$f":"Skurbog!H32","v":0},{"$f":"Skurbog!I32","v":0}]
[null,{"$f":"Skurbog!A33","v":"00:00:00"},null,null,{"$f":"Skurbog!H33","v":0},{"$f":"Skurbog!I33","v":0}]
[null,{"$f":"Skurbog!A34","v":"00:00:00"},null,null,{"$f":"Skurbog!H34","v":0},{"$f":"Skurbog!I34","v":0}]
[null,{"$f":"Skurbog!A35","v":"00:00:00"},null,null,{"$f":"Skurbog!H35","v":0},{"$f":"Skurbog!I35","v":0}]
[null,{"$f":"Skurbog!A36","v":"00:00:00"},null,null,{"$f":"Skurbog!H36","v":0},{"$f":"Skurbog!I36","v":0}]
[null,{"$f":"Skurbog!A37","v":"00:00:00"},null,null,{"$f":"Skurbog!H37","v":0},{"$f":"Skurbog!I37","v":0}]
[null,{"$f":"Skurbog!A38","v":"00:00:00"},null,null,{"$f":"Skurbog!H38","v":0},{"$f":"Skurbog!I38","v":0}]
[null,{"$f":"Skurbog!A39","v":"00:00:00"},null,null,{"$f":"Skurbog!H39","v":0},{"$f":"Skurbog!I39","v":0}]
[null,{"$f":"Skurbog!A40","v":"00:00:00"},null,null,{"$f":"Skurbog!H40","v":0},{"$f":"Skurbog!I40","v":0}]
[null,{"$f":"Skurbog!A41","v":"00:00:00"},null,null,{"$f":"Skurbog!H41","v":0},{"$f":"Skurbog!I41","v":0}]
[null,{"$f":"Skurbog!A42","v":"00:00:00"},null,null,{"$f":"Skurbog!H42","v":0},{"$f":"Skurbog!I42","v":0}]
[null,{"$f":"Skurbog!A43","v":"00:00:00"},null,null,{"$f":"Skurbog!H43","v":0},{"$f":"Skurbog!I43","v":0}]
[null,{"$f":"Skurbog!A44","v":"00:00:00"},null,null,{"$f":"Skurbog!H44","v":0},{"$f":"Skurbog!I44","v":0}]
[null,{"$f":"Skurbog!A45","v":"00:00:00"},null,null,{"$f":"Skurbog!H45","v":0},{"$f":"Skurbog!I45","v":0}]
[null,{"$f":"Skurbog!A46","v":"00:00:00"},null,null,{"$f":"Skurbog!H46","v":0},{"$f":"Skurbog!I46","v":0}]
[null,{"$f":"Skurbog!A47","v":"00:00:00"},null,null,{"$f":"Skurbog!H47","v":0},{"$f":"Skurbog!I47","v":0}]
[null,{"$f":"Skurbog!A48","v":"00:00:00"},null,null,{"$f":"Skurbog!H48","v":0},{"$f":"Skurbog!I48","v":0}]
[null,null,null,null,{"$f":"SUM(E50:E50:E68)","v":0},{"$f":"SUM(F50:F68)","v":0},null,{"$f":"SUM(H50:H68)","v":0},{"$f":"SUM(I50:I68)","v":0}]
[null,null,null,null,null,null,null,null,null,null,"Se akkord vedlagt"]

{"sheet":"Lærling 1","index":20,"n_rows":71,"n_cols":11,"rows_kept":71,"cut":false,"hidden":false,"merged":[[0,9,0,11],[1,10,1,11]]}
[null,null,null,null,null,null,null,null,null,"ARBEJDSSEDDEL "]
[null,null,null,null,null,null,null,null,null,"NR.",{"$f":"Skurbog!C1","v":0}]
[]
[null,"Arbejdssted:",{"$f":"Skurbog!C2","v":0},null,null,null,null,null,"Udføres:"]
[]
[]
[null,"Kontaktperson:",null,null,null,"Tlf:"]
[null,"Fakturaadr:"]
[null,null,null,null,null,null,null,null,"Udstedt dato:",null,{"$f":"TODAY()","v":"2025-07-14"}]
[]
[null,"Att:",null,null,null,"Mærke/Rekv.",null,null,"Sagsansvarlig",null,{"$f":"Skurbog!C3","v":0}]
[null,"Udleveret","Enhed","Art",null,"Retur","Brugt","Arbejdets beskrivelse:"]
[null,null,null,"Primer"]
[]
[]
[]
[null,null,null,"Spartelmasse"]
[]
[]
[]
[]
[null,null,null,"Underlag"]
[]
[]
[]
[]
[null,null,null,"Lim"]
[]
[]
[]
[]
[null,null,null,"Lister"]
[]
[]
[]
[]
[null,null,null,"Vinylprofiler",null,"paw"]
[]
[]
[]
[]
[null,null,null,"Belægning"]
[]
[]
[]
[null,null,null,null,null,null,null,"Affald",null,null,"Stribber"]
[null,null,null,null,null,null,null,"Bortkørsel",null,null,"Special"]
[]
[null,"Dato","Montør","Løn nr.","Akkord","Timeløn","sats","Overtid","Km","bemærkning."]
[null,{"$f":"Skurbog!A30","v":"00:00:00"},{"$f":"Skurbog!A75","v":"Lærling 1"},null,{"$f":"Skurbog!J30","v":0},{"$f":"Skurbog!K30","v":0}]
[null,{"$f":"Skurbog!A31","v":"00:00:00"},null,null,{"$f":"Skurbog!J31","v":0},{"$f":"Skurbog!K31","v":0}]
[null,{"$f":"Skurbog!A32","v":"00:00:00"},null,null,{"$f":"Skurbog!J32","v":0},{"$f":"Skurbog!K32","v":0}]
[null,{"$f":"Skurbog!A33","v":"00:00:00"},null,null,{"$f":"Skurbog!J33","v":0},{"$f":"Skurbog!K33","v":0}]
[null,{"$f":"Skurbog!A34","v":"00:00:00"},null,null,{"$f":"Skurbog!J34","v":0},{"$f":"Skurbog!K34","v":0}]
[null,{"$f":"Skurbog!A35","v":"00:00:00"},null,null,{"$f":"Skurbog!J35","v":0},{"$f":"Skurbog!K35","v":0}]
[null,{"$f":"Skurbog!A36","v":"00:00:00"},null,null,{"$f":"Skurbog!J36","v":0},{"$f":"Skurbog!K36","v":0}]
[null,{"$f":"Skurbog!A37","v":"00:00:00"},null,null,{"$f":"Skurbog!J37","v":0},{"$f":"Skurbog!K37","v":0}]
[null,{"$f":"Skurbog!A38","v":"00:00:00"},null,null,{"$f":"Skurbog!J38","v":0},{"$f":"Skurbog!K38","v":0}]
[null,{"$f":"Skurbog!A39","v":"00:00:00"},null,null,{"$f":"Skurbog!J39","v":0},{"$f":"Skurbog!K39","v":0}]
[null,{"$f":"Skurbog!A40","v":"00:00:00"},null,null,{"$f":"Skurbog!J40","v":0},{"$f":"Skurbog!K40","v":0}]
[null,{"$f":"Skurbog!A41","v":"00:00:00"},null,null,{"$f":"Skurbog!J41","v":0},{"$f":"Skurbog!K41","v":0}]
[null,{"$f":"Skurbog!A42","v":"00:00:00"},null,null,{"$f":"Skurbog!J42","v":0},{"$f":"Skurbog!K42","v":0}]
[null,{"$f":"Skurbog!A43","v":"00:00:00"},null,null,{"$f":"Skurbog!J43","v":0},{"$f":"Skurbog!K43","v":0}]
[null,{"$f":"Skurbog!A44","v":"00:00:00"},null,null,{"$f":"Skurbog!J44","v":0},{"$f":"Skurbog!K44","v":0}]
[null,{"$f":"Skurbog!A45","v":"00:00:00"},null,null,{"$f":"Skurbog!J45","v":0},{"$f":"Skurbog!K45","v":0}]
[null,{"$f":"Skurbog!A46","v":"00:00:00"},null,null,{"$f":"Skurbog!J46","v":0},{"$f":"Skurbog!K46","v":0}]
[null,{"$f":"Skurbog!A47","v":"00:00:00"},null,null,{"$f":"Skurbog!J47","v":0},{"$f":"Skurbog!K47","v":0}]
[null,{"$f":"Skurbog!A48","v":"00:00:00"},null,null,{"$f":"Skurbog!J48","v":0},{"$f":"Skurbog!K48","v":0}]
[null,{"$f":"Skurbog!A49","v":"00:00:00"},null,null,{"$f":"Skurbog!J49","v":0},{"$f":"Skurbog!K49","v":0}]
[null,null,null,null,{"$f":"SUM(E50:E69)","v":0},{"$f":"SUM(F50:F69)","v":0},null,{"$f":"SUM(H50:H69)","v":0},{"$f":"SUM(I50:I69)","v":0}]
[null,null,null,null,null,null,null,null,null,null,"Se akkord vedlagt"]

{"sheet":"Lærling 2","index":21,"n_rows":71,"n_cols":11,"rows_kept":71,"cut":false,"hidden":false,"merged":[[0,9,0,11],[1,10,1,11]]}
[null,null,null,null,null,null,null,null,null,"ARBEJDSSEDDEL "]
[null,null,null,null,null,null,null,null,null,"NR.",{"$f":"Skurbog!C1","v":0}]
[]
[null,"Arbejdssted:",{"$f":"Skurbog!C2","v":0},null,null,null,null,null,"Udføres:"]
[]
[]
[null,"Kontaktperson:",null,null,null,"Tlf:"]
[null,"Fakturaadr:"]
[null,null,null,null,null,null,null,null,"Udstedt dato:",null,{"$f":"TODAY()","v":"2025-07-14"}]
[]
[null,"Att:",null,null,null,"Mærke/Rekv.",null,null,"Sagsansvarlig",null,{"$f":"Skurbog!C3","v":0}]
[null,"Udleveret","Enhed","Art",null,"Retur","Brugt","Arbejdets beskrivelse:"]
[null,null,null,"Primer"]
[]
[]
[]
[null,null,null,"Spartelmasse"]
[]
[]
[]
[]
[null,null,null,"Underlag"]
[]
[]
[]
[]
[null,null,null,"Lim"]
[]
[]
[]
[]
[null,null,null,"Lister"]
[]
[]
[]
[]
[null,null,null,"Vinylprofiler",null,"paw"]
[]
[]
[]
[]
[null,null,null,"Belægning"]
[]
[]
[]
[null,null,null,null,null,null,null,"Affald",null,null,"Stribber"]
[null,null,null,null,null,null,null,"Bortkørsel",null,null,"Special"]
[]
[null,"Dato","Montør","Løn nr.","Akkord","Timeløn","sats","Overtid","Km","bemærkning."]
[null,{"$f":"Skurbog!A30","v":"00:00:00"},{"$f":"Skurbog!A76","v":"Lærling 2"},null,{"$f":"Skurbog!L30","v":0},{"$f":"Skurbog!M30","v":0}]
[null,{"$f":"Skurbog!A31","v":"00:00:00"},null,null,{"$f":"Skurbog!L31","v":0},{"$f":"Skurbog!M31","v":0}]
[null,{"$f":"Skurbog!A32","v":"00:00:00"},null,null,{"$f":"Skurbog!L32","v":0},{"$f":"Skurbog!M32","v":0}]
[null,{"$f":"Skurbog!A33","v":"00:00:00"},null,null,{"$f":"Skurbog!L33","v":0},{"$f":"Skurbog!M33","v":0}]
[null,{"$f":"Skurbog!A34","v":"00:00:00"},null,null,{"$f":"Skurbog!L34","v":0},{"$f":"Skurbog!M34","v":0}]
[null,{"$f":"Skurbog!A35","v":"00:00:00"},null,null,{"$f":"Skurbog!L35","v":0},{"$f":"Skurbog!M35","v":0}]
[null,{"$f":"Skurbog!A36","v":"00:00:00"},null,null,{"$f":"Skurbog!L36","v":0},{"$f":"Skurbog!M36","v":0}]
[null,{"$f":"Skurbog!A37","v":"00:00:00"},null,null,{"$f":"Skurbog!L37","v":0},{"$f":"Skurbog!M37","v":0}]
[null,{"$f":"Skurbog!A38","v":"00:00:00"},null,null,{"$f":"Skurbog!L38","v":0},{"$f":"Skurbog!M38","v":0}]
[null,{"$f":"Skurbog!A39","v":"00:00:00"},null,null,{"$f":"Skurbog!L39","v":0},{"$f":"Skurbog!M39","v":0}]
[null,{"$f":"Skurbog!A40","v":"00:00:00"},null,null,{"$f":"Skurbog!L40","v":0},{"$f":"Skurbog!M40","v":0}]
[null,{"$f":"Skurbog!A41","v":"00:00:00"},null,null,{"$f":"Skurbog!L41","v":0},{"$f":"Skurbog!M41","v":0}]
[null,{"$f":"Skurbog!A42","v":"00:00:00"},null,null,{"$f":"Skurbog!L42","v":0},{"$f":"Skurbog!M42","v":0}]
[null,{"$f":"Skurbog!A43","v":"00:00:00"},null,null,{"$f":"Skurbog!L43","v":0},{"$f":"Skurbog!M43","v":0}]
[null,{"$f":"Skurbog!A44","v":"00:00:00"},null,null,{"$f":"Skurbog!L44","v":0},{"$f":"Skurbog!M44","v":0}]
[null,{"$f":"Skurbog!A45","v":"00:00:00"},null,null,{"$f":"Skurbog!L45","v":0},{"$f":"Skurbog!M45","v":0}]
[null,{"$f":"Skurbog!A46","v":"00:00:00"},null,null,{"$f":"Skurbog!L46","v":0},{"$f":"Skurbog!M46","v":0}]
[null,{"$f":"Skurbog!A47","v":"00:00:00"},null,null,{"$f":"Skurbog!L47","v":0},{"$f":"Skurbog!M47","v":0}]
[null,{"$f":"Skurbog!A48","v":"00:00:00"},null,null,{"$f":"Skurbog!L48","v":0},{"$f":"Skurbog!M48","v":0}]
[null,{"$f":"Skurbog!A49","v":"00:00:00"},null,null,{"$f":"Skurbog!L49","v":0},{"$f":"Skurbog!M49","v":0}]
[null,null,null,null,{"$f":"SUM(E50:E69)","v":0},{"$f":"SUM(F50:F69)","v":0},null,{"$f":"SUM(H50:H69)","v":0},{"$f":"SUM(I50:I69)","v":0}]
[null,null,null,null,null,null,null,null,null,null,"Se akkord vedlagt"]

{"sheet":"lønsatser","index":22,"n_rows":7,"n_cols":4,"rows_kept":7,"cut":false,"hidden":true,"merged":[]}
["Lærlinge lønsatser:",null,null,"evt. Bonus"]
["1. periode",79.099999999999994]
["2. periode",95.6,null,10]
["3. periode",108.85,null,15]
["4. periode",131.4,null,20]
["Voksen",146.15,null,25]
[null,null,null,50]